BEGIN:VCALENDAR
VERSION:2.0
PRODID:-//Saskatchewan Wildlife Federation - ECPv6.15.13.1//NONSGML v1.0//EN
CALSCALE:GREGORIAN
METHOD:PUBLISH
X-WR-CALNAME:Saskatchewan Wildlife Federation
X-ORIGINAL-URL:https://swf.sk.ca
X-WR-CALDESC:Events for Saskatchewan Wildlife Federation
REFRESH-INTERVAL;VALUE=DURATION:PT1H
X-Robots-Tag:noindex
X-PUBLISHED-TTL:PT1H
BEGIN:VTIMEZONE
TZID:America/Regina
BEGIN:STANDARD
TZOFFSETFROM:-0600
TZOFFSETTO:-0600
TZNAME:CST
DTSTART:20160101T000000
END:STANDARD
END:VTIMEZONE
BEGIN:VEVENT
DTSTART;VALUE=DATE:20170624
DTEND;VALUE=DATE:20170625
DTSTAMP:20260424T175736
CREATED:20161102T141356Z
LAST-MODIFIED:20161103T151133Z
UID:6598-1498262400-1498348799@swf.sk.ca
SUMMARY:Lloydminster & District FGA Youth Activity Day
DESCRIPTION:It is just located at our LDFGA property at Gully Lake. It is located approx. 14 kms East of Lloydminster. The building is set up for 18 lanes of archery and you can shoot up to 40 yds indoors. It is our branch meeting location for the summer months. We have several schools come out for their Outdoor Education classes\, where they are instructed in archery. We also have various other youth groups come out and do the same. (4H\, Boy Scouts etc.)The Lloydminster & Area Archers Assoc. use it as their clubhouse. They are all members of the LDFGA. We host various BBQ’s and potluck functions there as well. In the winter months from Nov. to April\, the building is un use 4 to 5 nights per week with youth archery programs\, regular archery shoot nights and other booked functions
URL:https://swf.sk.ca/event/lloydminster-district-fga-youth-activity-day/
LOCATION:Lloydminster & District Fish & Game Assoc. Youth Center\, Gully Lake
END:VEVENT
BEGIN:VEVENT
DTSTART;VALUE=DATE:20170610
DTEND;VALUE=DATE:20170612
DTSTAMP:20260424T175736
CREATED:20170504T151502Z
LAST-MODIFIED:20170504T151502Z
UID:11187-1497052800-1497225599@swf.sk.ca
SUMMARY:River Ridge Fish & Game League Gun Show
DESCRIPTION:For more Information Contact: \nHal 306-563-7805 \nErnie 306-563-7369 \nDoug 306-563-7560
URL:https://swf.sk.ca/event/river-ridge-fish-game-league-gun-show/
LOCATION:Canora Curling Rink\, 701 Main Street\, Canora\, Saskatchewan\, S0A 1R0\, Canada
END:VEVENT
BEGIN:VEVENT
DTSTART;VALUE=DATE:20170609
DTEND;VALUE=DATE:20170611
DTSTAMP:20260424T175736
CREATED:20170105T181606Z
LAST-MODIFIED:20170105T181606Z
UID:6754-1496966400-1497139199@swf.sk.ca
SUMMARY:Moose Jaw WF Walleye Challenge
DESCRIPTION:
URL:https://swf.sk.ca/event/moose-jaw-wf-walleye-challenge/
LOCATION:Buffalo Pound Provincial Park Launch
END:VEVENT
BEGIN:VEVENT
DTSTART;VALUE=DATE:20170525
DTEND;VALUE=DATE:20170526
DTSTAMP:20260424T175736
CREATED:20170316T155159Z
LAST-MODIFIED:20170316T155525Z
UID:11117-1495670400-1495756799@swf.sk.ca
SUMMARY:2017/18 Fishing Season Opens Northern Zone
DESCRIPTION:
URL:https://swf.sk.ca/event/201718-fishing-season-opens-northern-zone/
LOCATION:Saskatchewan
END:VEVENT
BEGIN:VEVENT
DTSTART;VALUE=DATE:20170515
DTEND;VALUE=DATE:20170516
DTSTAMP:20260424T175736
CREATED:20170316T155116Z
LAST-MODIFIED:20170316T155452Z
UID:11116-1494806400-1494892799@swf.sk.ca
SUMMARY:2017/18 Fishing Season Opens Central Zone
DESCRIPTION:
URL:https://swf.sk.ca/event/201718-fishing-season-opens-central-zone/
LOCATION:Saskatchewan
END:VEVENT
BEGIN:VEVENT
DTSTART;TZID=America/Regina:20170512T080000
DTEND;TZID=America/Regina:20170512T170000
DTSTAMP:20260424T175736
CREATED:20170316T155243Z
LAST-MODIFIED:20170316T155243Z
UID:11118-1494576000-1494608400@swf.sk.ca
SUMMARY:SWF Conservation Camp Applications Deadline
DESCRIPTION:
URL:https://swf.sk.ca/event/swf-conservation-camp-applications-deadline/
LOCATION:Saskatchewan
END:VEVENT
BEGIN:VEVENT
DTSTART;TZID=America/Regina:20170509T190000
DTEND;TZID=America/Regina:20170509T190000
DTSTAMP:20260424T175736
CREATED:20170424T142643Z
LAST-MODIFIED:20170424T142643Z
UID:11179-1494356400-1494356400@swf.sk.ca
SUMMARY:Creighton WF AGM
DESCRIPTION:EVERYONE WELCOME!!!!!
URL:https://swf.sk.ca/event/creighton-wf-agm/
LOCATION:Centennial Building\, 401 Main St\, Creighton\, Saskatchewan\, S0P 0A0\, Canada
END:VEVENT
BEGIN:VEVENT
DTSTART;VALUE=DATE:20170509
DTEND;VALUE=DATE:20170510
DTSTAMP:20260424T175736
CREATED:20170105T181516Z
LAST-MODIFIED:20170105T181516Z
UID:6753-1494288000-1494374399@swf.sk.ca
SUMMARY:Moose Jaw Clubhouse Clean up
DESCRIPTION:
URL:https://swf.sk.ca/event/moose-jaw-clubhouse-clean-up/
LOCATION:MJWF Clubhouse\, 1396 3 Ave NE\, S6H 1G3
END:VEVENT
BEGIN:VEVENT
DTSTART;TZID=America/Regina:20170506T170000
DTEND;TZID=America/Regina:20170506T170000
DTSTAMP:20260424T175736
CREATED:20170127T172357Z
LAST-MODIFIED:20170127T172734Z
UID:6791-1494090000-1494090000@swf.sk.ca
SUMMARY:Valley View WF Banquet & F/R
DESCRIPTION:Happy Hour 5:00 \nSupper    6:00 \n  \nContact: Brenda 993-4019 \nStan  877-4600 \n 
URL:https://swf.sk.ca/event/valley-view-wf-banquet-fr/
LOCATION:Dubuc Hall\, S0A 0R0
END:VEVENT
BEGIN:VEVENT
DTSTART;TZID=America/Regina:20170506T070000
DTEND;TZID=America/Regina:20170506T153000
DTSTAMP:20260424T175736
CREATED:20170313T194616Z
LAST-MODIFIED:20170313T194824Z
UID:11091-1494054000-1494084600@swf.sk.ca
SUMMARY:Estevan Walleye Classic
DESCRIPTION:Boundry Dam lake\nEstevan\, Saskatchewan\nCanada \n  \nContact: Mike Halirewich  306-421-6197 or \nContact information listed on the Estevan wildlife federation website: \n  \nhttp://www.estevanwildlifefederation.com
URL:https://swf.sk.ca/event/estevan-walleye-classic/
LOCATION:Boundry Dam\, Estevan\, S4A 2A6
END:VEVENT
BEGIN:VEVENT
DTSTART;VALUE=DATE:20170506
DTEND;VALUE=DATE:20170507
DTSTAMP:20260424T175736
CREATED:20170314T194400Z
LAST-MODIFIED:20170314T194437Z
UID:11107-1494028800-1494115199@swf.sk.ca
SUMMARY:Region 2 Spring Meeting
DESCRIPTION:The spring meeting will be held at the Medstead Town Hall on Main St. on May 6 @ 10:00 am. \nThe Region Board Members will be contacting the Branches to confirm attendance in a few weeks. \nHope to see you there.
URL:https://swf.sk.ca/event/region-2-spring-meeting-2/
LOCATION:Medstead Community Hall
END:VEVENT
BEGIN:VEVENT
DTSTART;VALUE=DATE:20170505
DTEND;VALUE=DATE:20170506
DTSTAMP:20260424T175736
CREATED:20170316T155035Z
LAST-MODIFIED:20170316T155701Z
UID:11115-1493942400-1494028799@swf.sk.ca
SUMMARY:2017/18 Fishing Season Opens Southern Zone
DESCRIPTION:
URL:https://swf.sk.ca/event/201718-fishing-season-opens-southern-zone/
LOCATION:Saskatchewan
END:VEVENT
BEGIN:VEVENT
DTSTART;TZID=America/Regina:20170429T170000
DTEND;TZID=America/Regina:20170429T190000
DTSTAMP:20260424T175736
CREATED:20170307T132043Z
LAST-MODIFIED:20170307T132620Z
UID:11081-1493485200-1493492400@swf.sk.ca
SUMMARY:Witchekan WF Fish Fry
DESCRIPTION:Contact Pearl 306-883-2835 \n  \n$12/plate
URL:https://swf.sk.ca/event/witchekan-wf-fish-fry/
LOCATION:Spiritwood Civic Centre\, Spiritwood\, Saskatchewan\, Canada
END:VEVENT
BEGIN:VEVENT
DTSTART;VALUE=DATE:20170429
DTEND;VALUE=DATE:20170430
DTSTAMP:20260424T175736
CREATED:20170417T204920Z
LAST-MODIFIED:20170417T204920Z
UID:11177-1493424000-1493510399@swf.sk.ca
SUMMARY:Weyburn WF Wildlife Seminar
DESCRIPTION:12-1pm-dinner on your own dime\n1pm-5pm seminars \nElk Calling- Marcus Simons \nCoyote/Trapping- Floyd Hendrickson \nFishing- Jason Matity \nTickets are $25 person \nShare this like crazy…copy it and text it to your buddies…LETS GET THE WORD OUT FOR THIS EVENT…
URL:https://swf.sk.ca/event/weyburn-wf-wildlife-seminar/
LOCATION:Saskatchewan
END:VEVENT
BEGIN:VEVENT
DTSTART;VALUE=DATE:20170423
DTEND;VALUE=DATE:20170424
DTSTAMP:20260424T175736
CREATED:20170314T194056Z
LAST-MODIFIED:20170314T194056Z
UID:11105-1492905600-1492991999@swf.sk.ca
SUMMARY:Region 1 Spring Meeting
DESCRIPTION:The spring meeting will be held in the Pioneer Hotel basement (627 9th Ave.) in Humboldt on April 23 @ 10:00 am. \nThe Region Board Members will be contacting the Branches to confirm attendance in a few weeks. \nHope to see you there
URL:https://swf.sk.ca/event/region-1-spring-meeting/
LOCATION:Pioneer Hotel\, 627 9th Street\, Humboldt\, SK\, Canada
END:VEVENT
BEGIN:VEVENT
DTSTART;VALUE=DATE:20170423
DTEND;VALUE=DATE:20170424
DTSTAMP:20260424T175736
CREATED:20170313T203132Z
LAST-MODIFIED:20170314T195214Z
UID:11101-1492905600-1492991999@swf.sk.ca
SUMMARY:SWF Region 5 Spring Meeting
DESCRIPTION:The spring meeting will be held at the Harbour Golf Course in Elbow on April 23 @ 10:00 am. \nThe Region Board Members will be contacting the Branches to confirm attendance in a few weeks. \nHope to see you there.
URL:https://swf.sk.ca/event/swf-region-5-spring-meeting/
LOCATION:Harbor Golf Resort\, Elbow\, Saskatchewan\, S0H 1J0\, Canada
END:VEVENT
BEGIN:VEVENT
DTSTART;TZID=America/Regina:20170422T180000
DTEND;TZID=America/Regina:20170422T230000
DTSTAMP:20260424T175736
CREATED:20170313T195147Z
LAST-MODIFIED:20170313T195147Z
UID:11093-1492884000-1492902000@swf.sk.ca
SUMMARY:Estevan WF Fundraiser
DESCRIPTION:Contact: \nExecutive Members of the Wildlife \n  \n306-634-2498 \n 
URL:https://swf.sk.ca/event/estevan-wf-fundraiser-2/
LOCATION:Wylie Mitchell Building\, 68 Souris Ave\, Estevan\, Saskatchewan\, S4A 2M3\, Canada
END:VEVENT
BEGIN:VEVENT
DTSTART;TZID=America/Regina:20170422T170000
DTEND;TZID=America/Regina:20170422T170000
DTSTAMP:20260424T175736
CREATED:20170120T191516Z
LAST-MODIFIED:20170120T191516Z
UID:6782-1492880400-1492880400@swf.sk.ca
SUMMARY:Struthers Lake Banquet and F/R
DESCRIPTION:Live and Silent Auctions
URL:https://swf.sk.ca/event/struthers-lake-banquet-and-fr/
LOCATION:Yellow Creek Auditorium\, Yellow Creek\, S0K 4X0
END:VEVENT
BEGIN:VEVENT
DTSTART;VALUE=DATE:20170422
DTEND;VALUE=DATE:20170423
DTSTAMP:20260424T175736
CREATED:20161020T195011Z
LAST-MODIFIED:20161020T195011Z
UID:6487-1492819200-1492905599@swf.sk.ca
SUMMARY:Porcupine WF F/R Banquet
DESCRIPTION:
URL:https://swf.sk.ca/event/porcupine-wf-fr-banquet/
LOCATION:Saskatchewan
END:VEVENT
BEGIN:VEVENT
DTSTART;VALUE=DATE:20170422
DTEND;VALUE=DATE:20170423
DTSTAMP:20260424T175736
CREATED:20170105T181435Z
LAST-MODIFIED:20170105T181435Z
UID:6752-1492819200-1492905599@swf.sk.ca
SUMMARY:Moose Jaw WF Annual Fundraiser
DESCRIPTION:
URL:https://swf.sk.ca/event/moose-jaw-wf-annual-fundraiser/
LOCATION:Heritage Inn\, 1590 Main St. N\, Moose Jaw\, Saskatchewan\, S6J 1L3\, Canada
END:VEVENT
BEGIN:VEVENT
DTSTART;VALUE=DATE:20170420
DTEND;VALUE=DATE:20170421
DTSTAMP:20260424T175736
CREATED:20161102T141211Z
LAST-MODIFIED:20161102T141211Z
UID:6597-1492646400-1492732799@swf.sk.ca
SUMMARY:Lloydminster & District FGA Annual Fish Fry
DESCRIPTION:
URL:https://swf.sk.ca/event/lloydminster-district-fga-annual-fish-fry/
LOCATION:Moose Lodge\, 5213 57 Street\, Lloydminster\, Alberta\, Canada
END:VEVENT
BEGIN:VEVENT
DTSTART;VALUE=DATE:20170415
DTEND;VALUE=DATE:20170416
DTSTAMP:20260424T175736
CREATED:20160224T171814Z
LAST-MODIFIED:20160224T171814Z
UID:5859-1492214400-1492300799@swf.sk.ca
SUMMARY:2016/17 Fishing Season Closes Northern  Zone
DESCRIPTION:
URL:https://swf.sk.ca/event/201617-fishing-season-closes-northern-zone/
LOCATION:Saskatchewan
END:VEVENT
BEGIN:VEVENT
DTSTART;VALUE=DATE:20170409
DTEND;VALUE=DATE:20170410
DTSTAMP:20260424T175736
CREATED:20170313T203105Z
LAST-MODIFIED:20170314T195017Z
UID:11100-1491696000-1491782399@swf.sk.ca
SUMMARY:SWF Region 4 Spring Meeting
DESCRIPTION:The spring meeting will be held in the basement of the Rocanville Catholic Church on St. Albert St. (West side of town) on April 9 @ 10:00 am. \nThe Region Board Member will be contacting the Branches to confirm attendance in a few weeks. \n 
URL:https://swf.sk.ca/event/swf-region-4-spring-meeting/
LOCATION:Rocanville Catholic Church\, St. Albert St\, Rocanville\, Saskatchewan\, S0A 3L0\, Canada
END:VEVENT
BEGIN:VEVENT
DTSTART;VALUE=DATE:20170409
DTEND;VALUE=DATE:20170410
DTSTAMP:20260424T175736
CREATED:20170313T202952Z
LAST-MODIFIED:20170314T194810Z
UID:11099-1491696000-1491782399@swf.sk.ca
SUMMARY:SWF Region 3 Spring Meeting
DESCRIPTION:The spring meeting will be held in the Watson Legion Hall South side off #6 on April 9 @ 10:00 am. \nThe Region Board Members will be contacting the Branches to confirm attendance in a few weeks. \nHope to see you there.
URL:https://swf.sk.ca/event/swf-region-3-spring-meeting/
LOCATION:Watson Legion Hall\, South side of #6\, Watson\, Saskatchewan\, S0K 4V0\, Canada
END:VEVENT
BEGIN:VEVENT
DTSTART;TZID=America/Regina:20170408T183000
DTEND;TZID=America/Regina:20170408T220000
DTSTAMP:20260424T175736
CREATED:20170316T161030Z
LAST-MODIFIED:20170316T161203Z
UID:11121-1491676200-1491688800@swf.sk.ca
SUMMARY:Valley Trails Wild Game & Awards Banquet
DESCRIPTION:Will Buhler 306-361-1792 \nLance Zacharias 306-715-1932
URL:https://swf.sk.ca/event/valley-trails-wild-game-awards-banquet/
LOCATION:Brian King Centre\, 202 8th Ave N\, Warman\, Saskatchewan\, S0K 4S0\, Canada
END:VEVENT
BEGIN:VEVENT
DTSTART;TZID=America/Regina:20170408T183000
DTEND;TZID=America/Regina:20170408T183000
DTSTAMP:20260424T175736
CREATED:20161031T213603Z
LAST-MODIFIED:20161031T213759Z
UID:6550-1491676200-1491676200@swf.sk.ca
SUMMARY:Save-a-goose WF 2017 Annual Trophy & Banquet
DESCRIPTION:Potluck supper 6:30pm \nAwards 8:00pm  \nLive & Silent Auction \nFishing Trip Raffle
URL:https://swf.sk.ca/event/save-a-goose-wf-2017-annual-trophy-banquet/
LOCATION:Montmartre\, Saskatchewan\, Canada
END:VEVENT
BEGIN:VEVENT
DTSTART;TZID=America/Regina:20170408T173000
DTEND;TZID=America/Regina:20170408T173000
DTSTAMP:20260424T175736
CREATED:20170313T193542Z
LAST-MODIFIED:20170313T193831Z
UID:11089-1491672600-1491672600@swf.sk.ca
SUMMARY:Swift Current WF Annual Fundraiser & Banquet
DESCRIPTION:Variety of items: \nLive\, Silent and raffle Tables galore! \nDoor Prize draws and Ladies Ring Draw at the end of the evening \nContact: \nDave Gloeckler  306-741-0841 \nClark Schultz   306-741-7767
URL:https://swf.sk.ca/event/swift-current-wf-annual-fundraiser-banquet/
LOCATION:Swift Current Legion Hall\, 239 1 Avenue Northeast\, Swift Current\, Saskatchewan\, S9H 2B3\, Canada
END:VEVENT
BEGIN:VEVENT
DTSTART;VALUE=DATE:20170408
DTEND;VALUE=DATE:20170410
DTSTAMP:20260424T175736
CREATED:20170330T211838Z
LAST-MODIFIED:20170330T211935Z
UID:11129-1491609600-1491782399@swf.sk.ca
SUMMARY:Kyle Fish & Game League OPEN Archery Shoot
DESCRIPTION:Starts @ 10:00 \n  \nContact: David Lewis  306-375-2888
URL:https://swf.sk.ca/event/kyle-fish-game-league-open-archery-shoot/
LOCATION:Kyle Community Curling Rink\, 224 3rd St west\, Kyle\, Saskatchewan\, S0L 1T0\, Canada
END:VEVENT
BEGIN:VEVENT
DTSTART;VALUE=DATE:20170408
DTEND;VALUE=DATE:20170409
DTSTAMP:20260424T175736
CREATED:20170113T180609Z
LAST-MODIFIED:20170113T180829Z
UID:6774-1491609600-1491695999@swf.sk.ca
SUMMARY:2016 Angling & HK Awards Banquet
DESCRIPTION:Provincal Awards Banquet
URL:https://swf.sk.ca/event/2016-angling-hk-awards-banquet/
LOCATION:St. Mary’s Cultural Center\, 240 Wellington Ave\, Yorkton\, Saskatchewan\, S3N 4B3\, Canada
END:VEVENT
BEGIN:VEVENT
DTSTART;VALUE=DATE:20170402
DTEND;VALUE=DATE:20170403
DTSTAMP:20260424T175736
CREATED:20170314T195520Z
LAST-MODIFIED:20170314T195520Z
UID:11113-1491091200-1491177599@swf.sk.ca
SUMMARY:Region 6 Spring Meeting
DESCRIPTION:The spring meeting will be held at the K Motel in Swift Current on April 2 @ 10:00 am. \n 2225 North Service Rd W\, Swift Current\, SK S9H 5L1 \nThe Region Board Members will be contacting the Branches to confirm attendance in a few weeks. \nHope to see you there.
URL:https://swf.sk.ca/event/region-6-spring-meeting-2/
LOCATION:K Motel\, 2225 North Service Rd W\, Swift Current\, Saskatchewan\, S9h 5l1\, Canada
END:VEVENT
END:VCALENDAR