BEGIN:VCALENDAR
VERSION:2.0
PRODID:-//Saskatchewan Wildlife Federation - ECPv6.15.13.1//NONSGML v1.0//EN
CALSCALE:GREGORIAN
METHOD:PUBLISH
X-WR-CALNAME:Saskatchewan Wildlife Federation
X-ORIGINAL-URL:https://swf.sk.ca
X-WR-CALDESC:Events for Saskatchewan Wildlife Federation
REFRESH-INTERVAL;VALUE=DURATION:PT1H
X-Robots-Tag:noindex
X-PUBLISHED-TTL:PT1H
BEGIN:VTIMEZONE
TZID:America/Regina
BEGIN:STANDARD
TZOFFSETFROM:-0600
TZOFFSETTO:-0600
TZNAME:CST
DTSTART:20160101T000000
END:STANDARD
END:VTIMEZONE
BEGIN:VEVENT
DTSTART;VALUE=DATE:20180119
DTEND;VALUE=DATE:20180121
DTSTAMP:20260424T064506
CREATED:20171127T152636Z
LAST-MODIFIED:20171127T152658Z
UID:11461-1516320000-1516492799@swf.sk.ca
SUMMARY:Creighton WF Restricted PAL Course
DESCRIPTION:Restricted PAL Course at the Creighton Community School \n$100/person \nContact Ryan Gary 204-687-3163 for additional information \n  \n 
URL:https://swf.sk.ca/event/creighton-wf-restricted-pal-course/
END:VEVENT
BEGIN:VEVENT
DTSTART;TZID=America/Regina:20180113T130000
DTEND;TZID=America/Regina:20180113T170000
DTSTAMP:20260424T064506
CREATED:20171120T163255Z
LAST-MODIFIED:20171120T163255Z
UID:11452-1515848400-1515862800@swf.sk.ca
SUMMARY:Porcupine WF Horn Measuring
DESCRIPTION:
URL:https://swf.sk.ca/event/porcupine-wf-horn-measuring-3/
LOCATION:Quilly Willy Place\, Porcupine Plains\, Saskatchewan\, Canada
END:VEVENT
BEGIN:VEVENT
DTSTART;VALUE=DATE:20180113
DTEND;VALUE=DATE:20180115
DTSTAMP:20260424T064506
CREATED:20171120T161546Z
LAST-MODIFIED:20171120T161612Z
UID:11446-1515801600-1515974399@swf.sk.ca
SUMMARY:Moose Jaw Hunter Education/Firearm Safety Course
DESCRIPTION:Testing for on-line Hunter Ed Course and \nNon – restricted Firearms Safety Course \n  \nFor Questions or to register\, please email: mjhuntered@gmail.com
URL:https://swf.sk.ca/event/moose-jaw-hunter-educationfirearm-safety-course/
END:VEVENT
BEGIN:VEVENT
DTSTART;VALUE=DATE:20180113
DTEND;VALUE=DATE:20180115
DTSTAMP:20260424T064506
CREATED:20170906T180945Z
LAST-MODIFIED:20170906T180945Z
UID:11345-1515801600-1515974399@swf.sk.ca
SUMMARY:Region 6 HK Branch Measurer's Workshop
DESCRIPTION:Registration deadline Dec 1 2017 \nTo all branches of Region 6\n\nFellow members\,\n\nI am pleased to inform you that Region 6 will be hosting a Henry Kelsey branch measurer’s workshop this winter at the Moose Jaw Wildlife Federation clubhouse\, located at 1396 3rd NE Moose Jaw\, Sask. This venue is located just behind the town and country mall. The dates are set and this workshop will be held on January 13 & 14\, 2018. Once we have attendance numbers we will notify each branch and their participants of the start time and costs.\n\nWhat I need\, is for each branch to discuss with interested members at their monthly meeting\, and once they have committed\, I need a letter of recommendation from the branch for the member or members that they are sponsoring.\nPlease email the letter of recommendation to myself at ct.fink@sasktel.net\, or mail to Chad Fink Box 901 Assiniboia\, Sask S0H 0B0\, please have your letters to me no later than Dec 1\, 2017 (no exceptions). If you have any questions please feel free to contact me via the above mentioned email or on my cell at (306)640-8083.\n\nWishing you all a safe and bountiful hunting season!\n\n\nChad Fink\nDirector Henry Kelsey Region 6
URL:https://swf.sk.ca/event/region-6-hk-branch-measurers-workshop/
LOCATION:MJWF Clubhouse\, 1396 3 Ave NE\, S6H 1G3
END:VEVENT
BEGIN:VEVENT
DTSTART;VALUE=DATE:20180106
DTEND;VALUE=DATE:20180108
DTSTAMP:20260424T064506
CREATED:20171127T150410Z
LAST-MODIFIED:20171204T151930Z
UID:11459-1515196800-1515369599@swf.sk.ca
SUMMARY:Creighton WF PAL Course
DESCRIPTION:Restricted PAL Course at the Creighton Community School \n$100/person \nContact Ryan Gary 204-687-3163 for additional information \n  \nThis course is full please see Jan 19/20
URL:https://swf.sk.ca/event/creighton-wf-pal-coarse/
END:VEVENT
BEGIN:VEVENT
DTSTART;VALUE=DATE:20171216
DTEND;VALUE=DATE:20171217
DTSTAMP:20260424T064506
CREATED:20171120T161854Z
LAST-MODIFIED:20171120T162057Z
UID:11447-1513382400-1513468799@swf.sk.ca
SUMMARY:Humboldt WF Antler Measuring & Turkey Shoot
DESCRIPTION:
URL:https://swf.sk.ca/event/humboldt-wf-antler-measuring-turkey-shoot/
LOCATION:Humboldt Autobody Shop
END:VEVENT
BEGIN:VEVENT
DTSTART;VALUE=DATE:20171214
DTEND;VALUE=DATE:20171215
DTSTAMP:20260424T064506
CREATED:20170105T181927Z
LAST-MODIFIED:20170105T181927Z
UID:6759-1513209600-1513295999@swf.sk.ca
SUMMARY:Moose Jaw WF Horn Scoring
DESCRIPTION:
URL:https://swf.sk.ca/event/moose-jaw-wf-horn-scoring-2/
LOCATION:MJWF Clubhouse\, 1396 3 Ave NE\, S6H 1G3
END:VEVENT
BEGIN:VEVENT
DTSTART;TZID=America/Regina:20171213T190000
DTEND;TZID=America/Regina:20171213T190000
DTSTAMP:20260424T064506
CREATED:20171205T153109Z
LAST-MODIFIED:20171205T153109Z
UID:11467-1513191600-1513191600@swf.sk.ca
SUMMARY:Carrot River Outdoor Club Horn Scoring Night
DESCRIPTION:For additional information contact:  Doug Senko 306-401-7910
URL:https://swf.sk.ca/event/carrot-river-outdoor-club-horn-scoring-night/
LOCATION:Carrot River\, Carrot River\, Saskatchewan\, S0E 0L0\, Canada
END:VEVENT
BEGIN:VEVENT
DTSTART;TZID=America/Regina:20171210T130000
DTEND;TZID=America/Regina:20171210T170000
DTSTAMP:20260424T064506
CREATED:20171127T142623Z
LAST-MODIFIED:20171127T142623Z
UID:11456-1512910800-1512925200@swf.sk.ca
SUMMARY:Valleyview WF Horn Measuring
DESCRIPTION:
URL:https://swf.sk.ca/event/valleyview-wf-horn-measuring-2/
LOCATION:Sharpes Soil Service\, Hwy 9 & 22\, Stockholm\, Saskatchewan\, S0A 3Y0\, Canada
END:VEVENT
BEGIN:VEVENT
DTSTART;VALUE=DATE:20171210
DTEND;VALUE=DATE:20171211
DTSTAMP:20260424T064506
CREATED:20171116T195525Z
LAST-MODIFIED:20171116T195525Z
UID:11433-1512864000-1512950399@swf.sk.ca
SUMMARY:Valley View WF Horn Measuring
DESCRIPTION:
URL:https://swf.sk.ca/event/valley-view-wf-horn-measuring/
LOCATION:Sharpes Soil Service\, Hwy 9 & 22\, Stockholm\, Saskatchewan\, S0A 3Y0\, Canada
END:VEVENT
BEGIN:VEVENT
DTSTART;TZID=America/Regina:20171209T150000
DTEND;TZID=America/Regina:20171209T190000
DTSTAMP:20260424T064506
CREATED:20171020T215658Z
LAST-MODIFIED:20171020T215658Z
UID:11409-1512831600-1512846000@swf.sk.ca
SUMMARY:Willowbrook WF Horn Scoring
DESCRIPTION:Contact: Danny Mikonen 647-2555 or Mitch 621-8087 \n  \n 
URL:https://swf.sk.ca/event/willowbrook-wf-horn-scoring-2/
LOCATION:Willowbrook Rec Center\, Willowbrook\, Saskatchewan\, S0A 4P0\, Canada
END:VEVENT
BEGIN:VEVENT
DTSTART;TZID=America/Regina:20171209T090000
DTEND;TZID=America/Regina:20171209T150000
DTSTAMP:20260424T064506
CREATED:20171120T162902Z
LAST-MODIFIED:20171120T163048Z
UID:11450-1512810000-1512831600@swf.sk.ca
SUMMARY:Nipawin F&G Big Game Scoring Day
DESCRIPTION:Event Contacts:  Michael Remenda 306-862-4542 \n2018 Memberships Available for sale. \nLunch will be served \n 
URL:https://swf.sk.ca/event/nipawin-fg-big-game-scoring-day/
LOCATION:Nipawin Fish & Game Hall\, Nipawin\, Saskatchewan\, Canada
END:VEVENT
BEGIN:VEVENT
DTSTART;TZID=America/Regina:20171205T190000
DTEND;TZID=America/Regina:20171205T210000
DTSTAMP:20260424T064506
CREATED:20171020T211016Z
LAST-MODIFIED:20171020T215627Z
UID:11407-1512500400-1512507600@swf.sk.ca
SUMMARY:Outlook & District Horn Measuring Night
DESCRIPTION:Located just West of the Outlook Vet Clinic. Many scorers on hand to measure various species. 2018 Memberships\, Range Keys\, Drinks and Snacks will be available for purchase. Check out our Facebook page for more details.www.facebook.com/outlookwf \nContact Brent 306-867-4445
URL:https://swf.sk.ca/event/outlook-district-horn-measuring-night/
LOCATION:Outlook Legion Hall\, Thompson Street\, Outlook\, Saskatchewan\, S0L 2N0\, Canada
END:VEVENT
BEGIN:VEVENT
DTSTART;TZID=America/Regina:20171205T170000
DTEND;TZID=America/Regina:20171205T170000
DTSTAMP:20260424T064506
CREATED:20171107T145620Z
LAST-MODIFIED:20171108T184957Z
UID:11423-1512493200-1512493200@swf.sk.ca
SUMMARY:Melville F&G Horn Scoring
DESCRIPTION:Memberships Available \nContact: Ken Somogyi 306-730-6671 \nScott Brown 306-728-7649
URL:https://swf.sk.ca/event/melville-fg-horn-scoring/
LOCATION:Melville Community Works\, 800 Prince Edward Street\, Melville\, Saskatchewan\, S0A 2P0\, Canada
END:VEVENT
BEGIN:VEVENT
DTSTART;TZID=America/Regina:20171203T130000
DTEND;TZID=America/Regina:20171203T130000
DTSTAMP:20260424T064506
CREATED:20171116T213747Z
LAST-MODIFIED:20171116T213747Z
UID:11444-1512306000-1512306000@swf.sk.ca
SUMMARY:Kyle F&G Horn Scoring Night
DESCRIPTION:
URL:https://swf.sk.ca/event/kyle-fg-horn-scoring-night/
LOCATION:Kelks Shop\, Kyle\, Saskatchewan\, S0L 1T0\, Canada
END:VEVENT
BEGIN:VEVENT
DTSTART;VALUE=DATE:20171203
DTEND;VALUE=DATE:20171204
DTSTAMP:20260424T064506
CREATED:20171127T142803Z
LAST-MODIFIED:20171127T142803Z
UID:11457-1512259200-1512345599@swf.sk.ca
SUMMARY:Valleyview WF Awards and F/R Banquet
DESCRIPTION:
URL:https://swf.sk.ca/event/valleyview-wf-awards-and-fr-banquet/
LOCATION:Dubuc Hall\, S0A 0R0
END:VEVENT
BEGIN:VEVENT
DTSTART;VALUE=DATE:20171105
DTEND;VALUE=DATE:20171106
DTSTAMP:20260424T064506
CREATED:20170926T184208Z
LAST-MODIFIED:20170926T184208Z
UID:11375-1509840000-1509926399@swf.sk.ca
SUMMARY:Region 1 Fall Meeting
DESCRIPTION:
URL:https://swf.sk.ca/event/region-1-fall-meeting-2/
LOCATION:Melfort
END:VEVENT
BEGIN:VEVENT
DTSTART;VALUE=DATE:20171029
DTEND;VALUE=DATE:20171030
DTSTAMP:20260424T064506
CREATED:20170825T210202Z
LAST-MODIFIED:20170825T210300Z
UID:11327-1509235200-1509321599@swf.sk.ca
SUMMARY:Region 3 Fall Meeting
DESCRIPTION:Region 3 Meeting
URL:https://swf.sk.ca/event/region-3-meeting/
LOCATION:Ukrainian Catholic Hall\, Kamsack\, Saskatchewan\, S0A 1S0\, Canada
END:VEVENT
BEGIN:VEVENT
DTSTART;VALUE=DATE:20171022
DTEND;VALUE=DATE:20171023
DTSTAMP:20260424T064506
CREATED:20170926T184744Z
LAST-MODIFIED:20170926T184744Z
UID:11380-1508630400-1508716799@swf.sk.ca
SUMMARY:Region 5 fall Meeting
DESCRIPTION:
URL:https://swf.sk.ca/event/region-5-fall-meeting/
LOCATION:Outlook\, Saskatchewan\, S0L 2N0
END:VEVENT
BEGIN:VEVENT
DTSTART;VALUE=DATE:20171022
DTEND;VALUE=DATE:20171023
DTSTAMP:20260424T064506
CREATED:20170926T184628Z
LAST-MODIFIED:20170926T184628Z
UID:11378-1508630400-1508716799@swf.sk.ca
SUMMARY:Region 4 Fall Meeting
DESCRIPTION:
URL:https://swf.sk.ca/event/region-4-fall-meeting-2/
LOCATION:Alameda\, Saskatchewan\, S0C 0A0
END:VEVENT
BEGIN:VEVENT
DTSTART;VALUE=DATE:20171021
DTEND;VALUE=DATE:20171022
DTSTAMP:20260424T064506
CREATED:20170914T172522Z
LAST-MODIFIED:20170914T175859Z
UID:11356-1508544000-1508630399@swf.sk.ca
SUMMARY:Rgn 2 Fall Meeting
DESCRIPTION:Region 2 Fall Meeting \nSenior Centre on Main Street in Cut Knife
URL:https://swf.sk.ca/event/rgn-2-fall-meeting/
END:VEVENT
BEGIN:VEVENT
DTSTART;VALUE=DATE:20171015
DTEND;VALUE=DATE:20171016
DTSTAMP:20260424T064506
CREATED:20170926T184852Z
LAST-MODIFIED:20170926T185030Z
UID:11382-1508025600-1508111999@swf.sk.ca
SUMMARY:Region 6 Fall Meeting
DESCRIPTION:
URL:https://swf.sk.ca/event/region-6-fall-meeting-2/
LOCATION:MJWF Clubhouse\, 1396 3 Ave NE\, S6H 1G3
END:VEVENT
BEGIN:VEVENT
DTSTART;TZID=America/Regina:20171010T190000
DTEND;TZID=America/Regina:20171010T190000
DTSTAMP:20260424T064506
CREATED:20170905T191339Z
LAST-MODIFIED:20170905T191503Z
UID:11341-1507662000-1507662000@swf.sk.ca
SUMMARY:Creighton WF Branch Meeting
DESCRIPTION:Creighton Wildlife Federaton Branch Meeting \nOpen to the Public \nEveryone welcome to attend and see what we are all about!!! \nBasement of Centenniel Building – Across from Petro Canada \nSome topics of discussion” Gun range\, upcoming events\, fundraisers…” \nContact Candy Gamache  306-688-2005
URL:https://swf.sk.ca/event/creighton-wf-branch-meeting/
LOCATION:Centennial Building\, 401 Main St\, Creighton\, Saskatchewan\, S0P 0A0\, Canada
END:VEVENT
BEGIN:VEVENT
DTSTART;VALUE=DATE:20171005
DTEND;VALUE=DATE:20171010
DTSTAMP:20260424T064506
CREATED:20170919T173217Z
LAST-MODIFIED:20170919T173734Z
UID:11359-1507161600-1507593599@swf.sk.ca
SUMMARY:SK Falconry Assoc.  Annual October Field Meet
DESCRIPTION:Based at the Caraval Motel\, Swift Current\, SK \nFor addition information contact: \nenquiries@saskfalconryassociation.com \n  \n 
URL:https://swf.sk.ca/event/sk-falconry-assoc-annual-october-field-meet/
END:VEVENT
BEGIN:VEVENT
DTSTART;VALUE=DATE:20171005
DTEND;VALUE=DATE:20171006
DTSTAMP:20260424T064506
CREATED:20170914T171826Z
LAST-MODIFIED:20170926T191331Z
UID:11354-1507161600-1507247999@swf.sk.ca
SUMMARY:Battlefords Learn to Shoot Program
DESCRIPTION:
URL:https://swf.sk.ca/event/battlefords-learn-to-shot-program/
END:VEVENT
BEGIN:VEVENT
DTSTART;VALUE=DATE:20170930
DTEND;VALUE=DATE:20171002
DTSTAMP:20260424T064506
CREATED:20170105T181742Z
LAST-MODIFIED:20170105T181805Z
UID:6758-1506729600-1506902399@swf.sk.ca
SUMMARY:Moose Jaw WF Mentored Hunt
DESCRIPTION:
URL:https://swf.sk.ca/event/moose-jaw-wf-mentored-hunt/
END:VEVENT
BEGIN:VEVENT
DTSTART;VALUE=DATE:20170924
DTEND;VALUE=DATE:20170925
DTSTAMP:20260424T064506
CREATED:20170105T181720Z
LAST-MODIFIED:20170105T181720Z
UID:6757-1506211200-1506297599@swf.sk.ca
SUMMARY:Moose Jaw WF Shoreline Clean-up
DESCRIPTION:
URL:https://swf.sk.ca/event/moose-jaw-wf-shoreline-clean-up/
END:VEVENT
BEGIN:VEVENT
DTSTART;VALUE=DATE:20170921
DTEND;VALUE=DATE:20170922
DTSTAMP:20260424T064506
CREATED:20170914T171712Z
LAST-MODIFIED:20170927T171849Z
UID:11352-1505952000-1506038399@swf.sk.ca
SUMMARY:Battleford Learn to Shoot Program
DESCRIPTION:Learn to Shoot Program   Men\, Women & Youth (12-18 years of age) \nEvery Thursday Sept 14-Oct 5 \nYouth 6:00pm to 7:00pm \nWomen 7:00pm to 8:00pm \nMen 8:00pm to 9:00pm \nContact Cheryl Irvine  306-445-5298 \n 
URL:https://swf.sk.ca/event/battleford-learn-to-shot-program/
END:VEVENT
BEGIN:VEVENT
DTSTART;VALUE=DATE:20170914
DTEND;VALUE=DATE:20170915
DTSTAMP:20260424T064506
CREATED:20170905T172236Z
LAST-MODIFIED:20170914T171948Z
UID:11340-1505347200-1505433599@swf.sk.ca
SUMMARY:Battlefords WF - Learn To Shot
DESCRIPTION:Learn to Shot Program   Men\, Women & Youth (12-18 years of age) \nEvery Thursday Sept 14-Oct 5 \nYouth 6:00pm to 7:00pm \nWomen 7:00pm to 8:00pm \nMen 8:00pm to 9:00pm \nContact Cheryl Irvine  306-445-5298 \n 
URL:https://swf.sk.ca/event/battlefords-wf-learn-to-shot/
LOCATION:Battlefords Wildlife Building\, 9710 Thatcher avenue juction of hwy 16& 40\, North Battleford\, Saskatchewan\, Canada
END:VEVENT
BEGIN:VEVENT
DTSTART;VALUE=DATE:20170909
DTEND;VALUE=DATE:20170910
DTSTAMP:20260424T064506
CREATED:20170105T181646Z
LAST-MODIFIED:20170105T181646Z
UID:6756-1504915200-1505001599@swf.sk.ca
SUMMARY:Moose Jaw WF Sporting Clay
DESCRIPTION:
URL:https://swf.sk.ca/event/moose-jaw-wf-sporting-clay/
END:VEVENT
END:VCALENDAR