BEGIN:VCALENDAR
VERSION:2.0
PRODID:-//Saskatchewan Wildlife Federation - ECPv6.15.13.1//NONSGML v1.0//EN
CALSCALE:GREGORIAN
METHOD:PUBLISH
X-WR-CALNAME:Saskatchewan Wildlife Federation
X-ORIGINAL-URL:https://swf.sk.ca
X-WR-CALDESC:Events for Saskatchewan Wildlife Federation
REFRESH-INTERVAL;VALUE=DURATION:PT1H
X-Robots-Tag:noindex
X-PUBLISHED-TTL:PT1H
BEGIN:VTIMEZONE
TZID:America/Regina
BEGIN:STANDARD
TZOFFSETFROM:-0600
TZOFFSETTO:-0600
TZNAME:CST
DTSTART:20230101T000000
END:STANDARD
END:VTIMEZONE
BEGIN:VEVENT
DTSTART;TZID=America/Regina:20240210T170000
DTEND;TZID=America/Regina:20240210T233000
DTSTAMP:20260420T155334
CREATED:20240122T150035Z
LAST-MODIFIED:20240122T150035Z
UID:20395-1707584400-1707607800@swf.sk.ca
SUMMARY:St. Walburg & District Wildlife Federation Banquet & Awards Ceremony
DESCRIPTION:
URL:https://swf.sk.ca/event/st-walburg-district-wildlife-federation-banquet-awards-ceremony-2/
END:VEVENT
BEGIN:VEVENT
DTSTART;TZID=America/Regina:20240211T170000
DTEND;TZID=America/Regina:20240211T183000
DTSTAMP:20260420T155334
CREATED:20231221T211941Z
LAST-MODIFIED:20231221T211941Z
UID:20108-1707670800-1707676200@swf.sk.ca
SUMMARY:Tisdale Wildlife Federation Fish Fry
DESCRIPTION:at the Tisdale Recplex Auditorium \nContact: Jenifer Hidlebaugh 306.873.6796
URL:https://swf.sk.ca/event/tisdale-wildlife-federation-fish-fry-2/
END:VEVENT
BEGIN:VEVENT
DTSTART;VALUE=DATE:20240215
DTEND;VALUE=DATE:20240218
DTSTAMP:20260420T155334
CREATED:20231102T191334Z
LAST-MODIFIED:20231102T191334Z
UID:19857-1707955200-1708214399@swf.sk.ca
SUMMARY:95th Annual Convention
DESCRIPTION:
URL:https://swf.sk.ca/event/95th-annual-convention/
END:VEVENT
BEGIN:VEVENT
DTSTART;VALUE=DATE:20240217
DTEND;VALUE=DATE:20240218
DTSTAMP:20260420T155334
CREATED:20240209T150308Z
LAST-MODIFIED:20240209T150308Z
UID:20610-1708128000-1708214399@swf.sk.ca
SUMMARY:Thunder Creek Kinsmen Ice Fishing Derby
DESCRIPTION:Thunder Creek Kinsmen Ice Fishing Derby \nRusty’s Coulee Marina\, Lake Diefenbaker
URL:https://swf.sk.ca/event/thunder-creek-kinsmen-ice-fishing-derby/
END:VEVENT
BEGIN:VEVENT
DTSTART;VALUE=DATE:20240302
DTEND;VALUE=DATE:20240303
DTSTAMP:20260420T155334
CREATED:20231205T181604Z
LAST-MODIFIED:20231205T181604Z
UID:20003-1709337600-1709423999@swf.sk.ca
SUMMARY:Weyburn Wildlife Federation Mainprize Fish Derby
DESCRIPTION:
URL:https://swf.sk.ca/event/weyburn-wildlife-federation-mainprize-fish-derby/
END:VEVENT
BEGIN:VEVENT
DTSTART;VALUE=DATE:20240309
DTEND;VALUE=DATE:20240310
DTSTAMP:20260420T155334
CREATED:20240122T211050Z
LAST-MODIFIED:20240122T211050Z
UID:20399-1709942400-1710028799@swf.sk.ca
SUMMARY:Moose Jaw Wildlife Federation Youth & Family Ice Fishing Tournament
DESCRIPTION:@ Buffalo Pound Lake
URL:https://swf.sk.ca/event/moose-jaw-wildlife-federation-youth-family-ice-fishing-tournament/
END:VEVENT
BEGIN:VEVENT
DTSTART;VALUE=DATE:20240309
DTEND;VALUE=DATE:20240310
DTSTAMP:20260420T155334
CREATED:20240227T175625Z
LAST-MODIFIED:20240227T175625Z
UID:20863-1709942400-1710028799@swf.sk.ca
SUMMARY:River Ridge Fish & Game League Banquet and Awards Night
DESCRIPTION:
URL:https://swf.sk.ca/event/river-ridge-fish-game-league-banquet-and-awards-night/
END:VEVENT
BEGIN:VEVENT
DTSTART;TZID=America/Regina:20240309T100000
DTEND;TZID=America/Regina:20240309T180000
DTSTAMP:20260420T155334
CREATED:20240209T150734Z
LAST-MODIFIED:20240209T150734Z
UID:20613-1709978400-1710007200@swf.sk.ca
SUMMARY:Souris Moose Creek Wildlife Ice Fishing Tournament
DESCRIPTION:https://www.facebook.com/share/ro6FxpWoNG1fCx8X/?mibextid=K35XfP
URL:https://swf.sk.ca/event/souris-moose-creek-wildlife-ice-fishing-tournament/
END:VEVENT
BEGIN:VEVENT
DTSTART;TZID=America/Regina:20240309T170000
DTEND;TZID=America/Regina:20240309T233000
DTSTAMP:20260420T155334
CREATED:20240212T212855Z
LAST-MODIFIED:20240212T212855Z
UID:20642-1710003600-1710027000@swf.sk.ca
SUMMARY:Melville Fish and Game Annual Banquet and Fundraiser
DESCRIPTION:at the Royal Canadian Legion Hall – 136-3rd Ave West Melville\, Saskatchewan S0A 2P0 \nFor information contact Ken Somogyi:306-730-6671 or somogyi@sasktel.net \n 
URL:https://swf.sk.ca/event/melville-fish-and-game-annual-banquet-and-fundraiser/
END:VEVENT
BEGIN:VEVENT
DTSTART;TZID=America/Regina:20240316T170000
DTEND;TZID=America/Regina:20240316T233000
DTSTAMP:20260420T155334
CREATED:20240227T150529Z
LAST-MODIFIED:20240227T154437Z
UID:20854-1710608400-1710631800@swf.sk.ca
SUMMARY:Radville Wildlife Federation 18th Annual Fish Fry & Fundraiser Night
DESCRIPTION:
URL:https://swf.sk.ca/event/radville-wildlife-federation-18th-annual-fish-fry-fundraiser-night/
END:VEVENT
BEGIN:VEVENT
DTSTART;TZID=America/Regina:20240322T170000
DTEND;TZID=America/Regina:20240322T190000
DTSTAMP:20260420T155334
CREATED:20240122T211121Z
LAST-MODIFIED:20240122T211121Z
UID:20400-1711126800-1711134000@swf.sk.ca
SUMMARY:Moose Jaw Wildlife Federation Fish Fry
DESCRIPTION:@ MJWF Hall
URL:https://swf.sk.ca/event/moose-jaw-wildlife-federation-fish-fry-2/
END:VEVENT
BEGIN:VEVENT
DTSTART;TZID=America/Regina:20240323T170000
DTEND;TZID=America/Regina:20240323T233000
DTSTAMP:20260420T155334
CREATED:20240115T175843Z
LAST-MODIFIED:20240115T175843Z
UID:20352-1711213200-1711236600@swf.sk.ca
SUMMARY:Rocanville Wildlife Federation Supper & Fundraiser
DESCRIPTION:At the Rocanville Community Hall \nFor tickets contact Helen at t.hsheppard@hotmail.com or call 306-435-2460 \n  \n 
URL:https://swf.sk.ca/event/rocanville-wildlife-federation-supper-fundraiser/
END:VEVENT
BEGIN:VEVENT
DTSTART;TZID=America/Regina:20240323T170000
DTEND;TZID=America/Regina:20240324T023000
DTSTAMP:20260420T155334
CREATED:20240108T180624Z
LAST-MODIFIED:20240118T163021Z
UID:20316-1711213200-1711247400@swf.sk.ca
SUMMARY:Tisdale Wildlife Federation Banquet
DESCRIPTION:at the Tisdale Recplex Auditorium. \nFor tickets\, please call Jennifer @ (306) 873-6796
URL:https://swf.sk.ca/event/tisdale-wildlife-federation-banquet/
END:VEVENT
BEGIN:VEVENT
DTSTART;TZID=America/Regina:20240323T173000
DTEND;TZID=America/Regina:20240323T230000
DTSTAMP:20260420T155334
CREATED:20240306T142519Z
LAST-MODIFIED:20240306T142519Z
UID:20954-1711215000-1711234800@swf.sk.ca
SUMMARY:Swift Current Wildlife Federation 31st Annual Fundraiser Banquet
DESCRIPTION:
URL:https://swf.sk.ca/event/swift-current-wildlife-federation-31st-annual-fundraiser-banquet/
END:VEVENT
BEGIN:VEVENT
DTSTART;VALUE=DATE:20240406
DTEND;VALUE=DATE:20240407
DTSTAMP:20260420T155334
CREATED:20240108T175147Z
LAST-MODIFIED:20240108T175959Z
UID:20314-1712361600-1712447999@swf.sk.ca
SUMMARY:Moose Mountain Wildlife Federation 20th Annual Fundraiser Dinner & Auction
DESCRIPTION:
URL:https://swf.sk.ca/event/moose-mountain-wildlife-federation-20th-annual-fundraiser-dinner-auction/
END:VEVENT
BEGIN:VEVENT
DTSTART;VALUE=DATE:20240406
DTEND;VALUE=DATE:20240407
DTSTAMP:20260420T155334
CREATED:20240209T150351Z
LAST-MODIFIED:20240209T150351Z
UID:20611-1712361600-1712447999@swf.sk.ca
SUMMARY:Alvin Long Memorial Dinner and Awards Night
DESCRIPTION:Alvin Long Memorial Dinner and Awards Night – Central Butte Wildlife Federation
URL:https://swf.sk.ca/event/alvin-long-memorial-dinner-and-awards-night/
END:VEVENT
BEGIN:VEVENT
DTSTART;VALUE=DATE:20240406
DTEND;VALUE=DATE:20240407
DTSTAMP:20260420T155334
CREATED:20240301T161148Z
LAST-MODIFIED:20240301T161148Z
UID:20890-1712361600-1712447999@swf.sk.ca
SUMMARY:Estevan Wildlife Federation Fundraiser Dinner & Auction
DESCRIPTION:
URL:https://swf.sk.ca/event/estevan-wildlife-federation-fundraiser-dinner-auction/
END:VEVENT
BEGIN:VEVENT
DTSTART;TZID=America/Regina:20240406T173000
DTEND;TZID=America/Regina:20240406T233000
DTSTAMP:20260420T155334
CREATED:20240109T203340Z
LAST-MODIFIED:20240109T203340Z
UID:20323-1712424600-1712446200@swf.sk.ca
SUMMARY:Shaunavon Wildlife Federation Awards and Banquet
DESCRIPTION:at the Cresent Point Wickenheiser Centre. \nFor tickets\, email Tyler at Allemandcattle@gmail.com or call (306) 297-8558 \n 
URL:https://swf.sk.ca/event/shaunavon-wildlife-federation-awards-and-banquet/
END:VEVENT
BEGIN:VEVENT
DTSTART;TZID=America/Regina:20240409T183000
DTEND;TZID=America/Regina:20240409T203000
DTSTAMP:20260420T155334
CREATED:20240319T193739Z
LAST-MODIFIED:20240319T193739Z
UID:21083-1712687400-1712694600@swf.sk.ca
SUMMARY:Region 4 Spring Regional Meeting
DESCRIPTION:
URL:https://swf.sk.ca/event/region-4-spring-regional-meeting-2/
END:VEVENT
BEGIN:VEVENT
DTSTART;TZID=America/Regina:20240410T183000
DTEND;TZID=America/Regina:20240410T203000
DTSTAMP:20260420T155334
CREATED:20240319T193827Z
LAST-MODIFIED:20240319T193827Z
UID:21085-1712773800-1712781000@swf.sk.ca
SUMMARY:Region 6 Spring Regional Meeting
DESCRIPTION:
URL:https://swf.sk.ca/event/region-6-spring-regional-meeting-2/
END:VEVENT
BEGIN:VEVENT
DTSTART;TZID=America/Regina:20240411T183000
DTEND;TZID=America/Regina:20240411T203000
DTSTAMP:20260420T155334
CREATED:20240319T193804Z
LAST-MODIFIED:20240319T193804Z
UID:21084-1712860200-1712867400@swf.sk.ca
SUMMARY:Region 5 Spring Regional Meeting
DESCRIPTION:
URL:https://swf.sk.ca/event/region-5-spring-regional-meeting-2/
END:VEVENT
BEGIN:VEVENT
DTSTART;TZID=America/Regina:20240412T170000
DTEND;TZID=America/Regina:20240412T170000
DTSTAMP:20260420T155334
CREATED:20240213T220946Z
LAST-MODIFIED:20240213T220946Z
UID:20647-1712941200-1712941200@swf.sk.ca
SUMMARY:Humboldt Wildlife Federation Awards Banquet
DESCRIPTION:at the Pioneer Room
URL:https://swf.sk.ca/event/humboldt-wildlife-federation-awards-banquet/
END:VEVENT
BEGIN:VEVENT
DTSTART;VALUE=DATE:20240413
DTEND;VALUE=DATE:20240414
DTSTAMP:20260420T155334
CREATED:20231013T144528Z
LAST-MODIFIED:20231013T144528Z
UID:19797-1712966400-1713052799@swf.sk.ca
SUMMARY:Fred Garner Memorial Banquet and Trophy Night
DESCRIPTION:
URL:https://swf.sk.ca/event/fred-garner-memorial-banquet-and-trophy-night-3/
END:VEVENT
BEGIN:VEVENT
DTSTART;VALUE=DATE:20240413
DTEND;VALUE=DATE:20240414
DTSTAMP:20260420T155334
CREATED:20231205T181637Z
LAST-MODIFIED:20231205T181637Z
UID:20004-1712966400-1713052799@swf.sk.ca
SUMMARY:Weyburn Wildlife Federation Fred Garner Memorial Banquet & Trophy Night
DESCRIPTION:
URL:https://swf.sk.ca/event/weyburn-wildlife-federation-fred-garner-memorial-banquet-trophy-night/
END:VEVENT
BEGIN:VEVENT
DTSTART;VALUE=DATE:20240413
DTEND;VALUE=DATE:20240414
DTSTAMP:20260420T155334
CREATED:20231212T154335Z
LAST-MODIFIED:20231212T154335Z
UID:20063-1712966400-1713052799@swf.sk.ca
SUMMARY:Save-A-Goose Wildlife Federation 2024 Trophy Night
DESCRIPTION:Odessa\, SK
URL:https://swf.sk.ca/event/save-a-goose-wildlife-federation-2024-trophy-night/
END:VEVENT
BEGIN:VEVENT
DTSTART;VALUE=DATE:20240413
DTEND;VALUE=DATE:20240414
DTSTAMP:20260420T155334
CREATED:20240108T175025Z
LAST-MODIFIED:20240108T175025Z
UID:20313-1712966400-1713052799@swf.sk.ca
SUMMARY:Redberry Wildlife Federation Fish Fry Supper
DESCRIPTION:at Hafford\, SK
URL:https://swf.sk.ca/event/redberry-wildlife-federation-fish-fry-supper/
END:VEVENT
BEGIN:VEVENT
DTSTART;VALUE=DATE:20240413
DTEND;VALUE=DATE:20240414
DTSTAMP:20260420T155334
CREATED:20240301T221455Z
LAST-MODIFIED:20240306T142231Z
UID:20906-1712966400-1713052799@swf.sk.ca
SUMMARY:2023 Provincial Angling & Henry Kelsey Big Game Awards Banquet
DESCRIPTION:  \nHotels in Nipawin for April 12&13\, 2024 \n\nGreen Groves Motel: Corey 306-862-4633\n\n\nSingle Room with small fridge\, Microwave\, and coffee pot\, $90.00 plus tax per night.\n\n\nKingfisher Inn-Jennifer 306-862-9801\n\n\nSingle Room $88 plus Tax\n1 Queen or 2 Queen beds\, up to 4 people in a room\, after that\, $20.00 per person $88.00 plus tax\nQueen with outside Access $ 98 plus tax\nKing Suit with Jacuzzi tub (1 only) $158.00 plus tax.\nContinental breakfast available at front.\n\n\nNipawin Motor Inn 306-862-3911\n\n\nSingle Bed $75.00 plus tax per night\nDouble bed $85.00 plus tax per night\nSingle bed with full kitchen $89.00 plus tax per night\nDouble room with Full kitchen $99.00 plus per night\n\n\nNorthern Greens 306-862-2686\n\n\n2 Queen beds $139.oo plus tax.\n\n\nTobin Lake 306-862-4811\n\n\nCraig & Rena Sutherland 306-951-7460\n\n\n3 locations\nBrian’s Place 4 bedrooms plus 2 bathrooms $182.00 per night\nLodge\, Log home with 4 bedrooms and 2.5 bedrooms $280.00 per night\n\n\nReel’Em Inn Cabins 306-862-4544\n\n\n2 Bedroom units $160.00 per night. Includes double bunk beds and Hide-a-bed\, microwave\, AC and Propane Gas BBQ\n2 Double bunk beds and 2 hide-a beds $185.00 per night. Includes TV\, microwave\, full bath\, and BBQ
URL:https://swf.sk.ca/event/provincial-angling-henry-kelsey-big-game-awards-banquet/
END:VEVENT
BEGIN:VEVENT
DTSTART;VALUE=DATE:20240413
DTEND;VALUE=DATE:20240414
DTSTAMP:20260420T155334
CREATED:20240311T144354Z
LAST-MODIFIED:20240311T144354Z
UID:20997-1712966400-1713052799@swf.sk.ca
SUMMARY:Kamsack Wildlife Federation Banquet and Awards
DESCRIPTION:
URL:https://swf.sk.ca/event/kamsack-wildlife-federation-banquet-and-awards/
END:VEVENT
BEGIN:VEVENT
DTSTART;TZID=America/Regina:20240413T160000
DTEND;TZID=America/Regina:20240413T233000
DTSTAMP:20260420T155334
CREATED:20240319T153210Z
LAST-MODIFIED:20240319T153210Z
UID:21075-1713024000-1713051000@swf.sk.ca
SUMMARY:Battlefords Wildlife Federation 76th Annual Smoker
DESCRIPTION:
URL:https://swf.sk.ca/event/battlefords-wildlife-federation-76th-annual-smoker/
END:VEVENT
BEGIN:VEVENT
DTSTART;TZID=America/Regina:20240413T180000
DTEND;TZID=America/Regina:20240413T220000
DTSTAMP:20260420T155334
CREATED:20231108T215529Z
LAST-MODIFIED:20240125T192314Z
UID:19898-1713031200-1713045600@swf.sk.ca
SUMMARY:Valley Trails Wild Game Awards Banquet & Fundraiser
DESCRIPTION:Annual Wild Game Banquet at the Brian King Center in Warman\, SK. \nCome enjoy a great night of excellent food and comradery with fellow outdoor enthusiasts. Purchase tickets to win one of several big prize packages\, 50/50 tickets\, and have fun bidding on the silent or live auction items! \nFunds raised go towards supporting Valley Trails and the SWF programs. \nAwards presentations for largest fish & game categories from 2023.Door prizes \nAwesome prize packages \nEntertainment \nExcellent catered meal as well as potluck wild game dishes for the tasting! \nDon’t miss supporting Valley Trails in this great local event. Email valleytrailswildlife@gmail.com for tickets
URL:https://swf.sk.ca/event/valley-trails-wild-game-awards-banquet-fundraiser/
END:VEVENT
END:VCALENDAR