BEGIN:VCALENDAR
VERSION:2.0
PRODID:-//Saskatchewan Wildlife Federation - ECPv6.15.13.1//NONSGML v1.0//EN
CALSCALE:GREGORIAN
METHOD:PUBLISH
X-WR-CALNAME:Saskatchewan Wildlife Federation
X-ORIGINAL-URL:https://swf.sk.ca
X-WR-CALDESC:Events for Saskatchewan Wildlife Federation
REFRESH-INTERVAL;VALUE=DURATION:PT1H
X-Robots-Tag:noindex
X-PUBLISHED-TTL:PT1H
BEGIN:VTIMEZONE
TZID:America/Regina
BEGIN:STANDARD
TZOFFSETFROM:-0600
TZOFFSETTO:-0600
TZNAME:CST
DTSTART:20170101T000000
END:STANDARD
END:VTIMEZONE
BEGIN:VEVENT
DTSTART;VALUE=DATE:20180616
DTEND;VALUE=DATE:20180617
DTSTAMP:20260423T212336
CREATED:20180226T215659Z
LAST-MODIFIED:20180226T215659Z
UID:11573-1529107200-1529193599@swf.sk.ca
SUMMARY:Yorkton WF Suns Out Guns Out - Habitat Fundraiser
DESCRIPTION:
URL:https://swf.sk.ca/event/yorkton-wf-suns-out-guns-out-habitat-fundraiser/
END:VEVENT
BEGIN:VEVENT
DTSTART;TZID=America/Regina:20180428T170000
DTEND;TZID=America/Regina:20180428T230000
DTSTAMP:20260423T212336
CREATED:20180227T173906Z
LAST-MODIFIED:20180227T173906Z
UID:11585-1524934800-1524956400@swf.sk.ca
SUMMARY:Fred Garner Memorial Banquet and Trophy Night
DESCRIPTION:Contact Tim Kerslake \n306-861-6985
URL:https://swf.sk.ca/event/fred-garner-memorial-banquet-and-trophy-night-2/
LOCATION:Cugnet Center\, 629 King St\, Weyburn\, Saskatchewan\, S4H 0P7\, Canada
END:VEVENT
BEGIN:VEVENT
DTSTART;VALUE=DATE:20180428
DTEND;VALUE=DATE:20180429
DTSTAMP:20260423T212336
CREATED:20180305T174112Z
LAST-MODIFIED:20180305T174112Z
UID:11598-1524873600-1524959999@swf.sk.ca
SUMMARY:Region 2 Spring Meeting
DESCRIPTION:Lloydminster
URL:https://swf.sk.ca/event/region-2-spring-meeting-3/
END:VEVENT
BEGIN:VEVENT
DTSTART;VALUE=DATE:20180422
DTEND;VALUE=DATE:20180423
DTSTAMP:20260423T212336
CREATED:20180226T220722Z
LAST-MODIFIED:20180305T173938Z
UID:11576-1524355200-1524441599@swf.sk.ca
SUMMARY:Region Four Spring Meeting
DESCRIPTION:WEYBURN\, SK
URL:https://swf.sk.ca/event/region-one-spring-meeting/
END:VEVENT
BEGIN:VEVENT
DTSTART;TZID=America/Regina:20180421T180000
DTEND;TZID=America/Regina:20180421T180000
DTSTAMP:20260423T212336
CREATED:20170901T210323Z
LAST-MODIFIED:20180405T215416Z
UID:11332-1524333600-1524333600@swf.sk.ca
SUMMARY:SWF Angling & HK Big Game Awards Banquet
DESCRIPTION:Reception 6:00 pm \nBanquet 7:00 pm \n 
URL:https://swf.sk.ca/event/swf-angling-hk-big-game-awards-banquet/
LOCATION:Cugnet Center\, 629 King St\, Weyburn\, Saskatchewan\, S4H 0P7\, Canada
END:VEVENT
BEGIN:VEVENT
DTSTART;TZID=America/Regina:20180414T180000
DTEND;TZID=America/Regina:20180414T220000
DTSTAMP:20260423T212336
CREATED:20180226T220322Z
LAST-MODIFIED:20180226T220322Z
UID:11575-1523728800-1523743200@swf.sk.ca
SUMMARY:Valley Trails WF Wild Game & Awards Banquet
DESCRIPTION:Contact Andrew Hildbrandt \n306-220-5132 \nFamily Friendly Wild Game Banquet\nFish & Big Game Awards presentation\nBig Prize tickets\, raffle tickets\, door prizes\nGuest Speaker or Entertainment
URL:https://swf.sk.ca/event/valley-trails-wf-wild-game-awards-banquet/
LOCATION:Brian King Centre\, 202 8th Ave N\, Warman\, Saskatchewan\, S0K 4S0\, Canada
END:VEVENT
BEGIN:VEVENT
DTSTART;VALUE=DATE:20180414
DTEND;VALUE=DATE:20180415
DTSTAMP:20260423T212336
CREATED:20180305T173803Z
LAST-MODIFIED:20180305T173803Z
UID:11596-1523664000-1523750399@swf.sk.ca
SUMMARY:Region 1 Spring Meeting
DESCRIPTION:
URL:https://swf.sk.ca/event/region-1-spring-meeting-2/
LOCATION:Nipawin Fish & Game Memorial Hall\, Regional Park\, Nipawin\, saskatchewan\, Canada
END:VEVENT
BEGIN:VEVENT
DTSTART;VALUE=DATE:20180414
DTEND;VALUE=DATE:20180416
DTSTAMP:20260423T212336
CREATED:20180226T221129Z
LAST-MODIFIED:20180226T221129Z
UID:11577-1523664000-1523836799@swf.sk.ca
SUMMARY:2018 Parkland Outdoor Show and Expo
DESCRIPTION:If you have any questions please call Darren Wandy at 306-521-0429 or email parklandoutdoorshow@hotmail.com2018 POSE Poster November14 (1)
URL:https://swf.sk.ca/event/2018-parkland-outdoor-show-and-expo/
END:VEVENT
BEGIN:VEVENT
DTSTART;VALUE=DATE:20180414
DTEND;VALUE=DATE:20180415
DTSTAMP:20260423T212336
CREATED:20171120T163424Z
LAST-MODIFIED:20171120T163424Z
UID:11453-1523664000-1523750399@swf.sk.ca
SUMMARY:Porcupine WF Banquet
DESCRIPTION:Location Porcupine Community Hall
URL:https://swf.sk.ca/event/porcupine-wf-banquet-2/
END:VEVENT
BEGIN:VEVENT
DTSTART;VALUE=DATE:20180408
DTEND;VALUE=DATE:20180409
DTSTAMP:20260423T212336
CREATED:20180305T173648Z
LAST-MODIFIED:20180305T173648Z
UID:11595-1523145600-1523231999@swf.sk.ca
SUMMARY:Region 6 Spring Meeting
DESCRIPTION:
URL:https://swf.sk.ca/event/region-6-spring-meeting-3/
LOCATION:K Motel\, 2225 North Service Rd W\, Swift Current\, Saskatchewan\, S9h 5l1\, Canada
END:VEVENT
BEGIN:VEVENT
DTSTART;VALUE=DATE:20180408
DTEND;VALUE=DATE:20180409
DTSTAMP:20260423T212336
CREATED:20171020T214106Z
LAST-MODIFIED:20180305T173550Z
UID:11408-1523145600-1523231999@swf.sk.ca
SUMMARY:Region 3 Spring Meeting
DESCRIPTION:Contact Ken Somogyi \n306-730-6671
URL:https://swf.sk.ca/event/region-3-spring-meeting/
LOCATION:Dubuc Hall\, S0A 0R0
END:VEVENT
BEGIN:VEVENT
DTSTART;TZID=America/Regina:20180407T173000
DTEND;TZID=America/Regina:20180407T173000
DTSTAMP:20260423T212336
CREATED:20180226T215322Z
LAST-MODIFIED:20180227T133049Z
UID:11570-1523122200-1523122200@swf.sk.ca
SUMMARY:Preeceville WF Annual Awards Banquet
DESCRIPTION:Contact Heather or Greg Gawrelitza \n306-547-2910 \nor \nOwen Myhr \n306-547-7506 \nCan see more about our club on Facebook under Preeceville Wildlife Club \nMust have advanced tickets for supper\, can pay later to just attend the dance.
URL:https://swf.sk.ca/event/preeceville-wf-annual-awards-banquet/
LOCATION:Preeceville Community Hall\, 218 Main Street\, Preeceville\, Saskatchewan\, S0A 3B0\, Canada
END:VEVENT
BEGIN:VEVENT
DTSTART;TZID=America/Regina:20180407T170000
DTEND;TZID=America/Regina:20180407T170000
DTSTAMP:20260423T212336
CREATED:20180405T205228Z
LAST-MODIFIED:20180405T205228Z
UID:11648-1523120400-1523120400@swf.sk.ca
SUMMARY:East Shore WF Spring Banquet
DESCRIPTION:CONTACT: \nJason Bleau 306-533-9497 \nOr \nRay Wild – 306-731-7027\nMurray Wild – 306-731-3213\nNola Schulz – 306-725-7113 \n 
URL:https://swf.sk.ca/event/east-shore-wf-spring-banquet/
LOCATION:Strasbourg Memorial Hall\, 113 Pearson Street\, Strasbourg\, Saskatchewan\, S0G 4V0\, Canada
END:VEVENT
BEGIN:VEVENT
DTSTART;VALUE=DATE:20180407
DTEND;VALUE=DATE:20180408
DTSTAMP:20260423T212336
CREATED:20180305T173414Z
LAST-MODIFIED:20180305T173414Z
UID:11594-1523059200-1523145599@swf.sk.ca
SUMMARY:Region 5 Spring Meeting
DESCRIPTION:ASQUITH\, SK
URL:https://swf.sk.ca/event/region-5-spring-meeting-2/
END:VEVENT
BEGIN:VEVENT
DTSTART;VALUE=DATE:20180407
DTEND;VALUE=DATE:20180409
DTSTAMP:20260423T212336
CREATED:20180226T222227Z
LAST-MODIFIED:20180226T222227Z
UID:11582-1523059200-1523231999@swf.sk.ca
SUMMARY:1st Annual Trigger Talk Gunshow
DESCRIPTION:Setup – Friday April 6\, 2018 – 12pm to 10pm\nShow – Saturday April 7\, 2018 – 10am to 5pm\nShow – Sunday April 8\, 2018 – 10am to 4pm\nAdmission is $10/person\, $15/couple\, 12 and under free with an adult\nTables $75 each\nUp to 260 – 8ft tables available\nFree Parking\nLocation is the Callie Curling Club – 2225 Sandra Schmirler Way (By the Regina Airport) \n  \nContact Alan McEachern \n306-536-2381
URL:https://swf.sk.ca/event/1st-annual-trigger-talk-gunshow/
LOCATION:Callie Curling Club\, 2225 Sandra Schmirler Way\, Regina\, Saskatchewan\, Canada
END:VEVENT
BEGIN:VEVENT
DTSTART;TZID=America/Regina:20180324T160000
DTEND;TZID=America/Regina:20180324T160000
DTSTAMP:20260423T212336
CREATED:20180226T215847Z
LAST-MODIFIED:20180319T222302Z
UID:11574-1521907200-1521907200@swf.sk.ca
SUMMARY:Rosetown WF Annual Awards/Fish Fry
DESCRIPTION:Rosetown Elk Hall on Hwy 4 North \nSilent Auction after Supper \n  \nContact: Travis Davis  306-831-6070
URL:https://swf.sk.ca/event/rosetown-wf-annual-awards-fish-fry/
END:VEVENT
BEGIN:VEVENT
DTSTART;VALUE=DATE:20180324
DTEND;VALUE=DATE:20180325
DTSTAMP:20260423T212337
CREATED:20171020T215912Z
LAST-MODIFIED:20171020T215912Z
UID:11410-1521849600-1521935999@swf.sk.ca
SUMMARY:Willowbrook WF Annual Awards Banquet
DESCRIPTION:More Information to come
URL:https://swf.sk.ca/event/willowbrook-wf-annual-awards-banquet/
END:VEVENT
BEGIN:VEVENT
DTSTART;TZID=America/Regina:20180317T183000
DTEND;TZID=America/Regina:20180317T183000
DTSTAMP:20260423T212337
CREATED:20180226T213847Z
LAST-MODIFIED:20180226T213907Z
UID:11568-1521311400-1521311400@swf.sk.ca
SUMMARY:Loon Creek WF Banquet/FR/Awards
DESCRIPTION:
URL:https://swf.sk.ca/event/loon-creek-wf-banquet-fr-awards/
LOCATION:Southey\, Southey\, Saskatchewan\, S0G 4P0\, Canada
END:VEVENT
BEGIN:VEVENT
DTSTART;VALUE=DATE:20180317
DTEND;VALUE=DATE:20180318
DTSTAMP:20260423T212337
CREATED:20180227T191700Z
LAST-MODIFIED:20180227T191700Z
UID:11588-1521244800-1521331199@swf.sk.ca
SUMMARY:Eagle Creek WF Banquet/FR
DESCRIPTION:Tickets $25 \nYouth(7-14)$10 \nSupper 6:30. \nDance 9:00. \nCatered by “Perdue Arena Rebuild” \nMusic The Band Wagon. \n  \nContact \n306-329-4766
URL:https://swf.sk.ca/event/eagle-creek-wf-banquet-fr/
LOCATION:Perdue Complex\, Perdue\, Saskatchewan\, S0K 3C0\, Canada
END:VEVENT
BEGIN:VEVENT
DTSTART;VALUE=DATE:20180317
DTEND;VALUE=DATE:20180318
DTSTAMP:20260423T212337
CREATED:20180226T215556Z
LAST-MODIFIED:20180226T215556Z
UID:11572-1521244800-1521331199@swf.sk.ca
SUMMARY:Yorkton WF Awards/FR Banquet
DESCRIPTION:
URL:https://swf.sk.ca/event/yorkton-wf-awards-fr-banquet/
END:VEVENT
BEGIN:VEVENT
DTSTART;VALUE=DATE:20180316
DTEND;VALUE=DATE:20180317
DTSTAMP:20260423T212337
CREATED:20171120T162218Z
LAST-MODIFIED:20180226T221748Z
UID:11449-1521158400-1521244799@swf.sk.ca
SUMMARY:Humboldt WF Awards Night & Fish Fry
DESCRIPTION:Location St. Augustine Parish Hall
URL:https://swf.sk.ca/event/humboldt-wf-awards-night-fish-fry/
LOCATION:St. Augustine Parish Hall\, 809 10 St\, Humboldt\, Saskatchewan\, S0K 2A1\, Canada
END:VEVENT
BEGIN:VEVENT
DTSTART;TZID=America/Regina:20180313T080000
DTEND;TZID=America/Regina:20180313T170000
DTSTAMP:20260423T212337
CREATED:20180314T145927Z
LAST-MODIFIED:20180314T145927Z
UID:11616-1520928000-1520960400@swf.sk.ca
SUMMARY:Kyle WF Indoor 3D Archery Shoot
DESCRIPTION:10:00 AM \nContact David Lewis \n306-375-7443
URL:https://swf.sk.ca/event/kyle-wf-indoor-3d-archery-shoot/
END:VEVENT
BEGIN:VEVENT
DTSTART;TZID=America/Regina:20180310T173000
DTEND;TZID=America/Regina:20180310T173000
DTSTAMP:20260423T212337
CREATED:20180227T174407Z
LAST-MODIFIED:20180227T174407Z
UID:11586-1520703000-1520703000@swf.sk.ca
SUMMARY:Meville F&G League Banquet & F/R
DESCRIPTION:Contact Ken Somogyi \n306-728-2244
URL:https://swf.sk.ca/event/meville-fg-league-banquet-f-r/
LOCATION:Horizon Credit Union Center\, 575 2nd Ave. W\, Melville\, Saskatchewan\, S0A 2P0\, Canada
END:VEVENT
BEGIN:VEVENT
DTSTART;VALUE=DATE:20180303
DTEND;VALUE=DATE:20180304
DTSTAMP:20260423T212337
CREATED:20180227T174614Z
LAST-MODIFIED:20180227T174614Z
UID:11587-1520035200-1520121599@swf.sk.ca
SUMMARY:Esterhazy WF Awards/FR
DESCRIPTION:
URL:https://swf.sk.ca/event/esterhazy-wf-awards-fr/
LOCATION:S.N. Boreen Centre\, 800 - 4th Avenue\, Esterhazy\, Saskatchewan\, S0A 0X0\, Canada
END:VEVENT
BEGIN:VEVENT
DTSTART;TZID=America/Regina:20180224T173000
DTEND;TZID=America/Regina:20180224T173000
DTSTAMP:20260423T212337
CREATED:20180226T213141Z
LAST-MODIFIED:20180226T213141Z
UID:11567-1519493400-1519493400@swf.sk.ca
SUMMARY:Nipawin F/G Annual Awards Night & FR
DESCRIPTION:HAPPY HOUR 5:30 \nSUPPER 6:30 \nAWARDS AND FUNDRAISER TO FOLLOW
URL:https://swf.sk.ca/event/nipawin-f-g-annual-awards-night-fr/
LOCATION:Nipawin Fish & Game Memorial Hall\, Regional Park\, Nipawin\, saskatchewan\, Canada
END:VEVENT
BEGIN:VEVENT
DTSTART;VALUE=DATE:20180208
DTEND;VALUE=DATE:20180211
DTSTAMP:20260423T212337
CREATED:20180205T192339Z
LAST-MODIFIED:20180205T192339Z
UID:11523-1518048000-1518307199@swf.sk.ca
SUMMARY:89th Annual Convention
DESCRIPTION:
URL:https://swf.sk.ca/event/89th-annual-convention/
LOCATION:Prince Albert Exhibition Centre\, Exhibition Driver & 6th Ave E\, Prince Albert\, Saskatchewan\, S6V 2K6\, Canada
END:VEVENT
BEGIN:VEVENT
DTSTART;VALUE=DATE:20180203
DTEND;VALUE=DATE:20180204
DTSTAMP:20260423T212337
CREATED:20171020T205957Z
LAST-MODIFIED:20171020T210405Z
UID:11406-1517616000-1517702399@swf.sk.ca
SUMMARY:Outlook & District Annual Awards Banquet
DESCRIPTION:Come support our annual fundraiser!!!!  Tickets will be pre-sold at the Outlook Locker Plant.  Check out our Facebook page  www.facebook.com/outlookwf  for up to date information! \n  \nFeb 3  starting 5:00 \nContact Brent – 306-867-4445
URL:https://swf.sk.ca/event/outlook-district-annual-awards-banquet/
LOCATION:Outlook Civic Centre\, Semple St\, Outlook\, Saskatchewan\, S0L 2N0\, Canada
END:VEVENT
BEGIN:VEVENT
DTSTART;VALUE=DATE:20180203
DTEND;VALUE=DATE:20180204
DTSTAMP:20260423T212337
CREATED:20171116T195642Z
LAST-MODIFIED:20171116T195642Z
UID:11434-1517616000-1517702399@swf.sk.ca
SUMMARY:Valley View WF Annual Awards F/R Banquet
DESCRIPTION:
URL:https://swf.sk.ca/event/valley-view-wf-annual-awards-fr-banquet/
LOCATION:Dubuc Hall\, S0A 0R0
END:VEVENT
BEGIN:VEVENT
DTSTART;VALUE=DATE:20180201
DTEND;VALUE=DATE:20180202
DTSTAMP:20260423T212337
CREATED:20171116T214851Z
LAST-MODIFIED:20171116T214851Z
UID:11445-1517443200-1517529599@swf.sk.ca
SUMMARY:Kyle F&G Banquet and Awards
DESCRIPTION:
URL:https://swf.sk.ca/event/kyle-fg-banquet-and-awards/
LOCATION:Kyle Elks Hall\, Kyle\, S0L 1T0
END:VEVENT
BEGIN:VEVENT
DTSTART;TZID=America/Regina:20180120T173000
DTEND;TZID=America/Regina:20180120T173000
DTSTAMP:20260423T212337
CREATED:20171129T135925Z
LAST-MODIFIED:20171129T135925Z
UID:11462-1516469400-1516469400@swf.sk.ca
SUMMARY:Kerrobert WF Awards Banquet
DESCRIPTION:Contact : Wes Ternes 834-7835
URL:https://swf.sk.ca/event/kerrobert-wf-awards-banquet/
LOCATION:PCC Hall\, Kerrbert\, S0L 1R0
END:VEVENT
END:VCALENDAR