BEGIN:VCALENDAR
VERSION:2.0
PRODID:-//Saskatchewan Wildlife Federation - ECPv6.15.13.1//NONSGML v1.0//EN
CALSCALE:GREGORIAN
METHOD:PUBLISH
X-WR-CALNAME:Saskatchewan Wildlife Federation
X-ORIGINAL-URL:https://swf.sk.ca
X-WR-CALDESC:Events for Saskatchewan Wildlife Federation
REFRESH-INTERVAL;VALUE=DURATION:PT1H
X-Robots-Tag:noindex
X-PUBLISHED-TTL:PT1H
BEGIN:VTIMEZONE
TZID:America/Regina
BEGIN:STANDARD
TZOFFSETFROM:-0600
TZOFFSETTO:-0600
TZNAME:CST
DTSTART:20170101T000000
END:STANDARD
END:VTIMEZONE
BEGIN:VEVENT
DTSTART;TZID=America/Regina:20190109T190000
DTEND;TZID=America/Regina:20190109T190000
DTSTAMP:20260423T144944
CREATED:20190108T185717Z
LAST-MODIFIED:20190108T185717Z
UID:11969-1547060400-1547060400@swf.sk.ca
SUMMARY:Canora / River Ridge Meeting
DESCRIPTION:Executive positions on the board need to be filled.
URL:https://swf.sk.ca/event/canora-river-ridge-meeting/
END:VEVENT
BEGIN:VEVENT
DTSTART;TZID=America/Regina:20181230T120000
DTEND;TZID=America/Regina:20181230T150000
DTSTAMP:20260423T144944
CREATED:20181114T164621Z
LAST-MODIFIED:20181114T165008Z
UID:11885-1546171200-1546182000@swf.sk.ca
SUMMARY:Scott Wozniak Memorial Ice Fishing Derby
DESCRIPTION:(off the Revoy Marina)
URL:https://swf.sk.ca/event/scott-wozniak-memorial-ice-fishing-derby/
LOCATION:Barrier Lake\, No 397\, Saskatchewan\, S0E 0B0\, Canada
END:VEVENT
BEGIN:VEVENT
DTSTART;TZID=America/Regina:20181215T150000
DTEND;TZID=America/Regina:20181215T170000
DTSTAMP:20260423T144944
CREATED:20181123T165321Z
LAST-MODIFIED:20181126T181631Z
UID:11920-1544886000-1544893200@swf.sk.ca
SUMMARY:Willowbrook Wildlife Horn Score
DESCRIPTION:Food and Beverages available – Everyone Welcome – Henry Kelsey/Boone & Crockett Scorer will be present – Raffle of a .22
URL:https://swf.sk.ca/event/willowbrook-wildlife-horn-score/
LOCATION:Willowbrook Rec Center\, Willowbrook\, Saskatchewan\, S0A 4P0\, Canada
END:VEVENT
BEGIN:VEVENT
DTSTART;TZID=America/Regina:20181212T173000
DTEND;TZID=America/Regina:20181212T173000
DTSTAMP:20260423T144944
CREATED:20181114T150046Z
LAST-MODIFIED:20181114T151255Z
UID:11876-1544635800-1544635800@swf.sk.ca
SUMMARY:Creighton WF Horn Measuring Night
DESCRIPTION:Henry Kelsey / Boone & Crockett Horn Scoring Official will be present \n 
URL:https://swf.sk.ca/event/creighton-wf-horn-measuring-night/
LOCATION:Centennial Building\, 401 Main St\, Creighton\, Saskatchewan\, S0P 0A0\, Canada
ORGANIZER;CN="Colin Woods":MAILTO:saskwild.creighton@gmail.com
END:VEVENT
BEGIN:VEVENT
DTSTART;TZID=America/Regina:20181211T190000
DTEND;TZID=America/Regina:20181211T190000
DTSTAMP:20260423T144944
CREATED:20181114T150858Z
LAST-MODIFIED:20181114T151959Z
UID:11878-1544554800-1544554800@swf.sk.ca
SUMMARY:Creighton Branch Winter Meeting
DESCRIPTION:Meetings are open to the public.\nPlease come out and see what the branch has to offer.\nLike us on Facebook: Saskatchewan Wildlife Federation Creighton Branch
URL:https://swf.sk.ca/event/creighton-branch-winter-meeting/
LOCATION:Centennial Building\, 401 Main St\, Creighton\, Saskatchewan\, S0P 0A0\, Canada
ORGANIZER;CN="Candi Gamache":MAILTO:saskwild.creighton@gmail.com
END:VEVENT
BEGIN:VEVENT
DTSTART;TZID=America/Regina:20181211T170000
DTEND;TZID=America/Regina:20181211T200000
DTSTAMP:20260423T144944
CREATED:20181108T210715Z
LAST-MODIFIED:20181108T210936Z
UID:11868-1544547600-1544558400@swf.sk.ca
SUMMARY:Melville Fish and Game Antler Scoring
DESCRIPTION:
URL:https://swf.sk.ca/event/melville-fish-and-game-antler-scoring/
LOCATION:Melville Community Works\, 800 Prince Edward St\, Melville\, Saskatchewan\, S0A 2P0\, Canada
END:VEVENT
BEGIN:VEVENT
DTSTART;TZID=America/Regina:20181210T130000
DTEND;TZID=America/Regina:20181210T150000
DTSTAMP:20260423T144944
CREATED:20181114T164114Z
LAST-MODIFIED:20181114T164212Z
UID:11882-1544446800-1544454000@swf.sk.ca
SUMMARY:Mallard WF Antler Judging
DESCRIPTION:
URL:https://swf.sk.ca/event/mallard-wf-antler-judging/
LOCATION:Yablonski Auto Body Shop\, 430 1st Ave S\, Wadena\, Saskatchewan\, S0A 4J0\, Canada
END:VEVENT
BEGIN:VEVENT
DTSTART;TZID=America/Regina:20181209T130000
DTEND;TZID=America/Regina:20181209T160000
DTSTAMP:20260423T144944
CREATED:20181116T203753Z
LAST-MODIFIED:20181116T203753Z
UID:11903-1544360400-1544371200@swf.sk.ca
SUMMARY:Grenfell WF Horn Measuring & Turkey Shot
DESCRIPTION:
URL:https://swf.sk.ca/event/grenfell-wf-horn-measuring-turkey-shot/
LOCATION:Grenfell Town Hall\, Grenfell\, Saskatchewan\, S0G 2B0\, Canada
END:VEVENT
BEGIN:VEVENT
DTSTART;VALUE=DATE:20181209
DTEND;VALUE=DATE:20181210
DTSTAMP:20260423T144944
CREATED:20181108T214611Z
LAST-MODIFIED:20181108T214639Z
UID:11869-1544313600-1544399999@swf.sk.ca
SUMMARY:Kyle Fish & Game Leaque Horn Measuring
DESCRIPTION:
URL:https://swf.sk.ca/event/kyle-fish-game-leaque-horn-measuring/
END:VEVENT
BEGIN:VEVENT
DTSTART;TZID=America/Regina:20181206T180000
DTEND;TZID=America/Regina:20181206T220000
DTSTAMP:20260423T144944
CREATED:20181015T201334Z
LAST-MODIFIED:20181015T201510Z
UID:11785-1544119200-1544133600@swf.sk.ca
SUMMARY:Yorkton WF Antler Measuring
DESCRIPTION:York Lake Regional Park is located a few kilometres south of Yorkton\, and is easily accessible from Highway 10 South\, and from Highways 9 and 16 by way of Queen Street.
URL:https://swf.sk.ca/event/yorkton-wf-antler-measuring/
LOCATION:Yorkton Gun Club\, York Lake Regional Park\, Saskatchewan\, Canada
END:VEVENT
BEGIN:VEVENT
DTSTART;VALUE=DATE:20181027
DTEND;VALUE=DATE:20181028
DTSTAMP:20260423T144944
CREATED:20180907T171446Z
LAST-MODIFIED:20180907T171446Z
UID:11759-1540598400-1540684799@swf.sk.ca
SUMMARY:Region 2 Fall Meeting
DESCRIPTION:Sponsored by Fielding Wildlife Federation
URL:https://swf.sk.ca/event/region-2-fall-meeting/
LOCATION:Maymount Hall\, Maymount\, Saskatchewan\, S0M 1T0\, Canada
END:VEVENT
BEGIN:VEVENT
DTSTART;VALUE=DATE:20181020
DTEND;VALUE=DATE:20181021
DTSTAMP:20260423T144944
CREATED:20180907T170054Z
LAST-MODIFIED:20180907T170054Z
UID:11755-1539993600-1540079999@swf.sk.ca
SUMMARY:Region 5 Fall Meeting
DESCRIPTION:
URL:https://swf.sk.ca/event/region-5-fall-meeting-2/
LOCATION:Harbor Golf Resort\, Elbow\, Saskatchewan\, S0H 1J0\, Canada
END:VEVENT
BEGIN:VEVENT
DTSTART;VALUE=DATE:20181020
DTEND;VALUE=DATE:20181021
DTSTAMP:20260423T144944
CREATED:20180815T210557Z
LAST-MODIFIED:20180906T222952Z
UID:11743-1539993600-1540079999@swf.sk.ca
SUMMARY:2018 Region 3 Fall Meeting
DESCRIPTION:Ken Somogyi   306-730-6671\,  306-728-2244 \nScott Brown    306-728-7649
URL:https://swf.sk.ca/event/2018-region-fall-meeting/
LOCATION:Melville Community Works\, 800 Prince Edward Street\, Melville\, Saskatchewan\, S0A 2P0\, Canada
END:VEVENT
BEGIN:VEVENT
DTSTART;VALUE=DATE:20181014
DTEND;VALUE=DATE:20181015
DTSTAMP:20260423T144944
CREATED:20180906T223531Z
LAST-MODIFIED:20180906T223531Z
UID:11754-1539475200-1539561599@swf.sk.ca
SUMMARY:Region 6 Fall Meeting
DESCRIPTION:Moose Jaw Club House
URL:https://swf.sk.ca/event/region-6-fall-meeting-3/
END:VEVENT
BEGIN:VEVENT
DTSTART;VALUE=DATE:20181014
DTEND;VALUE=DATE:20181015
DTSTAMP:20260423T144944
CREATED:20181001T194635Z
LAST-MODIFIED:20181004T203021Z
UID:11776-1539475200-1539561599@swf.sk.ca
SUMMARY:Region 1 Fall Meeting
DESCRIPTION:Oct. 14 – 10:00 am \nCivic Centre at 901 100th St. \nAcross from the SGI Building.
URL:https://swf.sk.ca/event/region-1-fall-meeting-3/
LOCATION:Tisdale Civic Center\, 901 100 St\, Tisdale\, Tisdale\, Saskatchewan\, S0E 1T0\, Canada
END:VEVENT
BEGIN:VEVENT
DTSTART;VALUE=DATE:20181014
DTEND;VALUE=DATE:20181015
DTSTAMP:20260423T144944
CREATED:20180907T171142Z
LAST-MODIFIED:20180907T171142Z
UID:11756-1539475200-1539561599@swf.sk.ca
SUMMARY:Region 4 Fall Meeting
DESCRIPTION:Sponsored by Save A Goose
URL:https://swf.sk.ca/event/region-4-fall-meeting-3/
LOCATION:Montmartre Senior Hall\, Montmartre\, Saskatchewan\, S0G 3M0\, Canada
END:VEVENT
BEGIN:VEVENT
DTSTART;TZID=America/Regina:20181009T190000
DTEND;TZID=America/Regina:20181009T210000
DTSTAMP:20260423T144944
CREATED:20180910T214243Z
LAST-MODIFIED:20180917T185303Z
UID:11764-1539111600-1539118800@swf.sk.ca
SUMMARY:Creighton Fall Meeting
DESCRIPTION:4 Meetings held per year. Always looking for new members with fresh ideas.\nGun Range/ Bow Range available.\nBursary available to members.\nFind us on Facebook
URL:https://swf.sk.ca/event/creighton-fall-meeting/
END:VEVENT
BEGIN:VEVENT
DTSTART;VALUE=DATE:20180728
DTEND;VALUE=DATE:20180730
DTSTAMP:20260423T144944
CREATED:20180517T202521Z
LAST-MODIFIED:20180517T202715Z
UID:11674-1532736000-1532908799@swf.sk.ca
SUMMARY:Kyle 3D Archery Sheet
DESCRIPTION:
URL:https://swf.sk.ca/event/3d-archery-sheet/
END:VEVENT
BEGIN:VEVENT
DTSTART;VALUE=DATE:20180721
DTEND;VALUE=DATE:20180723
DTSTAMP:20260423T144944
CREATED:20180517T202405Z
LAST-MODIFIED:20180517T202405Z
UID:11673-1532131200-1532303999@swf.sk.ca
SUMMARY:Sask. Landing Walleye Tourney
DESCRIPTION:
URL:https://swf.sk.ca/event/sask-landing-walleye-tourney/
LOCATION:Sask. Landing Marina\, 1 Main\, Stewart Valley\, Saskatchewan\, S0N 2P0\, Canada
END:VEVENT
BEGIN:VEVENT
DTSTART;VALUE=DATE:20180623
DTEND;VALUE=DATE:20180624
DTSTAMP:20260423T144944
CREATED:20180425T200959Z
LAST-MODIFIED:20180425T201635Z
UID:11658-1529712000-1529798399@swf.sk.ca
SUMMARY:Loon Creek WF FR
DESCRIPTION:Held at the Southey Rink \nRibs & Beer \nCheck it out on the Loon Creek Face Book Page \n  \n 
URL:https://swf.sk.ca/event/loon-creek-wf-fr/
LOCATION:Southey\, Southey\, Saskatchewan\, S0G 4P0\, Canada
END:VEVENT
BEGIN:VEVENT
DTSTART;VALUE=DATE:20180616
DTEND;VALUE=DATE:20180617
DTSTAMP:20260423T144944
CREATED:20180226T215659Z
LAST-MODIFIED:20180226T215659Z
UID:11573-1529107200-1529193599@swf.sk.ca
SUMMARY:Yorkton WF Suns Out Guns Out - Habitat Fundraiser
DESCRIPTION:
URL:https://swf.sk.ca/event/yorkton-wf-suns-out-guns-out-habitat-fundraiser/
END:VEVENT
BEGIN:VEVENT
DTSTART;TZID=America/Regina:20180428T170000
DTEND;TZID=America/Regina:20180428T230000
DTSTAMP:20260423T144944
CREATED:20180227T173906Z
LAST-MODIFIED:20180227T173906Z
UID:11585-1524934800-1524956400@swf.sk.ca
SUMMARY:Fred Garner Memorial Banquet and Trophy Night
DESCRIPTION:Contact Tim Kerslake \n306-861-6985
URL:https://swf.sk.ca/event/fred-garner-memorial-banquet-and-trophy-night-2/
LOCATION:Cugnet Center\, 629 King St\, Weyburn\, Saskatchewan\, S4H 0P7\, Canada
END:VEVENT
BEGIN:VEVENT
DTSTART;VALUE=DATE:20180428
DTEND;VALUE=DATE:20180429
DTSTAMP:20260423T144944
CREATED:20180305T174112Z
LAST-MODIFIED:20180305T174112Z
UID:11598-1524873600-1524959999@swf.sk.ca
SUMMARY:Region 2 Spring Meeting
DESCRIPTION:Lloydminster
URL:https://swf.sk.ca/event/region-2-spring-meeting-3/
END:VEVENT
BEGIN:VEVENT
DTSTART;VALUE=DATE:20180422
DTEND;VALUE=DATE:20180423
DTSTAMP:20260423T144944
CREATED:20180226T220722Z
LAST-MODIFIED:20180305T173938Z
UID:11576-1524355200-1524441599@swf.sk.ca
SUMMARY:Region Four Spring Meeting
DESCRIPTION:WEYBURN\, SK
URL:https://swf.sk.ca/event/region-one-spring-meeting/
END:VEVENT
BEGIN:VEVENT
DTSTART;TZID=America/Regina:20180421T180000
DTEND;TZID=America/Regina:20180421T180000
DTSTAMP:20260423T144944
CREATED:20170901T210323Z
LAST-MODIFIED:20180405T215416Z
UID:11332-1524333600-1524333600@swf.sk.ca
SUMMARY:SWF Angling & HK Big Game Awards Banquet
DESCRIPTION:Reception 6:00 pm \nBanquet 7:00 pm \n 
URL:https://swf.sk.ca/event/swf-angling-hk-big-game-awards-banquet/
LOCATION:Cugnet Center\, 629 King St\, Weyburn\, Saskatchewan\, S4H 0P7\, Canada
END:VEVENT
BEGIN:VEVENT
DTSTART;TZID=America/Regina:20180414T180000
DTEND;TZID=America/Regina:20180414T220000
DTSTAMP:20260423T144944
CREATED:20180226T220322Z
LAST-MODIFIED:20180226T220322Z
UID:11575-1523728800-1523743200@swf.sk.ca
SUMMARY:Valley Trails WF Wild Game & Awards Banquet
DESCRIPTION:Contact Andrew Hildbrandt \n306-220-5132 \nFamily Friendly Wild Game Banquet\nFish & Big Game Awards presentation\nBig Prize tickets\, raffle tickets\, door prizes\nGuest Speaker or Entertainment
URL:https://swf.sk.ca/event/valley-trails-wf-wild-game-awards-banquet/
LOCATION:Brian King Centre\, 202 8th Ave N\, Warman\, Saskatchewan\, S0K 4S0\, Canada
END:VEVENT
BEGIN:VEVENT
DTSTART;VALUE=DATE:20180414
DTEND;VALUE=DATE:20180415
DTSTAMP:20260423T144944
CREATED:20180305T173803Z
LAST-MODIFIED:20180305T173803Z
UID:11596-1523664000-1523750399@swf.sk.ca
SUMMARY:Region 1 Spring Meeting
DESCRIPTION:
URL:https://swf.sk.ca/event/region-1-spring-meeting-2/
LOCATION:Nipawin Fish & Game Memorial Hall\, Regional Park\, Nipawin\, saskatchewan\, Canada
END:VEVENT
BEGIN:VEVENT
DTSTART;VALUE=DATE:20180414
DTEND;VALUE=DATE:20180416
DTSTAMP:20260423T144944
CREATED:20180226T221129Z
LAST-MODIFIED:20180226T221129Z
UID:11577-1523664000-1523836799@swf.sk.ca
SUMMARY:2018 Parkland Outdoor Show and Expo
DESCRIPTION:If you have any questions please call Darren Wandy at 306-521-0429 or email parklandoutdoorshow@hotmail.com2018 POSE Poster November14 (1)
URL:https://swf.sk.ca/event/2018-parkland-outdoor-show-and-expo/
END:VEVENT
BEGIN:VEVENT
DTSTART;VALUE=DATE:20180414
DTEND;VALUE=DATE:20180415
DTSTAMP:20260423T144944
CREATED:20171120T163424Z
LAST-MODIFIED:20171120T163424Z
UID:11453-1523664000-1523750399@swf.sk.ca
SUMMARY:Porcupine WF Banquet
DESCRIPTION:Location Porcupine Community Hall
URL:https://swf.sk.ca/event/porcupine-wf-banquet-2/
END:VEVENT
BEGIN:VEVENT
DTSTART;VALUE=DATE:20180408
DTEND;VALUE=DATE:20180409
DTSTAMP:20260423T144944
CREATED:20180305T173648Z
LAST-MODIFIED:20180305T173648Z
UID:11595-1523145600-1523231999@swf.sk.ca
SUMMARY:Region 6 Spring Meeting
DESCRIPTION:
URL:https://swf.sk.ca/event/region-6-spring-meeting-3/
LOCATION:K Motel\, 2225 North Service Rd W\, Swift Current\, Saskatchewan\, S9h 5l1\, Canada
END:VEVENT
END:VCALENDAR