BEGIN:VCALENDAR
VERSION:2.0
PRODID:-//Saskatchewan Wildlife Federation - ECPv6.15.13.1//NONSGML v1.0//EN
CALSCALE:GREGORIAN
METHOD:PUBLISH
X-WR-CALNAME:Saskatchewan Wildlife Federation
X-ORIGINAL-URL:https://swf.sk.ca
X-WR-CALDESC:Events for Saskatchewan Wildlife Federation
REFRESH-INTERVAL;VALUE=DURATION:PT1H
X-Robots-Tag:noindex
X-PUBLISHED-TTL:PT1H
BEGIN:VTIMEZONE
TZID:America/Regina
BEGIN:STANDARD
TZOFFSETFROM:-0600
TZOFFSETTO:-0600
TZNAME:CST
DTSTART:20250101T000000
END:STANDARD
END:VTIMEZONE
BEGIN:VEVENT
DTSTART;VALUE=DATE:20260425
DTEND;VALUE=DATE:20260426
DTSTAMP:20260423T014716
CREATED:20250919T170406Z
LAST-MODIFIED:20250919T170406Z
UID:26217-1777075200-1777161599@swf.sk.ca
SUMMARY:2025 Provincial Angling & Henry Kelsey Big Game Awards Banquet
DESCRIPTION:The 2025 Provincial Angling & Henry Kelsey Big Game Awards Banquet will take place on April  25\, 2026 in Moose Jaw\, SK 
URL:https://swf.sk.ca/event/2025-provincial-angling-henry-kelsey-big-game-awards-banquet/
LOCATION:Golden Nugget Centre – Moose Jaw Exhibition Grouns
END:VEVENT
BEGIN:VEVENT
DTSTART;TZID=America/Regina:20260429T183000
DTEND;TZID=America/Regina:20260429T213000
DTSTAMP:20260423T014716
CREATED:20260325T195425Z
LAST-MODIFIED:20260325T195425Z
UID:27399-1777487400-1777498200@swf.sk.ca
SUMMARY:Region 6 - Spring Regional Meeting (via zoom)
DESCRIPTION:
URL:https://swf.sk.ca/event/region-6-spring-regional-meeting-via-zoom/
LOCATION:saskatchewan
END:VEVENT
BEGIN:VEVENT
DTSTART;VALUE=DATE:20260430
DTEND;VALUE=DATE:20260501
DTSTAMP:20260423T014716
CREATED:20260122T221053Z
LAST-MODIFIED:20260122T221053Z
UID:26777-1777507200-1777593599@swf.sk.ca
SUMMARY:Fish Artwork Contest Closes
DESCRIPTION:Fish Artwork Contest
URL:https://swf.sk.ca/event/fish-artwork-contest-closes/
LOCATION:saskatchewan
END:VEVENT
BEGIN:VEVENT
DTSTART;TZID=America/Regina:20260430T183000
DTEND;TZID=America/Regina:20260430T213000
DTSTAMP:20260423T014716
CREATED:20260325T193952Z
LAST-MODIFIED:20260325T194211Z
UID:27394-1777573800-1777584600@swf.sk.ca
SUMMARY:Region 2 - Spring Regional Meeting (via zoom)
DESCRIPTION:
URL:https://swf.sk.ca/event/region-2-spring-meeting-zoom/
LOCATION:saskatchewan
END:VEVENT
BEGIN:VEVENT
DTSTART;VALUE=DATE:20260501
DTEND;VALUE=DATE:20260502
DTSTAMP:20260423T014716
CREATED:20260122T220714Z
LAST-MODIFIED:20260122T220714Z
UID:26771-1777593600-1777679999@swf.sk.ca
SUMMARY:Youth Conservation Camp Applications Due
DESCRIPTION:
URL:https://swf.sk.ca/event/youth-conservation-camp-applications-due/
LOCATION:saskatchewan
END:VEVENT
BEGIN:VEVENT
DTSTART;TZID=America/Regina:20260506T183000
DTEND;TZID=America/Regina:20260506T213000
DTSTAMP:20260423T014716
CREATED:20260325T195252Z
LAST-MODIFIED:20260325T195252Z
UID:27397-1778092200-1778103000@swf.sk.ca
SUMMARY:Region 4 - Spring Regional Meeting (via zoom)
DESCRIPTION:
URL:https://swf.sk.ca/event/region-4-spring-regional-meeting-via-zoom/
LOCATION:saskatchewan
END:VEVENT
BEGIN:VEVENT
DTSTART;VALUE=DATE:20260605
DTEND;VALUE=DATE:20260608
DTSTAMP:20260423T014716
CREATED:20260122T220749Z
LAST-MODIFIED:20260122T220749Z
UID:26772-1780617600-1780876799@swf.sk.ca
SUMMARY:Spring Women's Outdoor Weekend
DESCRIPTION:Women’s Outdoor Weekend
URL:https://swf.sk.ca/event/spring-womens-outdoor-weekend-5/
LOCATION:saskatchewan
END:VEVENT
BEGIN:VEVENT
DTSTART;VALUE=DATE:20260606
DTEND;VALUE=DATE:20260607
DTSTAMP:20260423T014716
CREATED:20250909T195619Z
LAST-MODIFIED:20250909T195619Z
UID:26124-1780704000-1780790399@swf.sk.ca
SUMMARY:Weyburn Wildlife Federation Walleye Classic Fishing Tournament
DESCRIPTION:
URL:https://swf.sk.ca/event/weyburn-wildlife-federation-walleye-classic-fishing-tournament-2/
LOCATION:saskatchewan
END:VEVENT
BEGIN:VEVENT
DTSTART;VALUE=DATE:20260606
DTEND;VALUE=DATE:20260607
DTSTAMP:20260423T014716
CREATED:20251113T210039Z
LAST-MODIFIED:20251113T210039Z
UID:26644-1780704000-1780790399@swf.sk.ca
SUMMARY:Humboldt Wildlife Federation's 4th Annual Youth Engagement Day
DESCRIPTION:
URL:https://swf.sk.ca/event/humboldt-wildlife-federations-4th-annual-youth-engagement-day/
LOCATION:saskatchewan
END:VEVENT
BEGIN:VEVENT
DTSTART;TZID=America/Regina:20260617T120000
DTEND;TZID=America/Regina:20260617T190000
DTSTAMP:20260423T014716
CREATED:20260326T210611Z
LAST-MODIFIED:20260326T210844Z
UID:27410-1781697600-1781722800@swf.sk.ca
SUMMARY:20th Annual Habitat Trust Golf Tournament
DESCRIPTION:
URL:https://swf.sk.ca/event/20th-annual-habitat-trust-golf-tournament/
LOCATION:Humboldt Golf Club\, Humboldt\, Saskatchewan\, Canada
ATTACH;FMTTYPE=image/png:https://swf.sk.ca/wp-content/uploads/2026/03/Golf-Poster-2026.png
END:VEVENT
BEGIN:VEVENT
DTSTART;VALUE=DATE:20260703
DTEND;VALUE=DATE:20260706
DTSTAMP:20260423T014716
CREATED:20260410T200637Z
LAST-MODIFIED:20260410T200637Z
UID:27511-1783036800-1783295999@swf.sk.ca
SUMMARY:Duncairn Dam (Reid Lake) Catch and Release Walleye Tournament (Shaunavon Wildlife Federation)
DESCRIPTION:
URL:https://swf.sk.ca/event/duncairn-dam-reid-lake-catch-and-release-walleye-tournament-shaunavon-wildlife-federation/
LOCATION:saskatchewan
END:VEVENT
BEGIN:VEVENT
DTSTART;VALUE=DATE:20260731
DTEND;VALUE=DATE:20260804
DTSTAMP:20260423T014716
CREATED:20260331T175222Z
LAST-MODIFIED:20260331T175222Z
UID:27467-1785456000-1785801599@swf.sk.ca
SUMMARY:River City Wildlife Women’s Fishing Weekend
DESCRIPTION:@ Thompson’s Resort Otter Lake
URL:https://swf.sk.ca/event/river-city-wildlife-womens-fishing-weekend/
LOCATION:saskatchewan
END:VEVENT
BEGIN:VEVENT
DTSTART;VALUE=DATE:20260804
DTEND;VALUE=DATE:20260809
DTSTAMP:20260423T014716
CREATED:20260122T220905Z
LAST-MODIFIED:20260122T220905Z
UID:26774-1785801600-1786233599@swf.sk.ca
SUMMARY:Youth Conservation Camp - Girls Week
DESCRIPTION:Youth Conservation Camp
URL:https://swf.sk.ca/event/youth-conservation-camp-girls-week-2/
LOCATION:saskatchewan
END:VEVENT
BEGIN:VEVENT
DTSTART;VALUE=DATE:20260811
DTEND;VALUE=DATE:20260816
DTSTAMP:20260423T014716
CREATED:20260122T220939Z
LAST-MODIFIED:20260122T220939Z
UID:26775-1786406400-1786838399@swf.sk.ca
SUMMARY:Youth Conservation Camps - Boys Week
DESCRIPTION:Youth Conservation Camp
URL:https://swf.sk.ca/event/youth-conservation-camps-boys-week-2/
LOCATION:saskatchewan
END:VEVENT
BEGIN:VEVENT
DTSTART;VALUE=DATE:20260925
DTEND;VALUE=DATE:20260928
DTSTAMP:20260423T014716
CREATED:20260122T220818Z
LAST-MODIFIED:20260122T220818Z
UID:26773-1790294400-1790553599@swf.sk.ca
SUMMARY:Fall Women's Outdoor Weekend
DESCRIPTION:Women’s Outdoor Weekend
URL:https://swf.sk.ca/event/fall-womens-outdoor-weekend-5/
LOCATION:saskatchewan
END:VEVENT
END:VCALENDAR