BEGIN:VCALENDAR
VERSION:2.0
PRODID:-//Saskatchewan Wildlife Federation - ECPv6.15.13.1//NONSGML v1.0//EN
CALSCALE:GREGORIAN
METHOD:PUBLISH
X-WR-CALNAME:Saskatchewan Wildlife Federation
X-ORIGINAL-URL:https://swf.sk.ca
X-WR-CALDESC:Events for Saskatchewan Wildlife Federation
REFRESH-INTERVAL;VALUE=DURATION:PT1H
X-Robots-Tag:noindex
X-PUBLISHED-TTL:PT1H
BEGIN:VTIMEZONE
TZID:America/Regina
BEGIN:STANDARD
TZOFFSETFROM:-0600
TZOFFSETTO:-0600
TZNAME:CST
DTSTART:20220101T000000
END:STANDARD
END:VTIMEZONE
BEGIN:VEVENT
DTSTART;TZID=America/Regina:20231020T160000
DTEND;TZID=America/Regina:20231022T140000
DTSTAMP:20260420T222717
CREATED:20230705T150416Z
LAST-MODIFIED:20230705T150416Z
UID:19085-1697817600-1697983200@swf.sk.ca
SUMMARY:2nd Annual Advancing Women in Conservation (AWIC) Summit
DESCRIPTION:VENUE: Fredericton Inn\, 1315 Regent Street\, Fredericton\, New Brunswick\nREGISTRATION FEE: $225.00 – price includes meals\, and access to all presenters and activities\nTo purchase your registration\, visit https://saskatchewan-wildlife-federation.myshopify.com/products/advancing-women-in-conservation-single-registration-1?_pos=1&_sid=2c0bb01de&_ss=r \nA TENTATIVE AGENDA WILL BE AVAILABLE IN THE SUMMER OF 2023! \nKEYNOTE SPEAKER: JULIE ANGUS
URL:https://swf.sk.ca/event/2nd-annual-advancing-women-in-conservation-awic-summit/
LOCATION:Fredericton inn\, 1315 Regent Street\, Fredericton\, New Brunswick\, Canada
END:VEVENT
BEGIN:VEVENT
DTSTART;VALUE=DATE:20231002
DTEND;VALUE=DATE:20231003
DTSTAMP:20260420T222717
CREATED:20221215T220519Z
LAST-MODIFIED:20221215T220519Z
UID:17201-1696204800-1696291199@swf.sk.ca
SUMMARY:Save-A-Goose Wildlife Federation Branch Meeting
DESCRIPTION:
URL:https://swf.sk.ca/event/save-a-goose-wildlife-federation-branch-meeting-6/
END:VEVENT
BEGIN:VEVENT
DTSTART;TZID=America/Regina:20231001T100000
DTEND;TZID=America/Regina:20231001T170000
DTSTAMP:20260420T222717
CREATED:20230920T214844Z
LAST-MODIFIED:20230920T214844Z
UID:19623-1696154400-1696179600@swf.sk.ca
SUMMARY:Region 6 Fall Regional Meeting
DESCRIPTION:At the Moose Jaw Wildlife Federation Clubhouse
URL:https://swf.sk.ca/event/region-6-fall-regional-meeting-3/
END:VEVENT
BEGIN:VEVENT
DTSTART;TZID=America/Regina:20230930T100000
DTEND;TZID=America/Regina:20230930T170000
DTSTAMP:20260420T222717
CREATED:20230920T214600Z
LAST-MODIFIED:20230920T214600Z
UID:19618-1696068000-1696093200@swf.sk.ca
SUMMARY:Region 1 Fall Regional Meeting
DESCRIPTION:At th Bruno Lions Hall on the Exhibition Grounds
URL:https://swf.sk.ca/event/region-1-fall-regional-meeting-3/
END:VEVENT
BEGIN:VEVENT
DTSTART;TZID=America/Regina:20230922T140000
DTEND;TZID=America/Regina:20230924T140000
DTSTAMP:20260420T222717
CREATED:20230705T150224Z
LAST-MODIFIED:20230705T150224Z
UID:19084-1695391200-1695564000@swf.sk.ca
SUMMARY:Fall Women's Outdoor Weekend
DESCRIPTION:This is an opportunity for women of all skill levels to try your hand at a variety of wilderness activities and increase your outdoor confidence through activities like archery\, knife skills\, fishing and filleting\, shelter building\, plant and animal identification\, fire building\, canoeing and so much more! This weekend is not meant to be an intense backwoods experience\, but an empowering weekend where women can take part in women-ran outdoor activities. \nJoined by our friendly experienced staff and other adventure-seeking women out at Hannin Creek Education & Research Centre at Candle Lake\, SK. This is a weekend you won’t want to miss\, and one you won’t soon forget!Fall WOW: September 22-24\, 2023 \nTo register for Fall WOW\, please fill out the registration form\, and submit back to the SWF Central Office at sask.wildlife@swf.sk.ca. Spaces are limited to 30 participants. Please call Courtney at 306-692-8812 if you have any questions.  \nCost for W.O.W. is $250 for SWF members\, and $275 for non-members. \nAge required to attend WOW: Ages 19+
URL:https://swf.sk.ca/event/fall-womens-outdoor-weekend-2/
LOCATION:Hannin Creek Education and Applied Research Centre\, Paddockwood No. 520\, Candle Lake\, Saskatchewan\, S0J 3E0\, Canada
END:VEVENT
BEGIN:VEVENT
DTSTART;VALUE=DATE:20230723
DTEND;VALUE=DATE:20230729
DTSTAMP:20260420T222717
CREATED:20230705T150618Z
LAST-MODIFIED:20230705T150618Z
UID:19088-1690070400-1690588799@swf.sk.ca
SUMMARY:2023 Youth Conservation Camp - Boys Week
DESCRIPTION:
URL:https://swf.sk.ca/event/2023-youth-conservation-camp-boys-week/
LOCATION:Hannin Creek Education and Applied Research Centre\, Paddockwood No. 520\, Candle Lake\, Saskatchewan\, S0J 3E0\, Canada
END:VEVENT
BEGIN:VEVENT
DTSTART;VALUE=DATE:20230715
DTEND;VALUE=DATE:20230721
DTSTAMP:20260420T222717
CREATED:20230705T150550Z
LAST-MODIFIED:20230705T150550Z
UID:19087-1689379200-1689897599@swf.sk.ca
SUMMARY:2023 Youth Conservation Camp - Girls Week
DESCRIPTION:
URL:https://swf.sk.ca/event/2023-youth-conservation-camp-girls-week/
LOCATION:Hannin Creek Education and Applied Research Centre\, Paddockwood No. 520\, Candle Lake\, Saskatchewan\, S0J 3E0\, Canada
END:VEVENT
BEGIN:VEVENT
DTSTART;TZID=America/Regina:20230620T120000
DTEND;TZID=America/Regina:20230620T180000
DTSTAMP:20260420T222717
CREATED:20230509T221139Z
LAST-MODIFIED:20230509T221155Z
UID:18364-1687262400-1687284000@swf.sk.ca
SUMMARY:17th Annual Habitat Trust Golf Tournament
DESCRIPTION:
URL:https://swf.sk.ca/event/17th-annual-habitat-trust-golf-tournament/
LOCATION:Harbour Golf Club & Resort\, Elbow\, Saskatchewan\, S0H 1J0\, Canada
END:VEVENT
BEGIN:VEVENT
DTSTART;VALUE=DATE:20230616
DTEND;VALUE=DATE:20230619
DTSTAMP:20260420T222717
CREATED:20230612T153049Z
LAST-MODIFIED:20230612T153049Z
UID:18816-1686873600-1687132799@swf.sk.ca
SUMMARY:Sask Bowhunters 3D Archery Jamboree
DESCRIPTION:At the Vanscoy Bowbusters Range \nFeaturing  3-day fun\, and 2-day cash shoot (pre-registration required). \nFirst Place – $1\,200\nSecond Place – $500\nThird Place – $300 \nOnsite camping\, canteen\, and kids events! \nFor more information\, contact 306-221-3821 or 306-365-7581
URL:https://swf.sk.ca/event/sask-bowhunters-3d-archery-jamboree/
END:VEVENT
BEGIN:VEVENT
DTSTART;VALUE=DATE:20230612
DTEND;VALUE=DATE:20230613
DTSTAMP:20260420T222717
CREATED:20221215T220457Z
LAST-MODIFIED:20221215T220457Z
UID:17200-1686528000-1686614399@swf.sk.ca
SUMMARY:Save-A-Goose Wildlife Federation Branch Meeting
DESCRIPTION:
URL:https://swf.sk.ca/event/save-a-goose-wildlife-federation-branch-meeting-5/
END:VEVENT
BEGIN:VEVENT
DTSTART;VALUE=DATE:20230610
DTEND;VALUE=DATE:20230611
DTSTAMP:20260420T222717
CREATED:20221020T152611Z
LAST-MODIFIED:20230523T212326Z
UID:16881-1686355200-1686441599@swf.sk.ca
SUMMARY:2nd Annual Walleye Classic Fishing Tournament
DESCRIPTION:Hosted by the Weyburn Wildlife Federation
URL:https://swf.sk.ca/event/2nd-annual-walleye-classic-fishing-tournament/
END:VEVENT
BEGIN:VEVENT
DTSTART;VALUE=DATE:20230609
DTEND;VALUE=DATE:20230611
DTSTAMP:20260420T222717
CREATED:20230103T220516Z
LAST-MODIFIED:20230103T220516Z
UID:17344-1686268800-1686441599@swf.sk.ca
SUMMARY:Moose Jaw Wildlife Federation Walleye Challenge
DESCRIPTION:
URL:https://swf.sk.ca/event/moose-jaw-wildlife-federation-walleye-challenge/
END:VEVENT
BEGIN:VEVENT
DTSTART;TZID=America/Regina:20230603T130000
DTEND;TZID=America/Regina:20230603T170000
DTSTAMP:20260420T222717
CREATED:20230601T215059Z
LAST-MODIFIED:20230601T215059Z
UID:18655-1685797200-1685811600@swf.sk.ca
SUMMARY:Saskatoon Wildlife Federation National Range Day Open House
DESCRIPTION:June 3\, 2023 from 1pm-5pm. \n  \nFor more information\, email office@swildfed.ca.
URL:https://swf.sk.ca/event/saskatoon-wildlife-federation-national-range-day-open-house/
END:VEVENT
BEGIN:VEVENT
DTSTART;TZID=America/Regina:20230603T100000
DTEND;TZID=America/Regina:20230603T140000
DTSTAMP:20260420T222717
CREATED:20230601T215320Z
LAST-MODIFIED:20230601T215320Z
UID:18658-1685786400-1685800800@swf.sk.ca
SUMMARY:Maple Creek Fish & Game League Range Day
DESCRIPTION:June 3 from 10am-2pm. \nThis event is open to the public. It is encouraged to bring your own eye & ear protection\, along with your firearms & ammunition. For those who do not own firearms\, there will be different firearms available to try. \nThere will also be a hidden number rifle draw for a Ruger 10/22 with mounted scope\, $20 per entry. \nFor more information\, contact tj.empey@sasktel.net.
URL:https://swf.sk.ca/event/maple-creek-fish-game-league-range-day/
END:VEVENT
BEGIN:VEVENT
DTSTART;TZID=America/Regina:20230603T100000
DTEND;TZID=America/Regina:20230603T140000
DTSTAMP:20260420T222717
CREATED:20230601T215150Z
LAST-MODIFIED:20230601T215150Z
UID:18656-1685786400-1685800800@swf.sk.ca
SUMMARY:Regina Fish & Game League National Range Day/Open House
DESCRIPTION:June 3\, 2023 from 10am – 2pm at 18550 Range Rd 2205. \nLunch will be available. \nFor more information\, contact rfgl.info@sasktel.net.
URL:https://swf.sk.ca/event/regina-fish-game-league-national-range-day-open-house/
END:VEVENT
BEGIN:VEVENT
DTSTART;VALUE=DATE:20230603
DTEND;VALUE=DATE:20230604
DTSTAMP:20260420T222717
CREATED:20230601T215230Z
LAST-MODIFIED:20230601T215230Z
UID:18657-1685750400-1685836799@swf.sk.ca
SUMMARY:Humboldt Wildlife Federation Youth Engagement Day
DESCRIPTION:Activities include youth shooting pneumatic pellet gun\, 22 cal rimfire rifle\, and 22 cal rimfire handgun\, under direct supervision. Activities will be held at the Humboldt Wildlife Federation Range on # 20 highway south of Humboldt. \n  \nFor more information\, contact murray.trudy.carmel@gmail.com.
URL:https://swf.sk.ca/event/humboldt-wildlife-federation-youth-engagement-day/
END:VEVENT
BEGIN:VEVENT
DTSTART;TZID=America/Regina:20230526T140000
DTEND;TZID=America/Regina:20230528T140000
DTSTAMP:20260420T222717
CREATED:20230208T190825Z
LAST-MODIFIED:20230208T190825Z
UID:17714-1685109600-1685282400@swf.sk.ca
SUMMARY:Spring Women's Outdoor Weekend
DESCRIPTION:at the Hannin Creek Education & Applied Research Centre
URL:https://swf.sk.ca/event/spring-womens-outdoor-weekend-2/
END:VEVENT
BEGIN:VEVENT
DTSTART;TZID=America/Regina:20230422T100000
DTEND;TZID=America/Regina:20230423T120000
DTSTAMP:20260420T222717
CREATED:20230310T192910Z
LAST-MODIFIED:20230310T192910Z
UID:18028-1682157600-1682251200@swf.sk.ca
SUMMARY:HK Branch Measurer Workshop - Region 6:
DESCRIPTION:April 22 & 23\, 2023 @ Moose Jaw Wildlife Federation Clubhouse from 10:00 am – 5:00 pm on Saturday / 9:00 am – noon on Sunday. \nContact Warren Howse @306-868-7403.
URL:https://swf.sk.ca/event/hk-branch-measurer-workshop-region-6/
END:VEVENT
BEGIN:VEVENT
DTSTART;VALUE=DATE:20230422
DTEND;VALUE=DATE:20230423
DTSTAMP:20260420T222717
CREATED:20230125T154552Z
LAST-MODIFIED:20230125T154552Z
UID:17572-1682121600-1682207999@swf.sk.ca
SUMMARY:Souris Moose Creek Wildlife Federation 31st Annual Fundraiser Dinner & Auction
DESCRIPTION:
URL:https://swf.sk.ca/event/souris-moose-creek-wildlife-federation-31st-annual-fundraiser-dinner-auction/
END:VEVENT
BEGIN:VEVENT
DTSTART;VALUE=DATE:20230422
DTEND;VALUE=DATE:20230423
DTSTAMP:20260420T222717
CREATED:20221209T204058Z
LAST-MODIFIED:20221209T204058Z
UID:17145-1682121600-1682207999@swf.sk.ca
SUMMARY:Fort Qu'Appelle & District Wildlife Federation Annual Awards Night & Banquet
DESCRIPTION:At the Balcarres Lions Hall
URL:https://swf.sk.ca/event/fort-quappelle-district-wildlife-federation-annual-awards-night-banquet/
END:VEVENT
BEGIN:VEVENT
DTSTART;TZID=America/Regina:20230415T173000
DTEND;TZID=America/Regina:20230415T233000
DTSTAMP:20260420T222717
CREATED:20230307T162047Z
LAST-MODIFIED:20230307T163009Z
UID:17991-1681579800-1681601400@swf.sk.ca
SUMMARY:Nipawin Fish & Game League Awards Night & Fundraiser
DESCRIPTION:Nipawin Fish & Game Memorial Hall- On the way to the Nipawin & District Regional Park \nTickets available from an executive member. \nContact: Shirley Masse 306-862-3758 or Mike Remenda 306-276-8267 \n 
URL:https://swf.sk.ca/event/nipawin-fish-game-league-awards-night-fundraiser/
END:VEVENT
BEGIN:VEVENT
DTSTART;TZID=America/Regina:20230415T170000
DTEND;TZID=America/Regina:20230415T233000
DTSTAMP:20260420T222717
CREATED:20230327T144953Z
LAST-MODIFIED:20230327T144953Z
UID:18195-1681578000-1681601400@swf.sk.ca
SUMMARY:Cater Lake Wildlife Federation Awards Banquet
DESCRIPTION:At the Medstead Community Hall \nGuest Speaker – Amanda Lynn Mayhew \nFor tickets or event information\, contact caterlakewildlife@gmail.com or 306-342-4393 \n 
URL:https://swf.sk.ca/event/cater-lake-wildlife-federation-awards-banquet/
END:VEVENT
BEGIN:VEVENT
DTSTART;TZID=America/Regina:20230415T170000
DTEND;TZID=America/Regina:20230415T233000
DTSTAMP:20260420T222717
CREATED:20230213T173414Z
LAST-MODIFIED:20230213T173414Z
UID:17773-1681578000-1681601400@swf.sk.ca
SUMMARY:Cub Hills Wildlife Federation Banquet & Fundraiser
DESCRIPTION:Cocktails @ 5:00pm \nSupper @ 6:00pm
URL:https://swf.sk.ca/event/cub-hills-wildlife-federation-banquet-fundraiser/
END:VEVENT
BEGIN:VEVENT
DTSTART;TZID=America/Regina:20230415T100000
DTEND;TZID=America/Regina:20230415T170000
DTSTAMP:20260420T222717
CREATED:20230308T204948Z
LAST-MODIFIED:20230309T144220Z
UID:17997-1681552800-1681578000@swf.sk.ca
SUMMARY:Region 3 Spring Regional Meeting
DESCRIPTION:In-person meeting @ Elks Hall\, Raymore\, SK
URL:https://swf.sk.ca/event/region-3-spring-regional-meeting-2/
END:VEVENT
BEGIN:VEVENT
DTSTART;TZID=America/Regina:20230415T080000
DTEND;TZID=America/Regina:20230415T170000
DTSTAMP:20260420T222717
CREATED:20221215T220432Z
LAST-MODIFIED:20221215T220432Z
UID:17199-1681545600-1681578000@swf.sk.ca
SUMMARY:Save-A-Goose Wildlife Federation 2023 Trophy Night
DESCRIPTION:In Montmartre\, SK
URL:https://swf.sk.ca/event/save-a-goose-wildlife-federation-2023-trophy-night/
END:VEVENT
BEGIN:VEVENT
DTSTART;VALUE=DATE:20230415
DTEND;VALUE=DATE:20230416
DTSTAMP:20260420T222717
CREATED:20230103T220441Z
LAST-MODIFIED:20230309T145842Z
UID:17343-1681516800-1681603199@swf.sk.ca
SUMMARY:Moose Jaw Wildlife Federation Fundraising Supper
DESCRIPTION:
URL:https://swf.sk.ca/event/moose-jaw-wildlife-federation-fundraising-supper/
END:VEVENT
BEGIN:VEVENT
DTSTART;VALUE=DATE:20230415
DTEND;VALUE=DATE:20230416
DTSTAMP:20260420T222717
CREATED:20221020T152511Z
LAST-MODIFIED:20221020T152511Z
UID:16880-1681516800-1681603199@swf.sk.ca
SUMMARY:Annual Fred Garner Memorial Banquet and Trophy Night
DESCRIPTION:Hosted by the Weyburn Wildlife Federation
URL:https://swf.sk.ca/event/annual-fred-garner-memorial-banquet-and-trophy-night/
END:VEVENT
BEGIN:VEVENT
DTSTART;VALUE=DATE:20230403
DTEND;VALUE=DATE:20230404
DTSTAMP:20260420T222717
CREATED:20221215T220341Z
LAST-MODIFIED:20221215T220341Z
UID:17198-1680480000-1680566399@swf.sk.ca
SUMMARY:Save-A-Goose Wildlife Federation Branch Meeting
DESCRIPTION:
URL:https://swf.sk.ca/event/save-a-goose-wildlife-federation-branch-meeting-4/
END:VEVENT
BEGIN:VEVENT
DTSTART;TZID=America/Regina:20230401T180000
DTEND;TZID=America/Regina:20230401T233000
DTSTAMP:20260420T222717
CREATED:20230208T190406Z
LAST-MODIFIED:20230208T190406Z
UID:17710-1680372000-1680391800@swf.sk.ca
SUMMARY:East Shore Wildlife Annual Fundraising Banquet
DESCRIPTION:at the Strasbourg Memorial Hall
URL:https://swf.sk.ca/event/east-shore-wildlife-annual-fundraising-banquet/
LOCATION:Strasbourg Memorial Hall\, 113 Pearson Street\, Strasbourg\, Saskatchewan\, S0G 4V0\, Canada
ORGANIZER;CN="Jason Bleau":MAILTO:eastshorewildlife@gmail.com
END:VEVENT
BEGIN:VEVENT
DTSTART;TZID=America/Regina:20230401T160000
DTEND;TZID=America/Regina:20230401T233000
DTSTAMP:20260420T222717
CREATED:20230306T160442Z
LAST-MODIFIED:20230306T160442Z
UID:17976-1680364800-1680391800@swf.sk.ca
SUMMARY:Battlefords Wildlife Federation 75th Annual Smoker
DESCRIPTION:
URL:https://swf.sk.ca/event/battlefords-wildlife-federation-75th-annual-smoker/
END:VEVENT
END:VCALENDAR