BEGIN:VCALENDAR
VERSION:2.0
PRODID:-//Saskatchewan Wildlife Federation - ECPv6.15.13.1//NONSGML v1.0//EN
CALSCALE:GREGORIAN
METHOD:PUBLISH
X-WR-CALNAME:Saskatchewan Wildlife Federation
X-ORIGINAL-URL:https://swf.sk.ca
X-WR-CALDESC:Events for Saskatchewan Wildlife Federation
REFRESH-INTERVAL;VALUE=DURATION:PT1H
X-Robots-Tag:noindex
X-PUBLISHED-TTL:PT1H
BEGIN:VTIMEZONE
TZID:America/Regina
BEGIN:STANDARD
TZOFFSETFROM:-0600
TZOFFSETTO:-0600
TZNAME:CST
DTSTART:20180101T000000
END:STANDARD
END:VTIMEZONE
BEGIN:VEVENT
DTSTART;VALUE=DATE:20200125
DTEND;VALUE=DATE:20200126
DTSTAMP:20260422T185457
CREATED:20200114T214156Z
LAST-MODIFIED:20200115T144629Z
UID:12795-1579910400-1579996799@swf.sk.ca
SUMMARY:Foam Lake Wildlife Banquet and Awards
DESCRIPTION:
URL:https://swf.sk.ca/event/foam-lake-wildlife-banquet-and-awards/
LOCATION:Saskatchewan
END:VEVENT
BEGIN:VEVENT
DTSTART;VALUE=DATE:20200118
DTEND;VALUE=DATE:20200120
DTSTAMP:20260422T185457
CREATED:20190912T170316Z
LAST-MODIFIED:20190912T170316Z
UID:12626-1579305600-1579478399@swf.sk.ca
SUMMARY:Lloydminster Gun & Outdoor Sportsman Show
DESCRIPTION:Saturday January 18th 10am-6pm\nSunday January 19th 10am-3pm
URL:https://swf.sk.ca/event/lloydminster-gun-outdoor-sportsman-show-3/
LOCATION:Servus Sports Centre\, HWY 17 south & 12 Street\, Lloydminster\, Alberta\, Canada
END:VEVENT
BEGIN:VEVENT
DTSTART;VALUE=DATE:20200118
DTEND;VALUE=DATE:20200119
DTSTAMP:20260422T185457
CREATED:20191114T201746Z
LAST-MODIFIED:20191114T201746Z
UID:12701-1579305600-1579391999@swf.sk.ca
SUMMARY:Battleford WF Learn to Shoot Program
DESCRIPTION:
URL:https://swf.sk.ca/event/battleford-wf-learn-to-shoot-program/
LOCATION:Saskatchewan
END:VEVENT
BEGIN:VEVENT
DTSTART;TZID=America/Regina:20191215T130000
DTEND;TZID=America/Regina:20191215T170000
DTSTAMP:20260422T185457
CREATED:20191108T205254Z
LAST-MODIFIED:20191108T205434Z
UID:12695-1576414800-1576429200@swf.sk.ca
SUMMARY:Valleyview Wildlife Federation Horn Measuring
DESCRIPTION:
URL:https://swf.sk.ca/event/valleyview-wildlife-federation-horn-measuring/
LOCATION:Professional Vac Service Shop\, Atwater\, Saskatchewan\, S0A 0C0\, Canada
END:VEVENT
BEGIN:VEVENT
DTSTART;TZID=America/Regina:20191215T130000
DTEND;TZID=America/Regina:20191215T160000
DTSTAMP:20260422T185457
CREATED:20191025T212922Z
LAST-MODIFIED:20191025T212922Z
UID:12666-1576414800-1576425600@swf.sk.ca
SUMMARY:Wapella Pipestone WF Horn Measuring
DESCRIPTION:
URL:https://swf.sk.ca/event/wapella-pipestone-wf-horn-measuring/
LOCATION:Saskatchewan
END:VEVENT
BEGIN:VEVENT
DTSTART;VALUE=DATE:20191215
DTEND;VALUE=DATE:20191216
DTSTAMP:20260422T185457
CREATED:20191120T151231Z
LAST-MODIFIED:20191120T151231Z
UID:12704-1576368000-1576454399@swf.sk.ca
SUMMARY:Kyle Fish & Game League Horn Measuring
DESCRIPTION:
URL:https://swf.sk.ca/event/kyle-fish-game-league-horn-measuring/
LOCATION:Saskatchewan
END:VEVENT
BEGIN:VEVENT
DTSTART;TZID=America/Regina:20191210T190000
DTEND;TZID=America/Regina:20191210T213000
DTSTAMP:20260422T185457
CREATED:20190918T135958Z
LAST-MODIFIED:20191206T145713Z
UID:12631-1576004400-1576013400@swf.sk.ca
SUMMARY:Creighton WF Branch Meeting
DESCRIPTION:  \n 
URL:https://swf.sk.ca/event/creighton-wf-branch-meeting-2/
LOCATION:Centennial Building\, 401 Main St\, Creighton\, Saskatchewan\, S0P 0A0\, Canada
ORGANIZER;CN="Candi Gamache":MAILTO:saskwild.creighton@gmail.com
END:VEVENT
BEGIN:VEVENT
DTSTART;TZID=America/Regina:20191210T170000
DTEND;TZID=America/Regina:20191210T200000
DTSTAMP:20260422T185457
CREATED:20191028T191030Z
LAST-MODIFIED:20191028T191030Z
UID:12678-1575997200-1576008000@swf.sk.ca
SUMMARY:Melville Fish & Game Horn Measuring Night
DESCRIPTION:
URL:https://swf.sk.ca/event/melville-fish-game-horn-measuring-night/
LOCATION:Melville Community Works\, 800 Prince Edward Street\, Melville\, Saskatchewan\, S0A 2P0\, Canada
END:VEVENT
BEGIN:VEVENT
DTSTART;TZID=America/Regina:20191209T183000
DTEND;TZID=America/Regina:20191209T183000
DTSTAMP:20260422T185457
CREATED:20191025T213440Z
LAST-MODIFIED:20191025T221245Z
UID:12669-1575916200-1575916200@swf.sk.ca
SUMMARY:Save-A-Goose WF AGM
DESCRIPTION:Roast Beef Super Followed by Meeting \nTickets : $20
URL:https://swf.sk.ca/event/save-a-goose-agm/
LOCATION:Montmartre Senior Hall\, Montmartre\, Saskatchewan\, S0G 3M0\, Canada
END:VEVENT
BEGIN:VEVENT
DTSTART;TZID=America/Regina:20191208T130000
DTEND;TZID=America/Regina:20191208T160000
DTSTAMP:20260422T185457
CREATED:20191025T213648Z
LAST-MODIFIED:20191025T213715Z
UID:12670-1575810000-1575820800@swf.sk.ca
SUMMARY:Save-A-Goose WF Horn Measuring
DESCRIPTION:
URL:https://swf.sk.ca/event/save-a-goose-horn-measuring/
LOCATION:Arden Curts Farm
END:VEVENT
BEGIN:VEVENT
DTSTART;VALUE=DATE:20191208
DTEND;VALUE=DATE:20191209
DTSTAMP:20260422T185457
CREATED:20191114T201609Z
LAST-MODIFIED:20191114T201609Z
UID:12699-1575763200-1575849599@swf.sk.ca
SUMMARY:Battleford WF Annual Henry Kelsey Horn Scoring
DESCRIPTION:
URL:https://swf.sk.ca/event/battleford-wf-annual-henry-kelsey-horn-scoring/
LOCATION:Saskatchewan
END:VEVENT
BEGIN:VEVENT
DTSTART;TZID=America/Regina:20191207T110000
DTEND;TZID=America/Regina:20191207T160000
DTSTAMP:20260422T185457
CREATED:20191025T214525Z
LAST-MODIFIED:20191025T220251Z
UID:12673-1575716400-1575734400@swf.sk.ca
SUMMARY:Weyburn WF Buck Night
DESCRIPTION:Bring your head\, antlers and horns for measuring. \nNew 2020 memberships will be available.
URL:https://swf.sk.ca/event/weyburn-wf-buck-night/
LOCATION:Weyburn Wildlife Federation Clubhouse\, Weyburn\, Saskatchewan\, Canada
END:VEVENT
BEGIN:VEVENT
DTSTART;VALUE=DATE:20191116
DTEND;VALUE=DATE:20191117
DTSTAMP:20260422T185457
CREATED:20191029T183427Z
LAST-MODIFIED:20191029T183427Z
UID:12679-1573862400-1573948799@swf.sk.ca
SUMMARY:Redvers WF 29th Annual Fundraiser
DESCRIPTION:
URL:https://swf.sk.ca/event/redvers-wf-29th-annual-fundraiser/
LOCATION:Redvers Curling Rink\, Redvers\, Saskatchewan\, S0C 2H0\, Canada
END:VEVENT
BEGIN:VEVENT
DTSTART;TZID=America/Regina:20191115T080000
DTEND;TZID=America/Regina:20191115T170000
DTSTAMP:20260422T185457
CREATED:20191022T165013Z
LAST-MODIFIED:20191022T165013Z
UID:12661-1573804800-1573837200@swf.sk.ca
SUMMARY:Camo Day
DESCRIPTION:
URL:https://swf.sk.ca/event/camo-day/
LOCATION:Saskatchewan
END:VEVENT
BEGIN:VEVENT
DTSTART;TZID=America/Regina:20191108T000000
DTEND;TZID=America/Regina:20191108T000000
DTSTAMP:20260422T185457
CREATED:20191108T154247Z
LAST-MODIFIED:20191108T154247Z
UID:12694-1573171200-1573171200@swf.sk.ca
SUMMARY:Rgn 4 Spring Meeting
DESCRIPTION:
URL:https://swf.sk.ca/event/rgn-4-spring-meeting/
LOCATION:Saskatchewan
END:VEVENT
BEGIN:VEVENT
DTSTART;VALUE=DATE:20191102
DTEND;VALUE=DATE:20191103
DTSTAMP:20260422T185457
CREATED:20190411T190846Z
LAST-MODIFIED:20190411T190846Z
UID:12148-1572652800-1572739199@swf.sk.ca
SUMMARY:Indian Head & Dist Annual Supper & F/R
DESCRIPTION:
URL:https://swf.sk.ca/event/indian-head-dist-annual-supper-f-r/
LOCATION:Indian Head Memorial Hall\, 423 Grand Ave\, Indian Head\, Saskatchewan\, S0G 2K0\, Canada
END:VEVENT
BEGIN:VEVENT
DTSTART;VALUE=DATE:20191027
DTEND;VALUE=DATE:20191028
DTSTAMP:20260422T185457
CREATED:20190823T213828Z
LAST-MODIFIED:20190823T213828Z
UID:12608-1572134400-1572220799@swf.sk.ca
SUMMARY:Region 2 Fall Meeting
DESCRIPTION:
URL:https://swf.sk.ca/event/region-2-fall-meeting-2/
LOCATION:Meadow Lake\, Saskatchewan\, Canada
END:VEVENT
BEGIN:VEVENT
DTSTART;VALUE=DATE:20191026
DTEND;VALUE=DATE:20191027
DTSTAMP:20260422T185457
CREATED:20190823T214724Z
LAST-MODIFIED:20190823T214724Z
UID:12612-1572048000-1572134399@swf.sk.ca
SUMMARY:Region 5 Fall Meeting
DESCRIPTION:
URL:https://swf.sk.ca/event/region-5-fall-meeting-3/
LOCATION:Central Butte Legion Hall\, Main Street\, Central Butte\, Saskatchewan\, S0H 0T0\, Canada
END:VEVENT
BEGIN:VEVENT
DTSTART;VALUE=DATE:20191019
DTEND;VALUE=DATE:20191020
DTSTAMP:20260422T185457
CREATED:20190819T215404Z
LAST-MODIFIED:20190920T153412Z
UID:12600-1571443200-1571529599@swf.sk.ca
SUMMARY:Region 3 Fall Meeting
DESCRIPTION:Here is the location of our club house for the region 3 meeting; it is behind the ball diamonds which are behind the rink in Esterhazy. \nhttps://maps.apple.com/?address=Arcola%20St\,%20Esterhazy%20SK\,%20Canada&ll=50.660871\,-102.068774&q=Marked%20Location&_ext=EiYpyknNtARUSUAx8dVNmOGEWcA5SB/zECtVSUBBV5+iavmDWcBQBA%3D%3D&t=m \n 
URL:https://swf.sk.ca/event/region-3-fall-meeting-2/
LOCATION:Esterhazy Gun Club\, Esterhazy\, Saskatchewan\, S0A 0X0\, Canada
END:VEVENT
BEGIN:VEVENT
DTSTART;VALUE=DATE:20191006
DTEND;VALUE=DATE:20191007
DTSTAMP:20260422T185457
CREATED:20190823T214810Z
LAST-MODIFIED:20190823T214810Z
UID:12613-1570320000-1570406399@swf.sk.ca
SUMMARY:Region 6 Fall Meeting
DESCRIPTION:
URL:https://swf.sk.ca/event/region-6-fall-meeting-4/
LOCATION:MJWF Clubhouse\, 1396 3 Ave NE\, S6H 1G3
END:VEVENT
BEGIN:VEVENT
DTSTART;VALUE=DATE:20191006
DTEND;VALUE=DATE:20191007
DTSTAMP:20260422T185457
CREATED:20190819T215755Z
LAST-MODIFIED:20190819T215755Z
UID:12601-1570320000-1570406399@swf.sk.ca
SUMMARY:Region 4 Fall Meeting
DESCRIPTION:
URL:https://swf.sk.ca/event/region-4-fall-meeting-4/
LOCATION:Regina Wildlife Federation\, FJ86+7Q\, RM 158 (Edenwold)\, Pilot Butte\, Saskatchewan\, Canada
END:VEVENT
BEGIN:VEVENT
DTSTART;VALUE=DATE:20191005
DTEND;VALUE=DATE:20191006
DTSTAMP:20260422T185457
CREATED:20190823T213727Z
LAST-MODIFIED:20190823T213727Z
UID:12607-1570233600-1570319999@swf.sk.ca
SUMMARY:Region 1 Fall Meeting
DESCRIPTION:
URL:https://swf.sk.ca/event/region-1-fall-meeting-4/
LOCATION:Hague Town Hall\, 208 Main St\, Hague\, Saskatchewan\, S0K 1X0\, Canada
END:VEVENT
BEGIN:VEVENT
DTSTART;VALUE=DATE:20190727
DTEND;VALUE=DATE:20190729
DTSTAMP:20260422T185457
CREATED:20190603T215103Z
LAST-MODIFIED:20190603T215555Z
UID:12240-1564185600-1564358399@swf.sk.ca
SUMMARY:Kyle 3D Archery Shoot
DESCRIPTION:Will be held indoors at Kyle if fire ban continues in RM
URL:https://swf.sk.ca/event/kyle-3d-archery-shoot/
LOCATION:Saskatchewan
END:VEVENT
BEGIN:VEVENT
DTSTART;VALUE=DATE:20190720
DTEND;VALUE=DATE:20190722
DTSTAMP:20260422T185457
CREATED:20190603T214935Z
LAST-MODIFIED:20190603T215648Z
UID:12239-1563580800-1563753599@swf.sk.ca
SUMMARY:Sask Landing Walleye Tournament
DESCRIPTION:
URL:https://swf.sk.ca/event/sask-landing-walleye-tournament-3/
LOCATION:Sask. Landing Marina\, 1 Main\, Stewart Valley\, Saskatchewan\, S0N 2P0\, Canada
END:VEVENT
BEGIN:VEVENT
DTSTART;VALUE=DATE:20190618
DTEND;VALUE=DATE:20190619
DTSTAMP:20260422T185457
CREATED:20190326T172042Z
LAST-MODIFIED:20190326T172527Z
UID:12122-1560816000-1560902399@swf.sk.ca
SUMMARY:Habitat Trust Golf Tournament
DESCRIPTION:https://swf.sk.ca/programs/habitat-trust/golf-tournament-sausage-cook-off/
URL:https://swf.sk.ca/event/habitat-trust-golf-tournament/
LOCATION:Harbor Golf Resort\, Elbow\, Saskatchewan\, S0H 1J0\, Canada
END:VEVENT
BEGIN:VEVENT
DTSTART;TZID=America/Regina:20190615T100000
DTEND;TZID=America/Regina:20190615T160000
DTSTAMP:20260422T185457
CREATED:20190410T150425Z
LAST-MODIFIED:20190410T150425Z
UID:12146-1560592800-1560614400@swf.sk.ca
SUMMARY:Yorkton WF Suns Out Guns Out
DESCRIPTION:Two and a half miles south on Gladstone Avenue South towards York Lake\, then turn left and follow gravel road to clubhouse.\nYorkton\, Saskatchewan \n  \nClick below for Poster… \nSOGO POSTER 2019
URL:https://swf.sk.ca/event/yorkton-wf-suns-out-guns-out/
LOCATION:Yorkton Wildlife Federation Trap Club
END:VEVENT
BEGIN:VEVENT
DTSTART;TZID=America/Regina:20190615T094500
DTEND;TZID=America/Regina:20190615T094500
DTSTAMP:20260422T185457
CREATED:20190507T201514Z
LAST-MODIFIED:20190507T201514Z
UID:12182-1560591900-1560591900@swf.sk.ca
SUMMARY:Nipawin Fish & Game Annual Sporting Clay Shoot
DESCRIPTION:Contact Don @ 306-862-4036 \nContact Louis @ 306-862-3758
URL:https://swf.sk.ca/event/nipawin-fish-game-annual-sporting-clay-shoot-2/
LOCATION:Saskatchewan
END:VEVENT
BEGIN:VEVENT
DTSTART;TZID=America/Regina:20190614T180000
DTEND;TZID=America/Regina:20190614T180000
DTSTAMP:20260422T185457
CREATED:20190410T145820Z
LAST-MODIFIED:20190410T150005Z
UID:12142-1560535200-1560535200@swf.sk.ca
SUMMARY:Yorkton WF Ladies Night
DESCRIPTION:2 and a half miles south on Gladstone Ave South\, then turn left on gravel road to continue to YWF clubhouse\nSaskatchewan\nCanada \nSelect Below for Poster… \nLadies Night 2019
URL:https://swf.sk.ca/event/yorkton-wf-ladies-night/
LOCATION:Yorkton Wildlife Federation Trap Club
END:VEVENT
BEGIN:VEVENT
DTSTART;VALUE=DATE:20190608
DTEND;VALUE=DATE:20190609
DTSTAMP:20260422T185457
CREATED:20190513T140017Z
LAST-MODIFIED:20190513T171956Z
UID:12194-1559952000-1560038399@swf.sk.ca
SUMMARY:Saskatchewan Gamebird Habitat Trust’s (SGHT)  2019 Sport Clay Shot
DESCRIPTION:Saskatchewan Gamebird Habitat Trust (SGHT) is hosting a one-day sporting clay shoot and dinner with proceeds going to support game bird habitat projects in Saskatchewan.  Sounds like fun mixed with a little competition.  come have a great day. \n  \nPlease View Poster below: \nFinal – SGHT June 8 2019 Sporting Clay poster \n 
URL:https://swf.sk.ca/event/saskatchewan-gamebird-habitat-trusts-sght-2019-sport-clay-shot/
LOCATION:Regina Wildlife Federation\, FJ86+7Q\, RM 158 (Edenwold)\, Pilot Butte\, Saskatchewan\, Canada
END:VEVENT
BEGIN:VEVENT
DTSTART;TZID=America/Regina:20190525T130000
DTEND;TZID=America/Regina:20190525T150000
DTSTAMP:20260422T185457
CREATED:20190508T200155Z
LAST-MODIFIED:20190508T200155Z
UID:12184-1558789200-1558796400@swf.sk.ca
SUMMARY:TrashTag Challenge
DESCRIPTION:Wascana & Upper Qu’Appelle Watersheds Association Taking Responsibility (WUQWATR) is a non-for-profit located in Regina\, SK. WUQWATR serves 23\,443 square kms of watershed in Upper Qu’Appelle and Wascana for over 10 years. This spring\, we’re aiming to educate and share information with our stakeholders on what WUQWATR can do for our community\, and how the community can keep the watersheds healthy and sustainable. \nWithin the media lately there has been a huge media frenzy around TrashTag Challenges\, taking place all around the world. Volunteers go to different locations and gather waste that has been improperly disposed of. Typically\, pictures are taken before and after to show how much waste was collected at the site. \nWe are looking for volunteers to help us with the event being held on May 25\, 2019 from 1:00-3:00pm at the Wascana Rowing Club. There will be a raffle draw at the event for participating volunteers. Prizes and donations provided by: Sasktel\, SaskEnergy\, SGI\, Regina Pats\, Greenlight Garage Doors\, SaskWater\, and Co-op Sherwood. One bag of waste collected = one entry into the draw. \nIf you are interested in volunteering\, please call/email Courtney at 306-529-3210 or courtney@wuqwatr.ca.
URL:https://swf.sk.ca/event/trashtag-challenge/
LOCATION:Wascana Rowing Club\, 3000 Wascana Drive\, Regina\, Saskatchewan\, S4S 1N5\, Canada
ORGANIZER;CN="Courtney Devins":MAILTO:courtney@wuqwatr.ca
END:VEVENT
END:VCALENDAR