BEGIN:VCALENDAR
VERSION:2.0
PRODID:-//Saskatchewan Wildlife Federation - ECPv6.15.13.1//NONSGML v1.0//EN
CALSCALE:GREGORIAN
METHOD:PUBLISH
X-WR-CALNAME:Saskatchewan Wildlife Federation
X-ORIGINAL-URL:https://swf.sk.ca
X-WR-CALDESC:Events for Saskatchewan Wildlife Federation
REFRESH-INTERVAL;VALUE=DURATION:PT1H
X-Robots-Tag:noindex
X-PUBLISHED-TTL:PT1H
BEGIN:VTIMEZONE
TZID:America/Regina
BEGIN:STANDARD
TZOFFSETFROM:-0600
TZOFFSETTO:-0600
TZNAME:CST
DTSTART:20190101T000000
END:STANDARD
END:VTIMEZONE
BEGIN:VEVENT
DTSTART;VALUE=DATE:20200419
DTEND;VALUE=DATE:20200420
DTSTAMP:20260423T031655
CREATED:20191108T154508Z
LAST-MODIFIED:20191108T154508Z
UID:11377-1587254400-1587340799@swf.sk.ca
SUMMARY:Region 4 Fall Meeting
DESCRIPTION:
URL:https://swf.sk.ca/event/region-4-fall-meeting-5/
LOCATION:Arcola Wildlife Hall\, Main Street\, Arcola\, Saskatchewan\, S0S 0G0\, Canada
END:VEVENT
BEGIN:VEVENT
DTSTART;TZID=America/Regina:20200418T183000
DTEND;TZID=America/Regina:20200418T220000
DTSTAMP:20260423T031655
CREATED:20200120T204543Z
LAST-MODIFIED:20200121T145404Z
UID:12806-1587234600-1587247200@swf.sk.ca
SUMMARY:Valley Trails 38th Annual Wild Game Banquet & Awards
DESCRIPTION:Catered and Wild Game Banquet \nFish & Big Game Awards \nDoor Prizes \nTickets for Raffle Prizes and Big Prize Draw \nGuest Speaker &/or Entertainment
URL:https://swf.sk.ca/event/valley-trails-38th-annual-wild-game-banquet-awards/
LOCATION:SK
END:VEVENT
BEGIN:VEVENT
DTSTART;TZID=America/Regina:20200418T080000
DTEND;TZID=America/Regina:20200418T170000
DTSTAMP:20260423T031655
CREATED:20200130T205827Z
LAST-MODIFIED:20200317T181140Z
UID:12828-1587196800-1587229200@swf.sk.ca
SUMMARY:MJWF Annual Fundraiser
DESCRIPTION:
URL:https://swf.sk.ca/event/mjwf-annual-fundraiser/
LOCATION:Heritage Inn\, 1590 Main St. N\, Moose Jaw\, Saskatchewan\, S6J 1L3\, Canada
END:VEVENT
BEGIN:VEVENT
DTSTART;TZID=America/Regina:20200404T173000
DTEND;TZID=America/Regina:20200404T173000
DTSTAMP:20260423T031655
CREATED:20200309T212556Z
LAST-MODIFIED:20200310T174630Z
UID:12897-1586021400-1586021400@swf.sk.ca
SUMMARY:Swift Current Dinner and Awards Banquet
DESCRIPTION:Live & Silent Auctions \nRaffles/Door Prizes \nLadies Ring Draw at Nights’ End \nDoors open at 5:30
URL:https://swf.sk.ca/event/swift-current-dinner-and-awards-banquet/
LOCATION:Swift Current Legion Hall\, 239 1 Avenue Northeast\, Swift Current\, Saskatchewan\, S9H 2B3\, Canada
END:VEVENT
BEGIN:VEVENT
DTSTART;TZID=America/Regina:20200404T080000
DTEND;TZID=America/Regina:20200404T170000
DTSTAMP:20260423T031655
CREATED:20191025T214138Z
LAST-MODIFIED:20200317T165944Z
UID:12672-1585987200-1586019600@swf.sk.ca
SUMMARY:Save-A-Goose Annual Banquet & Trophy Night(POSTPONED/CANCELLED)
DESCRIPTION:Includes: Catered Supper\, Trophy Awards\, Live & Silent Auctions\, Raffle and Special draws. \nLottery draw for a Pellet Grill BBQ and Meat Package Gift Certificate valued at $1000. \nTickets available from board members or contact Jeanette Schaeffer 306-540-2355
URL:https://swf.sk.ca/event/save-a-goose-annual-banquet-trophy-night/
LOCATION:Francis Community Hall\, 201 Main St\, Francis\, Saskatchewan\, Canada
END:VEVENT
BEGIN:VEVENT
DTSTART;VALUE=DATE:20200404
DTEND;VALUE=DATE:20200405
DTSTAMP:20260423T031655
CREATED:20200215T213741Z
LAST-MODIFIED:20200317T172751Z
UID:12868-1585958400-1586044799@swf.sk.ca
SUMMARY:Moose Mountain WF 18th Annual F/R Dinner and Auction-POSTPONED
DESCRIPTION:
URL:https://swf.sk.ca/event/moose-mountain-wf-18th-annual-f-r-dinner-and-auction/
LOCATION:SK
END:VEVENT
BEGIN:VEVENT
DTSTART;VALUE=DATE:20200404
DTEND;VALUE=DATE:20200405
DTSTAMP:20260423T031655
CREATED:20191114T201817Z
LAST-MODIFIED:20200317T170038Z
UID:12702-1585958400-1586044799@swf.sk.ca
SUMMARY:Battleford WF Annual Smoker POSTPONED UNTIL FURTHER NOTICE
DESCRIPTION:POSTPONED UNTIL FURTHER NOTICE \n  \nPlease watch Battleford WF Facebook
URL:https://swf.sk.ca/event/battleford-wf-annual-smoker/
LOCATION:Battlefords Arena\, 401 28th Street West\, Battlefords\, Saskatchewan\, S0M 0E0\, Canada
END:VEVENT
BEGIN:VEVENT
DTSTART;TZID=America/Regina:20200328T173000
DTEND;TZID=America/Regina:20200328T173000
DTSTAMP:20260423T031655
CREATED:20200306T192148Z
LAST-MODIFIED:20200327T132202Z
UID:12891-1585416600-1585416600@swf.sk.ca
SUMMARY:Preeceville Wildlife Annual Awards & Banquet-POSTPONED
DESCRIPTION:POSTPONED UNTIL FURTHER NOTICE \nBugling Hour 5:30  (A MUST SEE/HEAR)\nSupper 6:30\nAwards & Dance to Follow\nMusic By Strange Brew\nSupper Catered by Donna Toffan
URL:https://swf.sk.ca/event/preeceville-wildlife-annual-awards-banquet/
LOCATION:Preeceville Community Hall\, 218 Main Street\, Preeceville\, Saskatchewan\, S0A 3B0\, Canada
END:VEVENT
BEGIN:VEVENT
DTSTART;VALUE=DATE:20200328
DTEND;VALUE=DATE:20200329
DTSTAMP:20260423T031655
CREATED:20200215T212916Z
LAST-MODIFIED:20200215T213617Z
UID:12863-1585353600-1585439999@swf.sk.ca
SUMMARY:Grenfell WF Club Awards and Banquet Night
DESCRIPTION:dance poster
URL:https://swf.sk.ca/event/grenfell-wf-club-awards-and-banquet-night/
LOCATION:SK
END:VEVENT
BEGIN:VEVENT
DTSTART;TZID=America/Regina:20200321T173000
DTEND;TZID=America/Regina:20200321T230000
DTSTAMP:20260423T031655
CREATED:20200106T184544Z
LAST-MODIFIED:20200107T203911Z
UID:12765-1584811800-1584831600@swf.sk.ca
SUMMARY:Rocanville W/F Fundraiser and Wildlife Supper
DESCRIPTION:
URL:https://swf.sk.ca/event/rocanvile-f-r-and-wildlife-supper/
LOCATION:Rocanville Hall\, 808 France's St\, Rocanville\, Saskatchewan\, S0A 3L0\, Canada
END:VEVENT
BEGIN:VEVENT
DTSTART;VALUE=DATE:20200321
DTEND;VALUE=DATE:20200322
DTSTAMP:20260423T031655
CREATED:20200116T202512Z
LAST-MODIFIED:20200116T202512Z
UID:12801-1584748800-1584835199@swf.sk.ca
SUMMARY:Eagle Creek Annual Awards & Banquet
DESCRIPTION:
URL:https://swf.sk.ca/event/eagle-creek-annual-awards-banquet/
LOCATION:Perdue Complex\, Perdue\, Saskatchewan\, S0K 3C0\, Canada
END:VEVENT
BEGIN:VEVENT
DTSTART;TZID=America/Regina:20200320T080000
DTEND;TZID=America/Regina:20200321T170000
DTSTAMP:20260423T031655
CREATED:20200130T205750Z
LAST-MODIFIED:20200130T205750Z
UID:12827-1584691200-1584810000@swf.sk.ca
SUMMARY:Moose Jaw WF Fish Fry
DESCRIPTION:Contact branch executives for tickets
URL:https://swf.sk.ca/event/moose-jaw-wf-fish-fry-2/
LOCATION:MJWF Clubhouse\, 1396 3 Ave NE\, S6H 1G3
END:VEVENT
BEGIN:VEVENT
DTSTART;VALUE=DATE:20200320
DTEND;VALUE=DATE:20200322
DTSTAMP:20260423T031655
CREATED:20200319T144805Z
LAST-MODIFIED:20200319T152044Z
UID:12916-1584662400-1584835199@swf.sk.ca
SUMMARY:Moose Jaw Fish Fry POSTPONED Rescheduled to June 12-13
DESCRIPTION:
URL:https://swf.sk.ca/event/moose-jaw-fish-fry-postponed/
LOCATION:SK
END:VEVENT
BEGIN:VEVENT
DTSTART;VALUE=DATE:20200320
DTEND;VALUE=DATE:20200321
DTSTAMP:20260423T031655
CREATED:20200210T172557Z
LAST-MODIFIED:20200210T173716Z
UID:12852-1584662400-1584748799@swf.sk.ca
SUMMARY:Humboldt WF Awards/Fish Fry
DESCRIPTION:Contact:  Matt Schidlowsky 306-231-5723  Scott Ewen 306-231-4165\, or drop by Humboldt Motors Bodyshop for Tickets \n 
URL:https://swf.sk.ca/event/humboldt-wf-awards-fish-fry/
LOCATION:SK
END:VEVENT
BEGIN:VEVENT
DTSTART;VALUE=DATE:20200314
DTEND;VALUE=DATE:20200315
DTSTAMP:20260423T031655
CREATED:20200215T213015Z
LAST-MODIFIED:20200215T213518Z
UID:12864-1584144000-1584230399@swf.sk.ca
SUMMARY:Grenfell WF Kids Ice Fishing Day
DESCRIPTION:ice_fishing_poster
URL:https://swf.sk.ca/event/grenfell-wf-kids-ice-fishing-day/
LOCATION:SK
END:VEVENT
BEGIN:VEVENT
DTSTART;VALUE=DATE:20200314
DTEND;VALUE=DATE:20200315
DTSTAMP:20260423T031655
CREATED:20200204T165249Z
LAST-MODIFIED:20200204T165249Z
UID:12841-1584144000-1584230399@swf.sk.ca
SUMMARY:Yorkton WF Awards Night & Fundraiser
DESCRIPTION:
URL:https://swf.sk.ca/event/yorkton-wf-awards-night-fundraiser/
LOCATION:SK
END:VEVENT
BEGIN:VEVENT
DTSTART;VALUE=DATE:20200314
DTEND;VALUE=DATE:20200315
DTSTAMP:20260423T031655
CREATED:20200130T205653Z
LAST-MODIFIED:20200130T205653Z
UID:12826-1584144000-1584230399@swf.sk.ca
SUMMARY:MJWF Youth and Family Ice Tournament
DESCRIPTION:
URL:https://swf.sk.ca/event/mjwf-youth-and-family-ice-tournament/
LOCATION:Buffalo Pound Provincial Park Launch
END:VEVENT
BEGIN:VEVENT
DTSTART;TZID=America/Regina:20200311T080000
DTEND;TZID=America/Regina:20200311T170000
DTSTAMP:20260423T031655
CREATED:20200310T144002Z
LAST-MODIFIED:20200310T144144Z
UID:12907-1583913600-1583946000@swf.sk.ca
SUMMARY:TEST EVENT
DESCRIPTION:Body of the event
URL:https://swf.sk.ca/event/test-event/
LOCATION:SK
END:VEVENT
BEGIN:VEVENT
DTSTART;VALUE=DATE:20200310
DTEND;VALUE=DATE:20200311
DTSTAMP:20260423T031655
CREATED:20200130T205551Z
LAST-MODIFIED:20200130T205551Z
UID:12825-1583798400-1583884799@swf.sk.ca
SUMMARY:Moose Jaw AGM
DESCRIPTION:
URL:https://swf.sk.ca/event/moose-jaw-agm-2/
LOCATION:MJWF Clubhouse\, 1396 3 Ave NE\, S6H 1G3
END:VEVENT
BEGIN:VEVENT
DTSTART;TZID=America/Regina:20200307T173000
DTEND;TZID=America/Regina:20200308T003000
DTSTAMP:20260423T031655
CREATED:20200129T193117Z
LAST-MODIFIED:20200129T193305Z
UID:12820-1583602200-1583627400@swf.sk.ca
SUMMARY:Melville Fish & Game League 35th Annual Banquet
DESCRIPTION:Guest Speaker Rough Rider Grey Cup Champion Brendon Labatte
URL:https://swf.sk.ca/event/melville-fish-game-league-annual-banquet/
LOCATION:Horizon Credit Union Centre\, 575 2nd Ave W\, Melville\, Saskatchewan\, S0A 2P0\, Canada
END:VEVENT
BEGIN:VEVENT
DTSTART;TZID=America/Regina:20200307T000000
DTEND;TZID=America/Regina:20200307T000000
DTSTAMP:20260423T031655
CREATED:20191217T212458Z
LAST-MODIFIED:20200218T184451Z
UID:12732-1583539200-1583539200@swf.sk.ca
SUMMARY:Esterhazy Annual  Awards Banquet
DESCRIPTION:Cocktails at 5:30 \nSupper at 6:30
URL:https://swf.sk.ca/event/esterhazy-annual-awards-banquet-2/
LOCATION:S.N. Boreen Centre\, 800 - 4th Avenue\, Esterhazy\, Saskatchewan\, S0A 0X0\, Canada
END:VEVENT
BEGIN:VEVENT
DTSTART;VALUE=DATE:20200307
DTEND;VALUE=DATE:20200308
DTSTAMP:20260423T031655
CREATED:20200214T152913Z
LAST-MODIFIED:20200214T152913Z
UID:12862-1583539200-1583625599@swf.sk.ca
SUMMARY:Battlefords Intermediate Bird ID Workshop
DESCRIPTION:Battlefords Intermediate Bird ID Workshop \nTo Register and receive information after the workshop\, sign up at Battlefords.eventbrite.ca or leave your email address at the door.
URL:https://swf.sk.ca/event/battlefords-intermediate-bird-id-workshop-2/
LOCATION:Battlefords Wildlife Building\, 9710 Thatcher avenue juction of hwy 16& 40\, North Battleford\, Saskatchewan\, Canada
END:VEVENT
BEGIN:VEVENT
DTSTART;VALUE=DATE:20200307
DTEND;VALUE=DATE:20200308
DTSTAMP:20260423T031655
CREATED:20200210T182800Z
LAST-MODIFIED:20200210T182800Z
UID:12853-1583539200-1583625599@swf.sk.ca
SUMMARY:Nipawin Fish & Game League Annual Awards Night & F/R
DESCRIPTION:
URL:https://swf.sk.ca/event/nipawin-fish-game-league-annual-awards-night-f-r/
LOCATION:SK
END:VEVENT
BEGIN:VEVENT
DTSTART;VALUE=DATE:20200229
DTEND;VALUE=DATE:20200301
DTSTAMP:20260423T031655
CREATED:20200114T213414Z
LAST-MODIFIED:20200214T152740Z
UID:12792-1582934400-1583020799@swf.sk.ca
SUMMARY:Battlefords Intermediate Bird ID Workshop
DESCRIPTION:Battlefords Intermediate Bird ID Workshop \nTo Register and receive information after the workshop\, sign up at Battlefords.eventbrite.ca or leave your email address at the door. \n 
URL:https://swf.sk.ca/event/battlefords-intermediate-bird-id-workshop/
LOCATION:Battlefords Wildlife Building
ORGANIZER;CN="Vickey Guttormson":MAILTO:bwf.sk@sasktel.net
END:VEVENT
BEGIN:VEVENT
DTSTART;VALUE=DATE:20200220
DTEND;VALUE=DATE:20200223
DTSTAMP:20260423T031655
CREATED:20191025T220401Z
LAST-MODIFIED:20191025T221038Z
UID:12675-1582156800-1582415999@swf.sk.ca
SUMMARY:SWF Convention
DESCRIPTION:For Registration and more information: https://swf.sk.ca/annual-convention/
URL:https://swf.sk.ca/event/swf-convention/
LOCATION:Cugnet Center\, 629 King St\, Weyburn\, Saskatchewan\, S4H 0P7\, Canada
END:VEVENT
BEGIN:VEVENT
DTSTART;VALUE=DATE:20200208
DTEND;VALUE=DATE:20200209
DTSTAMP:20260423T031655
CREATED:20191114T201700Z
LAST-MODIFIED:20191114T201700Z
UID:12700-1581120000-1581206399@swf.sk.ca
SUMMARY:Battleford WF Annual Awards Banquet
DESCRIPTION:
URL:https://swf.sk.ca/event/battleford-wf-annual-awards-banquet/
LOCATION:SK
END:VEVENT
BEGIN:VEVENT
DTSTART;VALUE=DATE:20200206
DTEND;VALUE=DATE:20200207
DTSTAMP:20260423T031655
CREATED:20191120T151341Z
LAST-MODIFIED:20191120T151341Z
UID:12705-1580947200-1581033599@swf.sk.ca
SUMMARY:Kyle Fish & Game League Annual Awards & Banquet
DESCRIPTION:
URL:https://swf.sk.ca/event/kyle-fish-game-league-annual-awards-banquet/
LOCATION:SK
END:VEVENT
BEGIN:VEVENT
DTSTART;TZID=America/Regina:20200201T110000
DTEND;TZID=America/Regina:20200201T170000
DTSTAMP:20260423T031655
CREATED:20200116T160755Z
LAST-MODIFIED:20200116T160821Z
UID:12796-1580554800-1580576400@swf.sk.ca
SUMMARY:WRSOS Gone Wildlife For Wildlife event
DESCRIPTION:Established in 2006\, the Wildlife Rehabilitation Society of Saskatchewan is a volunteer based\, registered charitable organization committed to keeping Saskatchewan’s wildlife wild. RC#899049399RR0001. \nWRSOS maintains a province wide hotline – 12 hours a day\, 365 days a year. It is here that people can call for help or information regarding wildlife issues. A dramatic increase in calls from 177 in our first year to well over 3000 in 2018 demonstrates a real need for our organization and the services we provide. \nThrough our hotline and with the help of many volunteers across the province\, WRSOS coordinates rescues\, transportation\, arranges veterinarian care and rehabilitation and release support. We work in partnership with organizations and businesses across the province that share the view that people and wildlife can successfully coexist. \n\n\n\n\nThe event’s goal is to raise awareness and knowledge about wildlife preservation\, protection and rehabilitation in Saskatchewan and Canada. There will be live wildlife\, exhibits (booths)\, fun and informative lectures\, interactive displays\, and a silent auction fundraiser for WRSOS. There will also be games and activities for children such as face painting\, owl pellet dissections\, science experiments\, suet making\, juggling school and more.
URL:https://swf.sk.ca/event/wrsos-gone-wildlife-for-wildlife-event/
LOCATION:Saskatoon German Cultural Centre\, Saskatoon\, Saskatchewan\, Canada
END:VEVENT
BEGIN:VEVENT
DTSTART;VALUE=DATE:20200201
DTEND;VALUE=DATE:20200202
DTSTAMP:20260423T031655
CREATED:20191025T213026Z
LAST-MODIFIED:20191025T221117Z
UID:12667-1580515200-1580601599@swf.sk.ca
SUMMARY:Wapella Pipestone WF Annual Awards & F/R
DESCRIPTION:
URL:https://swf.sk.ca/event/wapella-pipestone-annual-awards-f-r/
LOCATION:SK
END:VEVENT
BEGIN:VEVENT
DTSTART;TZID=America/Regina:20200125T170000
DTEND;TZID=America/Regina:20200125T170000
DTSTAMP:20260423T031655
CREATED:20191002T184639Z
LAST-MODIFIED:20191002T203549Z
UID:12648-1579971600-1579971600@swf.sk.ca
SUMMARY:Valley View WF 40th Anniversary Awards & F/R Night
DESCRIPTION:Valley View 40th Anniversary Awards and Fundraising Night \nHappy Hour 5:00 \nSupper 6:30 \n  \nRoute 605 Band to follow.
URL:https://swf.sk.ca/event/valley-view-wf-40th-anniversary-awards-f-r-night/
LOCATION:Stockholm Community Center\, Stockholm\, Saskatchewan\, S0A 3Y0\, Canada
END:VEVENT
END:VCALENDAR