BEGIN:VCALENDAR
VERSION:2.0
PRODID:-//Saskatchewan Wildlife Federation - ECPv6.15.13.1//NONSGML v1.0//EN
CALSCALE:GREGORIAN
METHOD:PUBLISH
X-WR-CALNAME:Saskatchewan Wildlife Federation
X-ORIGINAL-URL:https://swf.sk.ca
X-WR-CALDESC:Events for Saskatchewan Wildlife Federation
REFRESH-INTERVAL;VALUE=DURATION:PT1H
X-Robots-Tag:noindex
X-PUBLISHED-TTL:PT1H
BEGIN:VTIMEZONE
TZID:America/Regina
BEGIN:STANDARD
TZOFFSETFROM:-0600
TZOFFSETTO:-0600
TZNAME:CST
DTSTART:20250101T000000
END:STANDARD
END:VTIMEZONE
BEGIN:VEVENT
DTSTART;TZID=America/Regina:20260123T190000
DTEND;TZID=America/Regina:20260123T210000
DTSTAMP:20260422T162925
CREATED:20251103T194648Z
LAST-MODIFIED:20251103T194648Z
UID:26601-1769194800-1769202000@swf.sk.ca
SUMMARY:Melville Fish and Game AGM & Awards
DESCRIPTION:
URL:https://swf.sk.ca/event/melville-fish-and-game-agm-awards/
LOCATION:Melville Community Works\, 800 Prince Edward Street\, Melville\, Saskatchewan\, S0A 2P0\, Canada
END:VEVENT
BEGIN:VEVENT
DTSTART;VALUE=DATE:20260124
DTEND;VALUE=DATE:20260125
DTSTAMP:20260422T162925
CREATED:20260105T153251Z
LAST-MODIFIED:20260105T153251Z
UID:26742-1769212800-1769299199@swf.sk.ca
SUMMARY:Estevan Wildlife Federation Awards Night
DESCRIPTION:
URL:https://swf.sk.ca/event/estevan-wildlife-federation-awards-night/
END:VEVENT
BEGIN:VEVENT
DTSTART;TZID=America/Regina:20260201T170000
DTEND;TZID=America/Regina:20260201T190000
DTSTAMP:20260422T162925
CREATED:20260105T153425Z
LAST-MODIFIED:20260105T153425Z
UID:26744-1769965200-1769972400@swf.sk.ca
SUMMARY:Tisdale Wildlife Federation Fish Fry
DESCRIPTION:Venue Name & Address\n\n\n\nTisdale Recplex Auditorium\n\n\n\n\n\n\n800 101 st.\nTisdale\, Saskatchewan S0E 1T0\nCanada\nMap It\n\n\nEvent Contact Person\n\n\n\nJenifer Hidlebaugh\n\n\nPhone\n\n\n\n(306) 873-6796\n\n\nEmail\n\n\n\nsexycoconuts_88@hotmail.com\n\n\nEvent Submitted by: (Name & Phone)\n\n\n\nJenifer Hidlebaugh 306-873-6796
URL:https://swf.sk.ca/event/tisdale-wildlife-federation-fish-fry-4/
END:VEVENT
BEGIN:VEVENT
DTSTART;VALUE=DATE:20260212
DTEND;VALUE=DATE:20260215
DTSTAMP:20260422T162925
CREATED:20250925T163106Z
LAST-MODIFIED:20250925T163106Z
UID:26280-1770854400-1771113599@swf.sk.ca
SUMMARY:97th Annual Convention
DESCRIPTION:
URL:https://swf.sk.ca/event/97th-annual-convention/
LOCATION:St. Mary’s Cultural Centre – Yorkton\, SK
END:VEVENT
BEGIN:VEVENT
DTSTART;VALUE=DATE:20260307
DTEND;VALUE=DATE:20260308
DTSTAMP:20260422T162925
CREATED:20260116T213013Z
LAST-MODIFIED:20260116T213013Z
UID:26760-1772841600-1772927999@swf.sk.ca
SUMMARY:Esterhazy Wildlife Federation’s Annual Banquet and Awards Night
DESCRIPTION:
URL:https://swf.sk.ca/event/esterhazy-wildlife-federations-annual-banquet-and-awards-night/
END:VEVENT
BEGIN:VEVENT
DTSTART;VALUE=DATE:20260314
DTEND;VALUE=DATE:20260315
DTSTAMP:20260422T162925
CREATED:20250909T195411Z
LAST-MODIFIED:20250909T195811Z
UID:26121-1773446400-1773532799@swf.sk.ca
SUMMARY:Weyburn Wildlife Federation Mainprize Fishing Derby
DESCRIPTION:
URL:https://swf.sk.ca/event/weyburn-wildlife-federation-mainprize-fishing-derby-2/
END:VEVENT
BEGIN:VEVENT
DTSTART;TZID=America/Regina:20260314T173000
DTEND;TZID=America/Regina:20260314T233000
DTSTAMP:20260422T162925
CREATED:20260204T174315Z
LAST-MODIFIED:20260204T174315Z
UID:26894-1773509400-1773531000@swf.sk.ca
SUMMARY:Melville Fish and Game Annual Banquet and Fundraiser
DESCRIPTION:Venue Name & Address\n\n\n\nMelville Legion Hall\n\n\n\n\n\n\n136-3rd Ave. West\nMelville\, Saskatchewan S0A 2P0\nCanada\nMap It\n\n\nEvent Contact Person\n\n\n\nKen Somogyi\n\n\nPhone\n\n\n\n(306) 730-6671\n\n\nEmail\n\n\n\nsomogyi@sasktel.net\n\n\nAdditional Event Contact(s)\n\n\n\nPhilip Graff 306-730-7875\n\n\nEvent Submitted by: (Name & Phone)\n\n\n\nKen Somogyi 306-730-6671
URL:https://swf.sk.ca/event/melville-fish-and-game-annual-banquet-and-fundraiser-2/
END:VEVENT
BEGIN:VEVENT
DTSTART;VALUE=DATE:20260321
DTEND;VALUE=DATE:20260322
DTSTAMP:20260422T162925
CREATED:20260116T172050Z
LAST-MODIFIED:20260116T172050Z
UID:26759-1774051200-1774137599@swf.sk.ca
SUMMARY:Eagle Creek Wildlife Federation 55th Annual Fundraiser & Awards
DESCRIPTION:@ Perdue Complex
URL:https://swf.sk.ca/event/eagle-creek-wildlife-federation-55th-annual-fundraiser-awards/
END:VEVENT
BEGIN:VEVENT
DTSTART;TZID=America/Regina:20260321T170000
DTEND;TZID=America/Regina:20260321T233000
DTSTAMP:20260422T162925
CREATED:20260115T174457Z
LAST-MODIFIED:20260115T174457Z
UID:26758-1774112400-1774135800@swf.sk.ca
SUMMARY:Nipawin Fish & Game League Annual Awards and Fundraiser Night
DESCRIPTION:Venue Name & Address\n\n\n\nNipawin Fish & Game Memorial Hall\n\n\n\n\n\n\n10 Gordon Street- Nipawin Regional Park\nNipawin\, Saskatchewan S0E 1E0\nCanada\nMap It\n\n\nEvent Contact Person\n\n\n\nShirley Masse\n\n\nPhone\n\n\n\n(306) 812-7700\n\n\nEmail\n\n\n\nnipawinfishgame@hotmail.com\n\n\nAdditional Event Contact(s)\n\n\n\nMike Remenda 306-276-8267\nmikeremenda@sasktel.net\n\n\nEvent Submitted by: (Name & Phone)\n\n\n\nShirley Masse 306-812-7700
URL:https://swf.sk.ca/event/nipawin-fish-game-league-annual-awards-and-fundraiser-night/
END:VEVENT
BEGIN:VEVENT
DTSTART;TZID=America/Regina:20260321T170000
DTEND;TZID=America/Regina:20260322T170000
DTSTAMP:20260422T162925
CREATED:20251118T185006Z
LAST-MODIFIED:20251118T185006Z
UID:26647-1774112400-1774198800@swf.sk.ca
SUMMARY:Tisdale Wildlife Federation Banquet and Fundraiser
DESCRIPTION:Venue Name & Address\n\n\n\nRecplex Auditorium\n\n\n\n\n\n\n800 101 street\nTisdale\, Saskatchewan S0E 1T0\nCanada\nMap It\n\n\nEvent Contact Person\n\n\n\nJenifer Hidlebaugh\n\n\nPhone\n\n\n\n(306) 873-6796\n\n\nEmail\n\n\n\nsexycoconuts_88@hotmail.com\n\n\nAdditional Information\n\n\n\nDoors open at 5:00pm and will go to about 2:00 am March 21st\, 2026\n\n\nEvent Submitted by: (Name & Phone)\n\n\n\nJenifer Hidlebaugh 306-873-6796
URL:https://swf.sk.ca/event/tisdale-wildlife-federation-banquet-and-fundraiser/
END:VEVENT
BEGIN:VEVENT
DTSTART;VALUE=DATE:20260327
DTEND;VALUE=DATE:20260330
DTSTAMP:20260422T162925
CREATED:20260122T220646Z
LAST-MODIFIED:20260122T220646Z
UID:26770-1774569600-1774828799@swf.sk.ca
SUMMARY:Winter Women's Outdoor Weekend
DESCRIPTION:Women’s Outdoor Weekend \n \n 
URL:https://swf.sk.ca/event/winter-womens-outdoor-weekend-2/
END:VEVENT
BEGIN:VEVENT
DTSTART;VALUE=DATE:20260328
DTEND;VALUE=DATE:20260329
DTSTAMP:20260422T162925
CREATED:20260303T173452Z
LAST-MODIFIED:20260303T173452Z
UID:27150-1774656000-1774742399@swf.sk.ca
SUMMARY:East Shore Wildlife Annual Banquet
DESCRIPTION:This year our annual spring banquet will be held on Saturday\, March 28th at the Strasbourg Hall. We have a great guest speaker lined up and there will be delicious food served  and lots of raffle prizes to be won as well! Don’t miss out on a great evening while helping to support wildlife!\nHope to see you there.\n\nTickets :    Adults               $40\n                 Kids 6-12          $20\n                 Kids under 5     Free\n\n\nPlease contact one of the following members to get your ticket and ensure you have a seat.\n\nBob Wilson – 306- 731-2938\nMurray Wild – 306-731-3213\nJason Bleu – 306-533-9497\nRon Bute – 306 – 725-1381\nJody Thorne – 306-313-7666
URL:https://swf.sk.ca/event/east-shore-wildlife-annual-banquet/
END:VEVENT
BEGIN:VEVENT
DTSTART;VALUE=DATE:20260401
DTEND;VALUE=DATE:20260402
DTSTAMP:20260422T162925
CREATED:20260122T221026Z
LAST-MODIFIED:20260122T221026Z
UID:26776-1775001600-1775087999@swf.sk.ca
SUMMARY:Fish Artwork Contest Opens
DESCRIPTION:Fish Artwork Contest
URL:https://swf.sk.ca/event/fish-artwork-contest-opens/
END:VEVENT
BEGIN:VEVENT
DTSTART;TZID=America/Regina:20260410T090000
DTEND;TZID=America/Regina:20260418T150000
DTSTAMP:20260422T162925
CREATED:20260408T155811Z
LAST-MODIFIED:20260408T155811Z
UID:27502-1775811600-1776524400@swf.sk.ca
SUMMARY:Mallard Wildlife Federation Online Auction April 10-18
DESCRIPTION:Mallard Wildlife Federation will be holding an online Facebook Auction starting April 10 running until April 18 at 3 pm.\nAuction items can be viewed on Mallard Wildlife Facebook page!\nMallard Wildlife Federation | Facebook
URL:https://swf.sk.ca/event/mallard-wildlife-federation-online-auction-april-10-18/
END:VEVENT
BEGIN:VEVENT
DTSTART;VALUE=DATE:20260411
DTEND;VALUE=DATE:20260412
DTSTAMP:20260422T162925
CREATED:20260113T213311Z
LAST-MODIFIED:20260113T213311Z
UID:26755-1775865600-1775951999@swf.sk.ca
SUMMARY:Save A Goose Annual Trophy Night Fundraiser and Banquet
DESCRIPTION:@ Francis\, Sask.
URL:https://swf.sk.ca/event/save-a-goose-annual-trophy-night-fundraiser-and-banquet/
END:VEVENT
BEGIN:VEVENT
DTSTART;TZID=America/Regina:20260411T170000
DTEND;TZID=America/Regina:20260411T233000
DTSTAMP:20260422T162925
CREATED:20260204T173948Z
LAST-MODIFIED:20260204T173948Z
UID:26892-1775926800-1775950200@swf.sk.ca
SUMMARY:42nd Annual Valley Trails Wildlife Federation Banquet & Fundraiser
DESCRIPTION:
URL:https://swf.sk.ca/event/42nd-annual-valley-trails-wildlife-federation-banquet-fundraiser/
END:VEVENT
BEGIN:VEVENT
DTSTART;TZID=America/Regina:20260415T183000
DTEND;TZID=America/Regina:20260415T213000
DTSTAMP:20260422T162925
CREATED:20260325T193848Z
LAST-MODIFIED:20260325T194241Z
UID:27393-1776277800-1776288600@swf.sk.ca
SUMMARY:Region 1 - Spring Regional Meeting (via zoom)
DESCRIPTION:
URL:https://swf.sk.ca/event/region-1-spring-meeting-virtual/
END:VEVENT
BEGIN:VEVENT
DTSTART;VALUE=DATE:20260417
DTEND;VALUE=DATE:20260419
DTSTAMP:20260422T162925
CREATED:20250909T195507Z
LAST-MODIFIED:20250909T195507Z
UID:26122-1776384000-1776556799@swf.sk.ca
SUMMARY:Weyburn Wildlife Federation Gun & Outdoor Show - Hunt\, Fish and Explore!
DESCRIPTION:
URL:https://swf.sk.ca/event/weyburn-wildlife-federation-gun-outdoor-show-hunt-fish-and-explore/
END:VEVENT
BEGIN:VEVENT
DTSTART;VALUE=DATE:20260418
DTEND;VALUE=DATE:20260419
DTSTAMP:20260422T162925
CREATED:20250909T195542Z
LAST-MODIFIED:20250909T195542Z
UID:26123-1776470400-1776556799@swf.sk.ca
SUMMARY:Weyburn Wildlife Federation Memorial Banquet & Trophy Night
DESCRIPTION:
URL:https://swf.sk.ca/event/weyburn-wildlife-federation-memorial-banquet-trophy-night/
END:VEVENT
BEGIN:VEVENT
DTSTART;VALUE=DATE:20260418
DTEND;VALUE=DATE:20260420
DTSTAMP:20260422T162925
CREATED:20251022T201252Z
LAST-MODIFIED:20251022T201308Z
UID:26517-1776470400-1776643199@swf.sk.ca
SUMMARY:Provincial/National NASP Tournament Moose Jaw
DESCRIPTION:
URL:https://swf.sk.ca/event/provincial-nasp-tournament-moose-jaw/
LOCATION:Yara Center\, Moose Jaw\, Saskatchewan
ORGANIZER;CN="Blaine Olfert":MAILTO:bolfert@swf.sk.ca
END:VEVENT
BEGIN:VEVENT
DTSTART;VALUE=DATE:20260418
DTEND;VALUE=DATE:20260419
DTSTAMP:20260422T162925
CREATED:20251023T194442Z
LAST-MODIFIED:20251023T194442Z
UID:26531-1776470400-1776556799@swf.sk.ca
SUMMARY:Redberry Wildlife Federation Banquet
DESCRIPTION:
URL:https://swf.sk.ca/event/redberry-wildlife-federation-banquet-2/
END:VEVENT
BEGIN:VEVENT
DTSTART;VALUE=DATE:20260418
DTEND;VALUE=DATE:20260419
DTSTAMP:20260422T162925
CREATED:20251107T154031Z
LAST-MODIFIED:20251107T154037Z
UID:26628-1776470400-1776556799@swf.sk.ca
SUMMARY:River City Wildlife Federation Fundraising Dinner
DESCRIPTION:
URL:https://swf.sk.ca/event/river-city-wildlife-federation-fundraising-dinner/
END:VEVENT
BEGIN:VEVENT
DTSTART;VALUE=DATE:20260418
DTEND;VALUE=DATE:20260419
DTSTAMP:20260422T162925
CREATED:20260105T153337Z
LAST-MODIFIED:20260105T153337Z
UID:26743-1776470400-1776556799@swf.sk.ca
SUMMARY:Estevan Wildlife Federation 40th Annual Fundraiser Dinner & Auction
DESCRIPTION:
URL:https://swf.sk.ca/event/estevan-wildlife-federation-40th-annual-fundraiser-dinner-auction/
END:VEVENT
BEGIN:VEVENT
DTSTART;VALUE=DATE:20260418
DTEND;VALUE=DATE:20260419
DTSTAMP:20260422T162925
CREATED:20260225T174059Z
LAST-MODIFIED:20260225T174059Z
UID:27104-1776470400-1776556799@swf.sk.ca
SUMMARY:Lake Lenore Wildlife Federation 75th Annual Awards and Banquet
DESCRIPTION:featuring the Dam Smokehouse and keynote speaker John Gormley
URL:https://swf.sk.ca/event/lake-lenore-wildlife-federation-75th-annual-awards-and-banquet/
END:VEVENT
BEGIN:VEVENT
DTSTART;VALUE=DATE:20260418
DTEND;VALUE=DATE:20260419
DTSTAMP:20260422T162925
CREATED:20260408T215520Z
LAST-MODIFIED:20260408T215520Z
UID:27503-1776470400-1776556799@swf.sk.ca
SUMMARY:Kamsack Wildlife Federation Banquet
DESCRIPTION:
URL:https://swf.sk.ca/event/kamsack-wildlife-federation-banquet/
END:VEVENT
BEGIN:VEVENT
DTSTART;TZID=America/Regina:20260418T170000
DTEND;TZID=America/Regina:20260418T230000
DTSTAMP:20260422T162925
CREATED:20251029T180335Z
LAST-MODIFIED:20251029T180335Z
UID:26574-1776531600-1776553200@swf.sk.ca
SUMMARY:Cater Lake Wildlife Federation Award Banquet
DESCRIPTION:Annual Awards Banquet
URL:https://swf.sk.ca/event/cater-lake-wildlife-federation-award-banquet/
LOCATION:Medstead Community Hall
ORGANIZER;CN="Al Roske":MAILTO:alroske66@gmail.com
END:VEVENT
BEGIN:VEVENT
DTSTART;TZID=America/Regina:20260418T173000
DTEND;TZID=America/Regina:20260418T213000
DTSTAMP:20260422T162925
CREATED:20250911T173410Z
LAST-MODIFIED:20250911T173410Z
UID:26154-1776533400-1776547800@swf.sk.ca
SUMMARY:Moose Jaw Wildlife Federation Fundraising Dinner
DESCRIPTION:
URL:https://swf.sk.ca/event/moose-jaw-wildlife-federation-fundraising-dinner/
END:VEVENT
BEGIN:VEVENT
DTSTART;VALUE=DATE:20260419
DTEND;VALUE=DATE:20260420
DTSTAMP:20260422T162925
CREATED:20260408T154241Z
LAST-MODIFIED:20260408T154321Z
UID:27498-1776556800-1776643199@swf.sk.ca
SUMMARY:Mallard Wildlife Federation Annual Fish Fry
DESCRIPTION:
URL:https://swf.sk.ca/event/mallard-wildlife-federation-annual-fish-fry/
LOCATION:Rose Valley Community Hall\, Rose Valley\, Saskatchewan\, S0E 1M0\, Canada
END:VEVENT
BEGIN:VEVENT
DTSTART;TZID=America/Regina:20260422T183000
DTEND;TZID=America/Regina:20260422T213000
DTSTAMP:20260422T162925
CREATED:20260325T194319Z
LAST-MODIFIED:20260325T194319Z
UID:27396-1776882600-1776893400@swf.sk.ca
SUMMARY:Region 3 - Spring Regional Meeting (via zoom)
DESCRIPTION:
URL:https://swf.sk.ca/event/region-3-spring-regional-meeting-via-zoom/
END:VEVENT
BEGIN:VEVENT
DTSTART;TZID=America/Regina:20260423T183000
DTEND;TZID=America/Regina:20260423T213000
DTSTAMP:20260422T162925
CREATED:20260325T195343Z
LAST-MODIFIED:20260325T195343Z
UID:27398-1776969000-1776979800@swf.sk.ca
SUMMARY:Region 5 - Spring Regional Meeting (via zoom)
DESCRIPTION:
URL:https://swf.sk.ca/event/region-5-spring-regional-meeting-via-zoom/
END:VEVENT
END:VCALENDAR