BEGIN:VCALENDAR
VERSION:2.0
PRODID:-//Saskatchewan Wildlife Federation - ECPv6.15.13.1//NONSGML v1.0//EN
CALSCALE:GREGORIAN
METHOD:PUBLISH
X-ORIGINAL-URL:https://swf.sk.ca
X-WR-CALDESC:Events for Saskatchewan Wildlife Federation
REFRESH-INTERVAL;VALUE=DURATION:PT1H
X-Robots-Tag:noindex
X-PUBLISHED-TTL:PT1H
BEGIN:VTIMEZONE
TZID:America/Regina
BEGIN:STANDARD
TZOFFSETFROM:-0600
TZOFFSETTO:-0600
TZNAME:CST
DTSTART:20250101T000000
END:STANDARD
END:VTIMEZONE
BEGIN:VEVENT
DTSTART;VALUE=DATE:20260606
DTEND;VALUE=DATE:20260607
DTSTAMP:20260420T155512
CREATED:20251113T210039Z
LAST-MODIFIED:20251113T210039Z
UID:26644-1780704000-1780790399@swf.sk.ca
SUMMARY:Humboldt Wildlife Federation's 4th Annual Youth Engagement Day
DESCRIPTION:
URL:https://swf.sk.ca/event/humboldt-wildlife-federations-4th-annual-youth-engagement-day/
END:VEVENT
BEGIN:VEVENT
DTSTART;TZID=America/Regina:20260617T120000
DTEND;TZID=America/Regina:20260617T190000
DTSTAMP:20260420T155512
CREATED:20260326T210611Z
LAST-MODIFIED:20260326T210844Z
UID:27410-1781697600-1781722800@swf.sk.ca
SUMMARY:20th Annual Habitat Trust Golf Tournament
DESCRIPTION:
URL:https://swf.sk.ca/event/20th-annual-habitat-trust-golf-tournament/
LOCATION:Humboldt Golf Club\, Humboldt\, Saskatchewan\, Canada
ATTACH;FMTTYPE=image/png:https://swf.sk.ca/wp-content/uploads/2026/03/Golf-Poster-2026.png
END:VEVENT
BEGIN:VEVENT
DTSTART;VALUE=DATE:20260703
DTEND;VALUE=DATE:20260706
DTSTAMP:20260420T155512
CREATED:20260410T200637Z
LAST-MODIFIED:20260410T200637Z
UID:27511-1783036800-1783295999@swf.sk.ca
SUMMARY:Duncairn Dam (Reid Lake) Catch and Release Walleye Tournament (Shaunavon Wildlife Federation)
DESCRIPTION:
URL:https://swf.sk.ca/event/duncairn-dam-reid-lake-catch-and-release-walleye-tournament-shaunavon-wildlife-federation/
END:VEVENT
BEGIN:VEVENT
DTSTART;VALUE=DATE:20260731
DTEND;VALUE=DATE:20260804
DTSTAMP:20260420T155512
CREATED:20260331T175222Z
LAST-MODIFIED:20260331T175222Z
UID:27467-1785456000-1785801599@swf.sk.ca
SUMMARY:River City Wildlife Women’s Fishing Weekend
DESCRIPTION:@ Thompson’s Resort Otter Lake
URL:https://swf.sk.ca/event/river-city-wildlife-womens-fishing-weekend/
END:VEVENT
BEGIN:VEVENT
DTSTART;VALUE=DATE:20260804
DTEND;VALUE=DATE:20260809
DTSTAMP:20260420T155512
CREATED:20260122T220905Z
LAST-MODIFIED:20260122T220905Z
UID:26774-1785801600-1786233599@swf.sk.ca
SUMMARY:Youth Conservation Camp - Girls Week
DESCRIPTION:Youth Conservation Camp
URL:https://swf.sk.ca/event/youth-conservation-camp-girls-week-2/
END:VEVENT
BEGIN:VEVENT
DTSTART;VALUE=DATE:20260811
DTEND;VALUE=DATE:20260816
DTSTAMP:20260420T155512
CREATED:20260122T220939Z
LAST-MODIFIED:20260122T220939Z
UID:26775-1786406400-1786838399@swf.sk.ca
SUMMARY:Youth Conservation Camps - Boys Week
DESCRIPTION:Youth Conservation Camp
URL:https://swf.sk.ca/event/youth-conservation-camps-boys-week-2/
END:VEVENT
BEGIN:VEVENT
DTSTART;VALUE=DATE:20260925
DTEND;VALUE=DATE:20260928
DTSTAMP:20260420T155512
CREATED:20260122T220818Z
LAST-MODIFIED:20260122T220818Z
UID:26773-1790294400-1790553599@swf.sk.ca
SUMMARY:Fall Women's Outdoor Weekend
DESCRIPTION:Women’s Outdoor Weekend
URL:https://swf.sk.ca/event/fall-womens-outdoor-weekend-5/
END:VEVENT
END:VCALENDAR