BEGIN:VCALENDAR
VERSION:2.0
PRODID:-//Saskatchewan Wildlife Federation - ECPv6.15.13.1//NONSGML v1.0//EN
CALSCALE:GREGORIAN
METHOD:PUBLISH
X-WR-CALNAME:Saskatchewan Wildlife Federation
X-ORIGINAL-URL:https://swf.sk.ca
X-WR-CALDESC:Events for Saskatchewan Wildlife Federation
REFRESH-INTERVAL;VALUE=DURATION:PT1H
X-Robots-Tag:noindex
X-PUBLISHED-TTL:PT1H
BEGIN:VTIMEZONE
TZID:America/Regina
BEGIN:STANDARD
TZOFFSETFROM:-0600
TZOFFSETTO:-0600
TZNAME:CST
DTSTART:20190101T000000
END:STANDARD
END:VTIMEZONE
BEGIN:VEVENT
DTSTART;TZID=America/Regina:20211211T133000
DTEND;TZID=America/Regina:20211211T133000
DTSTAMP:20260422T163203
CREATED:20211027T153727Z
LAST-MODIFIED:20211028T135543Z
UID:14689-1639229400-1639229400@swf.sk.ca
SUMMARY:East Shore Wildlife Federation AGM & Anter Scoring Night
DESCRIPTION:
URL:https://swf.sk.ca/event/east-shore-wildlife-federation-agm-anter-scoring-night/
LOCATION:Strasbourg Memorial Hall\, 113 Pearson Street\, Strasbourg\, Saskatchewan\, S0G 4V0\, Canada
END:VEVENT
BEGIN:VEVENT
DTSTART;TZID=America/Regina:20211211T090000
DTEND;TZID=America/Regina:20211211T150000
DTSTAMP:20260422T163203
CREATED:20211115T191411Z
LAST-MODIFIED:20211117T210803Z
UID:14778-1639213200-1639234800@swf.sk.ca
SUMMARY:Nipawin Fish and Game League Big Game Scoring Day
DESCRIPTION:
URL:https://swf.sk.ca/event/nipawin-fish-and-game-league-big-game-scoring-day/
LOCATION:Nipawin Fish & Game Memorial Hall\, Regional Park\, Nipawin\, saskatchewan\, Canada
END:VEVENT
BEGIN:VEVENT
DTSTART;TZID=America/Regina:20211210T190000
DTEND;TZID=America/Regina:20211210T220000
DTSTAMP:20260422T163203
CREATED:20211115T153901Z
LAST-MODIFIED:20211115T153901Z
UID:14777-1639162800-1639173600@swf.sk.ca
SUMMARY:Fort Qu'Appelle & District Wildlife Federation Antler Scoring Night
DESCRIPTION:
URL:https://swf.sk.ca/event/fort-quappelle-district-wildlife-federation-antler-scoring-night/
LOCATION:Fort Qu’Appelle Legion\, 194 Company Ave\, Fort Qu'Appelle\, Saskatchewa\, Canada
END:VEVENT
BEGIN:VEVENT
DTSTART;TZID=America/Regina:20211209T183000
DTEND;TZID=America/Regina:20211209T213000
DTSTAMP:20260422T163203
CREATED:20211124T203125Z
LAST-MODIFIED:20211124T203125Z
UID:14810-1639074600-1639085400@swf.sk.ca
SUMMARY:Moose Jaw Wildlife Federation Big Game Scoring Night
DESCRIPTION:We will be hosting our annual Big Game Scoring Night on December 9th from 6:30 pm -9:00 pm at the MJWF Clubhouse. Please find the link below to sign up for a time slot to have your trophy measured. \n\n\nThere are 2 spaces available at each 15 minute time slot.  You must only book 1 space per trophy to be measured. \n\n\nAs we did last year\, you will be requested to check in at your selected time and drop the trophy off to be measured.  All trophies can be picked up after they have been measured and the scores calculated. \n\n**ALL TROPHIES TO BE MEASURED MUST BE CLEAN** \n\n2022 Memberships will also be available for purchase \n\n\n\n2021 MJWF Trophy Scoring night Sign up form
URL:https://swf.sk.ca/event/moose-jaw-wildlife-federation-big-game-scoring-night/
LOCATION:Moose Jaw Wildlife Federation Clubhouse\, 1396 3 Ave NE\, Moose Jaw\, SK\, S6H 1G3\, Canada
END:VEVENT
BEGIN:VEVENT
DTSTART;TZID=America/Regina:20211209T183000
DTEND;TZID=America/Regina:20211209T183000
DTSTAMP:20260422T163203
CREATED:20211201T185730Z
LAST-MODIFIED:20211201T185730Z
UID:14832-1639074600-1639074600@swf.sk.ca
SUMMARY:Valley Trails Horn Scoring Night
DESCRIPTION:It will be a masked event\, but no proof of vaccination required.
URL:https://swf.sk.ca/event/valley-trails-horn-scoring-night/
LOCATION:Osler Community Hall\, 508 1st St\, Osler\, Saskatchewan\, S0K 3A0\, Canada
END:VEVENT
BEGIN:VEVENT
DTSTART;TZID=America/Regina:20211207T150000
DTEND;TZID=America/Regina:20211207T200000
DTSTAMP:20260422T163203
CREATED:20211018T195405Z
LAST-MODIFIED:20211112T200127Z
UID:14630-1638889200-1638907200@swf.sk.ca
SUMMARY:Melville Fish & Game Horn Scoring Night
DESCRIPTION:Melville Fish & Game Horn/Antler scoring night Heads can be scored prier to Dec. 7th\n800 Prince Edward Street\, Saskatchewan Melville\nCanada
URL:https://swf.sk.ca/event/melville-fish-game-horn-scoring-night-2/
LOCATION:Melville Community Works\, 800 Prince Edward Street\, Melville\, Saskatchewan\, S0A 2P0\, Canada
END:VEVENT
BEGIN:VEVENT
DTSTART;TZID=America/Regina:20211205T130000
DTEND;TZID=America/Regina:20211205T130000
DTSTAMP:20260422T163203
CREATED:20211118T215442Z
LAST-MODIFIED:20211118T215442Z
UID:14790-1638709200-1638709200@swf.sk.ca
SUMMARY:Kyle Fish & Game League Horn Scoring Day
DESCRIPTION:Further information to be announced
URL:https://swf.sk.ca/event/kyle-fish-game-league-horn-scoring-day/
END:VEVENT
BEGIN:VEVENT
DTSTART;TZID=America/Regina:20211204T170000
DTEND;TZID=America/Regina:20211204T170000
DTSTAMP:20260422T163203
CREATED:20211103T133735Z
LAST-MODIFIED:20211103T134733Z
UID:14749-1638637200-1638637200@swf.sk.ca
SUMMARY:Redberry Lake Wildlife Federation Horn Measuring
DESCRIPTION:https://www.facebook.com/events/155872526758383/
URL:https://swf.sk.ca/event/redberry-lake-wildlife-federation-horn-measuring/
LOCATION:Orlow Hall\, SK\, Canada
END:VEVENT
BEGIN:VEVENT
DTSTART;VALUE=DATE:20211115
DTEND;VALUE=DATE:20211116
DTSTAMP:20260422T163203
CREATED:20211006T153948Z
LAST-MODIFIED:20211006T153948Z
UID:14557-1636934400-1637020799@swf.sk.ca
SUMMARY:CAMO DAY - Hunting\, Fishing & Trapping Heritage Day
DESCRIPTION:The Saskatchewan Wildlife Federation (SWF) is inviting Saskatchewan residents to celebrate the tradition of hunting\, angling\, and trapping in the province. November 15 is Saskatchewan Hunting\, Fishing and Trapping Heritage Day. \nThe SWF invites individuals and businesses to participate in honoring the Saskatchewan men and women impacting conservation. The day is also designed to raise awareness by having hunters\, trappers\, and anglers\, along with supporters of these ventures to wear camouflage clothing during the Federation’s #CamoDay Celebration on November 15. \nIn addition to wearing camo today\, the SWF encourages supporters to share stories with friends and colleagues and use social media to foster the message. \nSWF members are encouraged to send their Camo Day photos to sask.wildlife@swf.sk.ca for their chance to be featured in an upcoming issue of Outdoor Canada West.
URL:https://swf.sk.ca/event/camo-day-hunting-fishing-trapping-heritage-day/
LOCATION:Saskatchewan\, Canada
END:VEVENT
BEGIN:VEVENT
DTSTART;TZID=America/Regina:20211028T183000
DTEND;TZID=America/Regina:20211028T213000
DTSTAMP:20260422T163203
CREATED:20211006T153716Z
LAST-MODIFIED:20211006T153716Z
UID:14556-1635445800-1635456600@swf.sk.ca
SUMMARY:Region 2 Fall Regional Meeting
DESCRIPTION:
URL:https://swf.sk.ca/event/region-2-fall-regional-meeting-2/
LOCATION:Online via Zoom\, Canada
END:VEVENT
BEGIN:VEVENT
DTSTART;TZID=America/Regina:20211027T183000
DTEND;TZID=America/Regina:20211027T213000
DTSTAMP:20260422T163203
CREATED:20211006T153634Z
LAST-MODIFIED:20211006T153634Z
UID:14554-1635359400-1635370200@swf.sk.ca
SUMMARY:Region 1 Fall Regional Meeting
DESCRIPTION:
URL:https://swf.sk.ca/event/region-1-fall-regional-meeting/
LOCATION:Online via Zoom\, Canada
END:VEVENT
BEGIN:VEVENT
DTSTART;TZID=America/Regina:20211027T090000
DTEND;TZID=America/Regina:20211027T110000
DTSTAMP:20260422T163203
CREATED:20211025T194459Z
LAST-MODIFIED:20211025T194459Z
UID:14675-1635325200-1635332400@swf.sk.ca
SUMMARY:Fox Point Advisory Committee Meeting
DESCRIPTION:To attend\, please follow the Zoom invitation below: \nSaskatchewan Wildlife Federation SWF is inviting you to a scheduled Zoom meeting. \nTopic: Fox Point Advisory Committee Meeting\nTime: Oct 27\, 2021 09:00 AM Saskatchewan \nJoin Zoom Meeting\nhttps://us06web.zoom.us/j/9245699918?pwd=b3E0dTIzbHdHR1A5RS9yclZ1SW9Tdz09 \nMeeting ID: 924 569 9918\nPasscode: 0bk16x \nFind your local number: https://us06web.zoom.us/u/kfTBoRCeS \n 
URL:https://swf.sk.ca/event/fox-point-advisory-committee-meeting/
END:VEVENT
BEGIN:VEVENT
DTSTART;TZID=America/Regina:20211020T183000
DTEND;TZID=America/Regina:20211020T213000
DTSTAMP:20260422T163203
CREATED:20211006T153543Z
LAST-MODIFIED:20211006T153543Z
UID:14553-1634754600-1634765400@swf.sk.ca
SUMMARY:Region 4 Fall Regional Meeting
DESCRIPTION:
URL:https://swf.sk.ca/event/region-4-fall-regional-meeting/
LOCATION:Online via Zoom\, Canada
END:VEVENT
BEGIN:VEVENT
DTSTART;TZID=America/Regina:20211014T183000
DTEND;TZID=America/Regina:20211014T213000
DTSTAMP:20260422T163203
CREATED:20211006T153508Z
LAST-MODIFIED:20211006T153508Z
UID:14552-1634236200-1634247000@swf.sk.ca
SUMMARY:Region 6 Fall Regional Meeting
DESCRIPTION:
URL:https://swf.sk.ca/event/region-6-fall-regional-meeting/
LOCATION:Online via Zoom\, Canada
END:VEVENT
BEGIN:VEVENT
DTSTART;TZID=America/Regina:20211013T183000
DTEND;TZID=America/Regina:20211013T213000
DTSTAMP:20260422T163203
CREATED:20211006T153416Z
LAST-MODIFIED:20211006T153416Z
UID:14550-1634149800-1634160600@swf.sk.ca
SUMMARY:Region 5 Fall Regional Meeting
DESCRIPTION:
URL:https://swf.sk.ca/event/region-5-fall-regional-meeting-2/
LOCATION:Online via Zoom\, Canada
END:VEVENT
BEGIN:VEVENT
DTSTART;TZID=America/Regina:20211012T183000
DTEND;TZID=America/Regina:20211012T213000
DTSTAMP:20260422T163203
CREATED:20211006T153301Z
LAST-MODIFIED:20211006T153301Z
UID:14548-1634063400-1634074200@swf.sk.ca
SUMMARY:Region 3 Fall Regional Meeting
DESCRIPTION:
URL:https://swf.sk.ca/event/region-3-fall-regional-meeting/
LOCATION:Online – Zoom\, Canada
END:VEVENT
BEGIN:VEVENT
DTSTART;TZID=America/Regina:20210924T140000
DTEND;TZID=America/Regina:20210926T140000
DTSTAMP:20260422T163203
CREATED:20210715T201940Z
LAST-MODIFIED:20210715T202039Z
UID:13724-1632492000-1632664800@swf.sk.ca
SUMMARY:Women's Outdoor Weekend (W.O.W.)
DESCRIPTION:SIGN UP FOR THE 2021 WOMEN’S OUTDOOR WEEKEND! \nAre you tired of being cooped up inside? Looking for something to help you make the most of what’s left of summer? Consider the SWF’s Women’s Outdoor Weekend – an opportunity to learn new skills\, try your hand at a variety of wilderness activities and increase your outdoor confidence. \n\nLearn new outdoor skills\nMake new connections\nSpend the weekend outside with nature\nFind a new passion\nBuild lasting friendships\n\nThe SWF is looking forward to another weekend full of canoeing\, axe throwing\, fire building\, boreal plant identification\, archery\, photography\, laughs\, and so much more! Join us September 24-26 2021. Registration is open\, but space is limited so sign up early! \nCost is $175 for SWF members\, or $200 for non-members. \nTo register or for more information\, contact the SWF Central Office at 306-692-8812 or sask.wildlife@swf.sk.ca.
URL:https://swf.sk.ca/event/womens-outdoor-weekend-w-o-w/
LOCATION:Hannin Creek Education and Applied Research Centre\, Paddockwood No. 520\, Candle Lake\, Saskatchewan\, S0J 3E0\, Canada
ATTACH;FMTTYPE=image/png:https://swf.sk.ca/wp-content/uploads/2021/07/Womens-Outdoor-Weekend-2021.png
END:VEVENT
BEGIN:VEVENT
DTSTART;VALUE=DATE:20210717
DTEND;VALUE=DATE:20210719
DTSTAMP:20260422T163203
CREATED:20210622T165521Z
LAST-MODIFIED:20210622T204015Z
UID:13678-1626480000-1626652799@swf.sk.ca
SUMMARY:Sask Landing Walleye Tournament (Kyle Fish & Game League)
DESCRIPTION:  \n  \nIf there are no to little covid restrictions\, the event will have a beer gardens and burgers sold. Kyle Fish and Game sells breakfast sandwiches to the fisherman and a pancake breakfast to the public. Kyle Fish and game also sells “gun” raffle tickets at this event. Progressive 50/50 tickets are being sold by the Kyle Elks Hockey Club for $5 each. If you would like to purchase a ticket\, you can contact/etransfer money to Casey Rempel 3063757223
URL:https://swf.sk.ca/event/sask-landing-walleye-tournament-kyle-fish-game-league/
LOCATION:Sask. Landing Marina\, 1 Main\, Stewart Valley\, Saskatchewan\, S0N 2P0\, Canada
END:VEVENT
BEGIN:VEVENT
DTSTART;TZID=America/Regina:20210710T130000
DTEND;TZID=America/Regina:20210710T170000
DTSTAMP:20260422T163203
CREATED:20210603T175845Z
LAST-MODIFIED:20210603T180751Z
UID:13649-1625922000-1625936400@swf.sk.ca
SUMMARY:3rd Annual Sporting Clay Shoot
DESCRIPTION:Outdoor education programs keep kids engaged in heritage activities\, develop appreciation and respect for the land and wildlife\, hone skills to gain confidence\, and help youth build a connection with their home.\n\n\n\n\nTo support our work in youth education\, we would like to invite you to our 3rd Annual Sporting Clay Shoot on July 10\, 2021 at the clay shooting facilities at the Hanley Sporting Grounds.\n\n\n\n\nBBQ supper will also be available. Cash bar available at supper\, with gun and cart rentals available on site. $80 per person\, includes 15 station course and supper in the evening. You can register in teams of 5 or individually.\n\n\n\n\nRegistration closes July 2\, 2021!\n\n\n\n\nCome on out to hone your skills and have a good time!\n\n\n\n\nTo register\, call 306 692 8812\n\n\n\n\n** This event will comply with all current Covid-19 standards issued by the Ministry of Health. Please contact our main office if you have additional questions or concerns.**
URL:https://swf.sk.ca/event/3rd-annual-sporting-clay-shoot/
LOCATION:Hanley Sporting Grounds\, Hanley\, Saskatchewan\, Canada
END:VEVENT
BEGIN:VEVENT
DTSTART;VALUE=DATE:20210710
DTEND;VALUE=DATE:20210712
DTSTAMP:20260422T163203
CREATED:20210603T191817Z
LAST-MODIFIED:20210603T191817Z
UID:13655-1625875200-1626047999@swf.sk.ca
SUMMARY:Free Fishing Weekend
DESCRIPTION:No Anglers License? No Problem!\nTake advantage of Saskatchewan’s free fishing weekend July 10-11\, 2021. No angler’s license needed. Other regulations\, such as limits\, will still be in effect. \nJoin the other quarter million people who sport fish in Saskatchewan every year. For more information\, please refer to Saskatchewan.ca/fishing. \n 
URL:https://swf.sk.ca/event/free-fishing-weekend-3/
END:VEVENT
BEGIN:VEVENT
DTSTART;VALUE=DATE:20210613
DTEND;VALUE=DATE:20210614
DTSTAMP:20260422T163203
CREATED:20210324T181250Z
LAST-MODIFIED:20210603T190811Z
UID:13498-1623542400-1623628799@swf.sk.ca
SUMMARY:Riverhurst Walleye Classic @ Lake Diefenbaker
DESCRIPTION:View Poster Below \n  \nWalleyePoster
URL:https://swf.sk.ca/event/lake-diefenbaker-walleye-classic/
LOCATION:Elbow\, Box 27\, Elbow\, Saskatchewan\, S0H 1J0\, Canada
END:VEVENT
BEGIN:VEVENT
DTSTART;VALUE=DATE:20210611
DTEND;VALUE=DATE:20210613
DTSTAMP:20260422T163203
CREATED:20210603T191325Z
LAST-MODIFIED:20210603T191325Z
UID:13654-1623369600-1623542399@swf.sk.ca
SUMMARY:Moose Jaw Wildlife Federation Walleye Challenge @ Buffalo Pound Lake
DESCRIPTION:Please refer to https://mjwildlife.ca/mjwf-tournaments/mjwf-walleye-challenge/ for more information.
URL:https://swf.sk.ca/event/moose-jaw-wildlife-federation-walleye-challenge-buffalo-pound-lake/
LOCATION:Buffalo Pound Lake\, 19km N of Moose Jaw on Hwy 2\, 13km E on Hwy 202. 24km N of Hwy 1 via Hwy 301\, Saskatchewan\, Canada
END:VEVENT
BEGIN:VEVENT
DTSTART;TZID=America/Regina:20210430T080000
DTEND;TZID=America/Regina:20210507T190000
DTSTAMP:20260422T163203
CREATED:20210430T205838Z
LAST-MODIFIED:20210430T211507Z
UID:13551-1619769600-1620414000@swf.sk.ca
SUMMARY:Preeceville Wildlife Federation ONLINE Fundraising Auction
DESCRIPTION:177 Items \nOpens April 30th 8:00 AM \nCloses May 7th 7:00 PM \n \n  \nPreeceville WF Facebook \n  \n  \n 
URL:https://swf.sk.ca/event/preeceville-wildlife-federation-online-fundraising-auction/
END:VEVENT
BEGIN:VEVENT
DTSTART;TZID=America/Regina:20210410T170000
DTEND;TZID=America/Regina:20210410T190000
DTSTAMP:20260422T163203
CREATED:20210303T133906Z
LAST-MODIFIED:20210303T183335Z
UID:13455-1618074000-1618081200@swf.sk.ca
SUMMARY:Battleford Wildlife Federation Annual Smoker
DESCRIPTION:Tickets available at Coop Leisure Time Sports and Redhead Equipment \nEACH MEAL TICKET IS ONE ENTRY TO A $500.00 PRIZE \nContact Vickey at 306-441-7956
URL:https://swf.sk.ca/event/battleford-wildlife-federation-annual-smoker-2/
LOCATION:Battlefords Wildlife Building
ORGANIZER;CN="Vickey Guttormson":MAILTO:bwf.sk@sasktel.net
END:VEVENT
BEGIN:VEVENT
DTSTART;TZID=America/Regina:20201213T130000
DTEND;TZID=America/Regina:20201213T160000
DTSTAMP:20260422T163203
CREATED:20191025T213125Z
LAST-MODIFIED:20191025T213125Z
UID:12668-1607864400-1607875200@swf.sk.ca
SUMMARY:Wapella Pipestone WF Horn Measuring
DESCRIPTION:
URL:https://swf.sk.ca/event/wapella-pipestone-wf-horn-measuring-2/
END:VEVENT
BEGIN:VEVENT
DTSTART;TZID=America/Regina:20201208T100000
DTEND;TZID=America/Regina:20201208T100000
DTSTAMP:20260422T163203
CREATED:20201208T130951Z
LAST-MODIFIED:20201208T130951Z
UID:13268-1607421600-1607421600@swf.sk.ca
SUMMARY:Creighton WF Horn Scoring
DESCRIPTION:Colin will be starting at 10 am \nContact Colin if you have any questions\,  204-687-0302 \nSK Health COVID regulations in place. \nWEAR A MASK!
URL:https://swf.sk.ca/event/creighton-wf-horn-scoring/
END:VEVENT
BEGIN:VEVENT
DTSTART;VALUE=DATE:20200612
DTEND;VALUE=DATE:20200614
DTSTAMP:20260422T163203
CREATED:20200319T152335Z
LAST-MODIFIED:20200319T152335Z
UID:12919-1591920000-1592092799@swf.sk.ca
SUMMARY:Moose Jaw Walleye Challenge CANCELLED
DESCRIPTION:
URL:https://swf.sk.ca/event/moose-jaw-walleye-challenge-cancelled/
LOCATION:Buffalo Pound Lake\, 19km N of Moose Jaw on Hwy 2\, 13km E on Hwy 202. 24km N of Hwy 1 via Hwy 301\, Saskatchewan\, Canada
END:VEVENT
BEGIN:VEVENT
DTSTART;VALUE=DATE:20200612
DTEND;VALUE=DATE:20200613
DTSTAMP:20260422T163203
CREATED:20200319T152147Z
LAST-MODIFIED:20200319T152147Z
UID:12918-1591920000-1592006399@swf.sk.ca
SUMMARY:Moose Jaw Fish Fry
DESCRIPTION:
URL:https://swf.sk.ca/event/moose-jaw-fish-fry-2/
LOCATION:MJWF Clubhouse\, 1396 3 Ave NE\, S6H 1G3
END:VEVENT
BEGIN:VEVENT
DTSTART;VALUE=DATE:20200512
DTEND;VALUE=DATE:20200513
DTSTAMP:20260422T163203
CREATED:20200130T205914Z
LAST-MODIFIED:20200130T205914Z
UID:12829-1589241600-1589327999@swf.sk.ca
SUMMARY:MJWF Clubhouse Cleanup
DESCRIPTION:
URL:https://swf.sk.ca/event/mjwf-clubhouse-cleanup/
LOCATION:MJWF Clubhouse\, 1396 3 Ave NE\, S6H 1G3
END:VEVENT
BEGIN:VEVENT
DTSTART;VALUE=DATE:20200427
DTEND;VALUE=DATE:20200428
DTSTAMP:20260422T163203
CREATED:20200215T213827Z
LAST-MODIFIED:20200215T213839Z
UID:12869-1587945600-1588031999@swf.sk.ca
SUMMARY:Moose Mountain WF Bird ID Workshop
DESCRIPTION:
URL:https://swf.sk.ca/event/moose-mountain-wf-bird-id-workshop/
END:VEVENT
END:VCALENDAR