BEGIN:VCALENDAR
VERSION:2.0
PRODID:-//Saskatchewan Wildlife Federation - ECPv6.15.13.1//NONSGML v1.0//EN
CALSCALE:GREGORIAN
METHOD:PUBLISH
X-WR-CALNAME:Saskatchewan Wildlife Federation
X-ORIGINAL-URL:https://swf.sk.ca
X-WR-CALDESC:Events for Saskatchewan Wildlife Federation
REFRESH-INTERVAL;VALUE=DURATION:PT1H
X-Robots-Tag:noindex
X-PUBLISHED-TTL:PT1H
BEGIN:VTIMEZONE
TZID:America/Regina
BEGIN:STANDARD
TZOFFSETFROM:-0600
TZOFFSETTO:-0600
TZNAME:CST
DTSTART:20240101T000000
END:STANDARD
END:VTIMEZONE
BEGIN:VEVENT
DTSTART;TZID=America/Regina:20250617T120000
DTEND;TZID=America/Regina:20250617T190000
DTSTAMP:20260422T052217
CREATED:20250120T150720Z
LAST-MODIFIED:20250120T150720Z
UID:23624-1750161600-1750186800@swf.sk.ca
SUMMARY:19th Annual Habitat Trust Golf Tournament
DESCRIPTION:
URL:https://swf.sk.ca/event/19th-annual-habitat-trust-golf-tournament/
END:VEVENT
BEGIN:VEVENT
DTSTART;TZID=America/Regina:20250708T193000
DTEND;TZID=America/Regina:20250708T200000
DTSTAMP:20260422T052217
CREATED:20241113T195004Z
LAST-MODIFIED:20241113T195004Z
UID:23205-1752003000-1752004800@swf.sk.ca
SUMMARY:Kerrobert & District Wildlife Federation July Gun Draw
DESCRIPTION:
URL:https://swf.sk.ca/event/kerrobert-district-wildlife-federation-july-gun-draw/
END:VEVENT
BEGIN:VEVENT
DTSTART;VALUE=DATE:20250805
DTEND;VALUE=DATE:20250810
DTSTAMP:20260422T052217
CREATED:20241209T215038Z
LAST-MODIFIED:20241209T215038Z
UID:23311-1754352000-1754783999@swf.sk.ca
SUMMARY:Youth Conservation Camps - Girls Week
DESCRIPTION:
URL:https://swf.sk.ca/event/youth-conservation-camps-girls-week/
END:VEVENT
BEGIN:VEVENT
DTSTART;VALUE=DATE:20250807
DTEND;VALUE=DATE:20250811
DTSTAMP:20260422T052217
CREATED:20250304T010331Z
LAST-MODIFIED:20250304T010331Z
UID:23941-1754524800-1754870399@swf.sk.ca
SUMMARY:Estevan Wildlife Federation Youth Conservation Camp
DESCRIPTION:
URL:https://swf.sk.ca/event/estevan-wildlife-federation-youth-conservation-camp/
END:VEVENT
BEGIN:VEVENT
DTSTART;VALUE=DATE:20250812
DTEND;VALUE=DATE:20250817
DTSTAMP:20260422T052217
CREATED:20241209T215058Z
LAST-MODIFIED:20241209T215058Z
UID:23312-1754956800-1755388799@swf.sk.ca
SUMMARY:Youth Conservation Camps - Boys Week
DESCRIPTION:
URL:https://swf.sk.ca/event/youth-conservation-camps-boys-week/
END:VEVENT
BEGIN:VEVENT
DTSTART;TZID=America/Regina:20250812T193000
DTEND;TZID=America/Regina:20250812T200000
DTSTAMP:20260422T052217
CREATED:20241113T195042Z
LAST-MODIFIED:20241113T195042Z
UID:23206-1755027000-1755028800@swf.sk.ca
SUMMARY:Kerrobert & District Wildlife Federation August Gun Draw
DESCRIPTION:
URL:https://swf.sk.ca/event/kerrobert-district-wildlife-federation-august-gun-draw/
END:VEVENT
BEGIN:VEVENT
DTSTART;TZID=America/Regina:20250909T193000
DTEND;TZID=America/Regina:20250909T200000
DTSTAMP:20260422T052217
CREATED:20241113T195123Z
LAST-MODIFIED:20241113T195123Z
UID:23207-1757446200-1757448000@swf.sk.ca
SUMMARY:Kerrobert & District Wildlife Federation September Gun Draw
DESCRIPTION:
URL:https://swf.sk.ca/event/kerrobert-district-wildlife-federation-september-gun-draw/
END:VEVENT
BEGIN:VEVENT
DTSTART;VALUE=DATE:20250926
DTEND;VALUE=DATE:20250929
DTSTAMP:20260422T052217
CREATED:20241022T173327Z
LAST-MODIFIED:20241022T173327Z
UID:23135-1758844800-1759103999@swf.sk.ca
SUMMARY:Fall Women's Outdoor Weekend
DESCRIPTION:
URL:https://swf.sk.ca/event/fall-womens-outdoor-weekend-4/
END:VEVENT
BEGIN:VEVENT
DTSTART;VALUE=DATE:20250927
DTEND;VALUE=DATE:20250928
DTSTAMP:20260422T052217
CREATED:20250923T191212Z
LAST-MODIFIED:20250923T191212Z
UID:26253-1758931200-1759017599@swf.sk.ca
SUMMARY:2025 Fall Regional Meetings - Region 4
DESCRIPTION:
URL:https://swf.sk.ca/event/2025-fall-regional-meetings-region-4/
LOCATION:Royal Canadian Legion – Estevan
END:VEVENT
BEGIN:VEVENT
DTSTART;VALUE=DATE:20251004
DTEND;VALUE=DATE:20251005
DTSTAMP:20260422T052217
CREATED:20251001T175532Z
LAST-MODIFIED:20251001T175532Z
UID:26337-1759536000-1759622399@swf.sk.ca
SUMMARY:Loon Creek Wildlife Federation - Rick Bourgoin Memorial Shoot
DESCRIPTION:A full day of competition featuring:\n• Rick Bourgoin Memorial Shoot (Trap & .22 combined)\n• Ladies Trap & .22 Shoot\n• Junior Trap & .22 Shoot\n• Centerfire Handgun Shoot\n• Rimfire Handgun Shoot\n\n\nSchedule:\n• 9:30 a.m. – Registration\n• 10:00 a.m. – Trap & .22 events begin\n• 12:00 p.m. – Lunch break\n• 1:00 p.m. – Afternoon events resume\n\n\n We’ll have a BBQ available if you’d like to grill up a quick lunch. Bring your own chairs\, food\, firearms\, and—of course—your competitive spirit!\n(An RSVP is appreciated but not required.)\n\n\nIf you are not a member\, reach out and get your membership and join us.
URL:https://swf.sk.ca/event/loon-creek-wildlife-federation-rick-bourgoin-memorial-shoot/
END:VEVENT
BEGIN:VEVENT
DTSTART;VALUE=DATE:20251005
DTEND;VALUE=DATE:20251006
DTSTAMP:20260422T052217
CREATED:20250923T191433Z
LAST-MODIFIED:20250923T191433Z
UID:26258-1759622400-1759708799@swf.sk.ca
SUMMARY:2025 Fall Regional Meetings - Region 3
DESCRIPTION:
URL:https://swf.sk.ca/event/2025-fall-regional-meetings-region-3/
LOCATION:Yorkton Wildlife Federation Clubhouse
END:VEVENT
BEGIN:VEVENT
DTSTART;TZID=America/Regina:20251014T193000
DTEND;TZID=America/Regina:20251014T200000
DTSTAMP:20260422T052217
CREATED:20241113T195157Z
LAST-MODIFIED:20241113T195157Z
UID:23208-1760470200-1760472000@swf.sk.ca
SUMMARY:Kerrobert & District Wildlife Federation October Gun Draw
DESCRIPTION:
URL:https://swf.sk.ca/event/kerrobert-district-wildlife-federation-october-gun-draw/
END:VEVENT
BEGIN:VEVENT
DTSTART;VALUE=DATE:20251019
DTEND;VALUE=DATE:20251020
DTSTAMP:20260422T052217
CREATED:20250923T191305Z
LAST-MODIFIED:20250923T191305Z
UID:26255-1760832000-1760918399@swf.sk.ca
SUMMARY:2025 Fall Regional Meetings - Region 1
DESCRIPTION:
URL:https://swf.sk.ca/event/2025-fall-regional-meetings-region-1/
LOCATION:Nipawin Fish & Game Hall\, Nipawin\, Saskatchewan\, Canada
END:VEVENT
BEGIN:VEVENT
DTSTART;VALUE=DATE:20251025
DTEND;VALUE=DATE:20251026
DTSTAMP:20260422T052217
CREATED:20250923T191615Z
LAST-MODIFIED:20250923T191615Z
UID:26262-1761350400-1761436799@swf.sk.ca
SUMMARY:2025 Fall Regional Meetings - Region 6
DESCRIPTION:
URL:https://swf.sk.ca/event/2025-fall-regional-meetings-region-6/
LOCATION:K Motel – Swift Current
END:VEVENT
BEGIN:VEVENT
DTSTART;TZID=America/Regina:20251025T173000
DTEND;TZID=America/Regina:20251025T233000
DTSTAMP:20260422T052217
CREATED:20250520T143602Z
LAST-MODIFIED:20250520T143602Z
UID:24643-1761413400-1761435000@swf.sk.ca
SUMMARY:Indian Head and District Annual Fundraiser and Award Night
DESCRIPTION:Venue Name & Address\n\n\n \nMemorial Hall\n\n\n\n\n\n \n423 Grand Avenue\nIndian Head\, Saskatchewan S0G 2K0\nCanada\nMap It\n\n\nEvent Contact Person\n\n\n \nDan Grunert\n\n\nPhone\n\n\n \n(306) 660-7600\n\n\nEmail\n\n\n \ndangrunert2004@yahoo.ca\n\n\nAdditional Event Contact(s)\n\n\n \nMichael Miller\n306 535 7447\nshaunsky@sasktel.net\n\n\nEvent website (if applicable)\n\n\n \nhttps://www.facebook.com/groups/1391172741193378\n\n\nEvent Submitted by: (Name & Phone)\n\n\n \nDan Grunert 306 660 7600
URL:https://swf.sk.ca/event/indian-head-and-district-annual-fundraiser-and-award-night/
END:VEVENT
BEGIN:VEVENT
DTSTART;VALUE=DATE:20251026
DTEND;VALUE=DATE:20251027
DTSTAMP:20260422T052217
CREATED:20250923T191533Z
LAST-MODIFIED:20250923T191533Z
UID:26260-1761436800-1761523199@swf.sk.ca
SUMMARY:2025 Fall Regional Meetings - Region 5
DESCRIPTION:
URL:https://swf.sk.ca/event/2025-fall-regional-meetings-region-5/
LOCATION:Davidson
END:VEVENT
BEGIN:VEVENT
DTSTART;VALUE=DATE:20251101
DTEND;VALUE=DATE:20251102
DTSTAMP:20260422T052217
CREATED:20250923T191345Z
LAST-MODIFIED:20250923T191345Z
UID:26256-1761955200-1762041599@swf.sk.ca
SUMMARY:2025 Fall Regional Meetings - Region 2
DESCRIPTION:
URL:https://swf.sk.ca/event/2025-fall-regional-meetings-region-2/
LOCATION:Unity
END:VEVENT
BEGIN:VEVENT
DTSTART;TZID=America/Regina:20251111T193000
DTEND;TZID=America/Regina:20251111T200000
DTSTAMP:20260422T052217
CREATED:20241113T195235Z
LAST-MODIFIED:20241113T195235Z
UID:23209-1762889400-1762891200@swf.sk.ca
SUMMARY:Kerrobert & District Wildlife Federation November Gun Draw
DESCRIPTION:
URL:https://swf.sk.ca/event/kerrobert-district-wildlife-federation-november-gun-draw/
END:VEVENT
BEGIN:VEVENT
DTSTART;VALUE=DATE:20251115
DTEND;VALUE=DATE:20251116
DTSTAMP:20260422T052217
CREATED:20250925T155316Z
LAST-MODIFIED:20250925T155804Z
UID:26278-1763164800-1763251199@swf.sk.ca
SUMMARY:Saskatchewan Hunting\, Trapping\, and Angling Day – Camo Day
DESCRIPTION:
URL:https://swf.sk.ca/event/saskatchewan-hunting-trapping-and-angling-day-camo-day-2/
END:VEVENT
BEGIN:VEVENT
DTSTART;TZID=America/Regina:20251115T170000
DTEND;TZID=America/Regina:20251115T213000
DTSTAMP:20260422T052217
CREATED:20251103T190558Z
LAST-MODIFIED:20251103T190558Z
UID:26591-1763226000-1763242200@swf.sk.ca
SUMMARY:Assiniboia & District WF - Comedy Night
DESCRIPTION:
URL:https://swf.sk.ca/event/assiniboia-district-wf-comedy-night/
LOCATION:St. George Catholic Church Hall Assiniboia
END:VEVENT
BEGIN:VEVENT
DTSTART;VALUE=DATE:20251206
DTEND;VALUE=DATE:20251207
DTSTAMP:20260422T052217
CREATED:20250909T195252Z
LAST-MODIFIED:20250909T195252Z
UID:26119-1764979200-1765065599@swf.sk.ca
SUMMARY:Weyburn Wildlife Federation Bucking Scoring Night
DESCRIPTION:
URL:https://swf.sk.ca/event/weyburn-wildlife-federation-bucking-scoring-night/
END:VEVENT
BEGIN:VEVENT
DTSTART;TZID=America/Regina:20251206T150000
DTEND;TZID=America/Regina:20251206T210000
DTSTAMP:20260422T052217
CREATED:20251024T190908Z
LAST-MODIFIED:20251024T190908Z
UID:26532-1765033200-1765054800@swf.sk.ca
SUMMARY:Grenfell Wildlife Federation Buck Night
DESCRIPTION:
URL:https://swf.sk.ca/event/grenfell-wildlife-federation-buck-night-2/
LOCATION:Grenfell Community Hall\, 807 Desmond St\, Grenfell\, Saskatchewan\, Canada
END:VEVENT
BEGIN:VEVENT
DTSTART;TZID=America/Regina:20251206T190000
DTEND;TZID=America/Regina:20251206T190000
DTSTAMP:20260422T052217
CREATED:20251023T185156Z
LAST-MODIFIED:20251023T185156Z
UID:26529-1765047600-1765047600@swf.sk.ca
SUMMARY:Cater Lake WF 2025 Big Bucks N' Bulls Scoring Night
DESCRIPTION:
URL:https://swf.sk.ca/event/cater-lake-wf-2025-big-bucks-n-bulls-scoring-night/
LOCATION:Medstead Community Hall
END:VEVENT
BEGIN:VEVENT
DTSTART;TZID=America/Regina:20251209T170000
DTEND;TZID=America/Regina:20251209T200000
DTSTAMP:20260422T052217
CREATED:20251103T194405Z
LAST-MODIFIED:20251103T194405Z
UID:26600-1765299600-1765310400@swf.sk.ca
SUMMARY:Melville Fish and Game Horn/Antler Measuring Night
DESCRIPTION:
URL:https://swf.sk.ca/event/melville-fish-and-game-horn-antler-measuring-night/
LOCATION:Melville Community Works\, 800 Prince Edward Street\, Melville\, Saskatchewan\, S0A 2P0\, Canada
END:VEVENT
BEGIN:VEVENT
DTSTART;TZID=America/Regina:20251209T193000
DTEND;TZID=America/Regina:20251209T200000
DTSTAMP:20260422T052217
CREATED:20241113T195320Z
LAST-MODIFIED:20241113T195320Z
UID:23210-1765308600-1765310400@swf.sk.ca
SUMMARY:Kerrobert & District Wildlife Federation December Gun Draw
DESCRIPTION:
URL:https://swf.sk.ca/event/kerrobert-district-wildlife-federation-december-gun-draw/
END:VEVENT
BEGIN:VEVENT
DTSTART;TZID=America/Regina:20251210T180000
DTEND;TZID=America/Regina:20251210T210000
DTSTAMP:20260422T052217
CREATED:20251202T150357Z
LAST-MODIFIED:20251202T150357Z
UID:26671-1765389600-1765400400@swf.sk.ca
SUMMARY:Moose Jaw Wildlife Federation Horn Scoring Night
DESCRIPTION:To reserve a time for measurement\, please contact Wayne at 306-630-6466.\n\nREMINDER***ALL HEADS MUST BE CLEAN AND NOT SMELLY.
URL:https://swf.sk.ca/event/moose-jaw-wildlife-federation-horn-scoring-night/
END:VEVENT
BEGIN:VEVENT
DTSTART;TZID=America/Regina:20251212T190000
DTEND;TZID=America/Regina:20251212T210000
DTSTAMP:20260422T052217
CREATED:20251112T212712Z
LAST-MODIFIED:20251112T212712Z
UID:26638-1765566000-1765573200@swf.sk.ca
SUMMARY:"Big Buck" Night Antler Measuring - Watson-Englefeld Wildlife Federation
DESCRIPTION:
URL:https://swf.sk.ca/event/big-buck-night-antler-measuring-watson-englefeld-wildlife-federation/
END:VEVENT
BEGIN:VEVENT
DTSTART;VALUE=DATE:20251213
DTEND;VALUE=DATE:20251214
DTSTAMP:20260422T052217
CREATED:20251113T210008Z
LAST-MODIFIED:20251113T210008Z
UID:26643-1765584000-1765670399@swf.sk.ca
SUMMARY:Humboldt Wildlife Federation's Antler Measuring/ Turkey Shoot / Membership Renewals
DESCRIPTION:at Humboldt Motors Bodyshop.
URL:https://swf.sk.ca/event/humboldt-wildlife-federations-antler-measuring-turkey-shoot-membership-renewals/
END:VEVENT
BEGIN:VEVENT
DTSTART;TZID=America/Regina:20251213T100000
DTEND;TZID=America/Regina:20251213T140000
DTSTAMP:20260422T052217
CREATED:20251121T164717Z
LAST-MODIFIED:20251121T164717Z
UID:26652-1765620000-1765634400@swf.sk.ca
SUMMARY:Indian Head and District Wildlife Federation - Measuring Day
DESCRIPTION:Venue Name & Address\n\n\n\nNew West Concrete Ltd.\n\n\n\n\n\n\n102S N Railway Avenue\nIndian Head\, Saskatchewan S0G 2K0\nCanada\nMap It\n\n\nEvent Contact Person\n\n\n\nDan Grunert\n\n\nPhone\n\n\n\n(306) 660-7600\n\n\nEmail\n\n\n\ndangrunert2004@yahoo.ca\n\n\nEvent Submitted by: (Name & Phone)\n\n\n\nDan Grunert 306 660 7600
URL:https://swf.sk.ca/event/indian-head-and-district-wildlife-federation-measuring-day/
END:VEVENT
BEGIN:VEVENT
DTSTART;TZID=America/Regina:20251213T133000
DTEND;TZID=America/Regina:20251213T170000
DTSTAMP:20260422T052217
CREATED:20251209T154419Z
LAST-MODIFIED:20251209T154419Z
UID:26701-1765632600-1765645200@swf.sk.ca
SUMMARY:East Shore Wildlife Federation 2025 AGM and Horn Scoring
DESCRIPTION:Just a reminder to all members\, our annual general meeting will be held this Saturday\, Dec 13th at the wildlife hall in Strasbourg at 1:30pm.\n\nOur annual horn scoring will go on at the same time so bring in your antlers to have them scored. Elections will also be held that day.\n\nPlease consider helping out.\nThanks and see you there
URL:https://swf.sk.ca/event/east-shore-wildlife-federation-2025-agm-and-horn-scoring/
END:VEVENT
END:VCALENDAR