BEGIN:VCALENDAR
VERSION:2.0
PRODID:-//Saskatchewan Wildlife Federation - ECPv6.15.13.1//NONSGML v1.0//EN
CALSCALE:GREGORIAN
METHOD:PUBLISH
X-WR-CALNAME:Saskatchewan Wildlife Federation
X-ORIGINAL-URL:https://swf.sk.ca
X-WR-CALDESC:Events for Saskatchewan Wildlife Federation
REFRESH-INTERVAL;VALUE=DURATION:PT1H
X-Robots-Tag:noindex
X-PUBLISHED-TTL:PT1H
BEGIN:VTIMEZONE
TZID:America/Regina
BEGIN:STANDARD
TZOFFSETFROM:-0600
TZOFFSETTO:-0600
TZNAME:CST
DTSTART:20240101T000000
END:STANDARD
END:VTIMEZONE
BEGIN:VEVENT
DTSTART;VALUE=DATE:20250405
DTEND;VALUE=DATE:20250406
DTSTAMP:20260421T191604
CREATED:20250219T171226Z
LAST-MODIFIED:20250219T171226Z
UID:23813-1743811200-1743897599@swf.sk.ca
SUMMARY:Cudworth Wildlife Federation Fish Fry
DESCRIPTION:
URL:https://swf.sk.ca/event/cudworth-wildlife-federation-fish-fry/
END:VEVENT
BEGIN:VEVENT
DTSTART;VALUE=DATE:20250405
DTEND;VALUE=DATE:20250406
DTSTAMP:20260421T191604
CREATED:20250305T152137Z
LAST-MODIFIED:20250305T152137Z
UID:23950-1743811200-1743897599@swf.sk.ca
SUMMARY:2025 East Shore Wildlife Federation Annual Banquet
DESCRIPTION:
URL:https://swf.sk.ca/event/2025-east-shore-wildlife-federation-annual-banquet/
END:VEVENT
BEGIN:VEVENT
DTSTART;VALUE=DATE:20250405
DTEND;VALUE=DATE:20250406
DTSTAMP:20260421T191604
CREATED:20250305T195343Z
LAST-MODIFIED:20250305T195343Z
UID:23956-1743811200-1743897599@swf.sk.ca
SUMMARY:Sturgis Wildlife Federation Banquet
DESCRIPTION:
URL:https://swf.sk.ca/event/sturgis-wildlife-federation-banquet/
END:VEVENT
BEGIN:VEVENT
DTSTART;TZID=America/Regina:20250405T190000
DTEND;TZID=America/Regina:20250405T230000
DTSTAMP:20260421T191604
CREATED:20241204T153754Z
LAST-MODIFIED:20241204T193618Z
UID:23272-1743879600-1743894000@swf.sk.ca
SUMMARY:Cater Lake Wildlife Federation Awards Night
DESCRIPTION:Venue Name & Address\n\n\n\nMedstead Hall\n\n\n\n\n\n\nMedstead\, Saskatchewan S0M1W0\nCanada\nMap It\n\n\nEvent Contact Person\n\n\n\nAl Roske\n\n\nPhone\n\n\n\n(306) 930-9992\n\n\nEmail\n\n\n\nalroske66@gmail.com\n\n\nEvent Submitted by: (Name & Phone)\n\n\n\nAl Roske 306-930-9992
URL:https://swf.sk.ca/event/cater-lake-wildlife-federation-awards-night/
END:VEVENT
BEGIN:VEVENT
DTSTART;TZID=America/Regina:20250408T193000
DTEND;TZID=America/Regina:20250408T200000
DTSTAMP:20260421T191604
CREATED:20241113T194728Z
LAST-MODIFIED:20241113T194728Z
UID:23202-1744140600-1744142400@swf.sk.ca
SUMMARY:Kerrobert & District Wildlife Federation April Gun Draw
DESCRIPTION:
URL:https://swf.sk.ca/event/kerrobert-district-wildlife-federation-april-gun-draw/
END:VEVENT
BEGIN:VEVENT
DTSTART;VALUE=DATE:20250412
DTEND;VALUE=DATE:20250413
DTSTAMP:20260421T191604
CREATED:20240506T172657Z
LAST-MODIFIED:20240506T172657Z
UID:21405-1744416000-1744502399@swf.sk.ca
SUMMARY:Redberry Wildlife Federation Banquet
DESCRIPTION:Hafford Communiplex
URL:https://swf.sk.ca/event/redberry-wildlife-federation-banquet/
END:VEVENT
BEGIN:VEVENT
DTSTART;VALUE=DATE:20250412
DTEND;VALUE=DATE:20250414
DTSTAMP:20260421T191604
CREATED:20241011T203809Z
LAST-MODIFIED:20241011T203809Z
UID:23077-1744416000-1744588799@swf.sk.ca
SUMMARY:NASP Provincial Tournament
DESCRIPTION:in Shaunavon\, SK
URL:https://swf.sk.ca/event/nasp-provincial-tournament/
END:VEVENT
BEGIN:VEVENT
DTSTART;VALUE=DATE:20250412
DTEND;VALUE=DATE:20250413
DTSTAMP:20260421T191604
CREATED:20241211T145859Z
LAST-MODIFIED:20241211T145859Z
UID:23320-1744416000-1744502399@swf.sk.ca
SUMMARY:Weyburn Wildlife Federation Annual Fred Garner Banquet
DESCRIPTION:
URL:https://swf.sk.ca/event/weyburn-wildlife-federation-annual-fred-garner-banquet/
END:VEVENT
BEGIN:VEVENT
DTSTART;VALUE=DATE:20250412
DTEND;VALUE=DATE:20250413
DTSTAMP:20260421T191604
CREATED:20250219T165535Z
LAST-MODIFIED:20250219T165535Z
UID:23812-1744416000-1744502399@swf.sk.ca
SUMMARY:Rocanville & District Wildlife Supper and Fundraiser
DESCRIPTION:At the Rocanville Hall
URL:https://swf.sk.ca/event/rocanville-district-wildlife-supper-and-fundraiser/
END:VEVENT
BEGIN:VEVENT
DTSTART;VALUE=DATE:20250412
DTEND;VALUE=DATE:20250413
DTSTAMP:20260421T191604
CREATED:20250304T010249Z
LAST-MODIFIED:20250304T010249Z
UID:23939-1744416000-1744502399@swf.sk.ca
SUMMARY:Estevan Wildlife Federation 39th Annual Fundraiser Banquet
DESCRIPTION:
URL:https://swf.sk.ca/event/estevan-wildlife-federation-39th-annual-fundraiser-banquet/
END:VEVENT
BEGIN:VEVENT
DTSTART;TZID=America/Regina:20250415T190000
DTEND;TZID=America/Regina:20250415T210000
DTSTAMP:20260421T191604
CREATED:20250325T174256Z
LAST-MODIFIED:20250325T174256Z
UID:24218-1744743600-1744750800@swf.sk.ca
SUMMARY:Region 5 Spring Regional Meeting
DESCRIPTION:Virtually via Zoom
URL:https://swf.sk.ca/event/region-5-spring-regional-meeting-3/
END:VEVENT
BEGIN:VEVENT
DTSTART;TZID=America/Regina:20250417T190000
DTEND;TZID=America/Regina:20250417T210000
DTSTAMP:20260421T191604
CREATED:20250325T174145Z
LAST-MODIFIED:20250325T174145Z
UID:24216-1744916400-1744923600@swf.sk.ca
SUMMARY:Region 3 Spring Regional Meeting
DESCRIPTION:Virtually via Zoom
URL:https://swf.sk.ca/event/region-3-spring-regional-meeting-4/
END:VEVENT
BEGIN:VEVENT
DTSTART;VALUE=DATE:20250419
DTEND;VALUE=DATE:20250420
DTSTAMP:20260421T191604
CREATED:20250127T143223Z
LAST-MODIFIED:20250127T143223Z
UID:23684-1745020800-1745107199@swf.sk.ca
SUMMARY:Souris Moose Creek Wildlife's 33rd Annual Fundraiser Dinner & Auction
DESCRIPTION:
URL:https://swf.sk.ca/event/souris-moose-creek-wildlifes-33rd-annual-fundraiser-dinner-auction/
END:VEVENT
BEGIN:VEVENT
DTSTART;TZID=America/Regina:20250422T190000
DTEND;TZID=America/Regina:20250422T210000
DTSTAMP:20260421T191604
CREATED:20250325T174116Z
LAST-MODIFIED:20250325T174116Z
UID:24215-1745348400-1745355600@swf.sk.ca
SUMMARY:Region 2 Spring Regional Meeting
DESCRIPTION:Virtually via Zoom
URL:https://swf.sk.ca/event/region-2-spring-regional-meeting-3/
END:VEVENT
BEGIN:VEVENT
DTSTART;TZID=America/Regina:20250423T190000
DTEND;TZID=America/Regina:20250423T210000
DTSTAMP:20260421T191604
CREATED:20250325T174212Z
LAST-MODIFIED:20250325T174353Z
UID:24217-1745434800-1745442000@swf.sk.ca
SUMMARY:Region 4 Spring Regional Meeting
DESCRIPTION:Virtually via Zoom
URL:https://swf.sk.ca/event/region-4-spring-regional-meeting-3/
END:VEVENT
BEGIN:VEVENT
DTSTART;TZID=America/Regina:20250424T190000
DTEND;TZID=America/Regina:20250424T210000
DTSTAMP:20260421T191604
CREATED:20250325T174052Z
LAST-MODIFIED:20250325T174052Z
UID:24214-1745521200-1745528400@swf.sk.ca
SUMMARY:Region 1 Spring Regional Meeting
DESCRIPTION:Virtually via Zoom
URL:https://swf.sk.ca/event/region-1-spring-regional-meeting-4/
END:VEVENT
BEGIN:VEVENT
DTSTART;VALUE=DATE:20250425
DTEND;VALUE=DATE:20250426
DTSTAMP:20260421T191604
CREATED:20250414T151054Z
LAST-MODIFIED:20250414T151054Z
UID:24337-1745539200-1745625599@swf.sk.ca
SUMMARY:Lucien Lake Fish And Game League Awards Night Banquet
DESCRIPTION: @ Pilger Hall
URL:https://swf.sk.ca/event/lucien-lake-fish-and-game-league-awards-night-banquet/
END:VEVENT
BEGIN:VEVENT
DTSTART;VALUE=DATE:20250426
DTEND;VALUE=DATE:20250427
DTSTAMP:20260421T191604
CREATED:20241209T214919Z
LAST-MODIFIED:20241209T214919Z
UID:23310-1745625600-1745711999@swf.sk.ca
SUMMARY:2024 Provincial Angling & Henry Kelsey Big Game Awards Banquet
DESCRIPTION:The 2024 Provincial Angling & Henry Kelsey Big Game Awards Banquet will take place on April  26\, 2025 in Balgonie\, SK  \n 
URL:https://swf.sk.ca/event/2024-provincial-angling-henry-kelsey-big-game-awards-banquet/
END:VEVENT
BEGIN:VEVENT
DTSTART;VALUE=DATE:20250426
DTEND;VALUE=DATE:20250428
DTSTAMP:20260421T191604
CREATED:20250210T221349Z
LAST-MODIFIED:20250210T221349Z
UID:23795-1745625600-1745798399@swf.sk.ca
SUMMARY:Weyburn Wildlife Federation Gun & Outdoor Show
DESCRIPTION:In Weyburn
URL:https://swf.sk.ca/event/weyburn-wildlife-federation-gun-outdoor-show/
END:VEVENT
BEGIN:VEVENT
DTSTART;VALUE=DATE:20250426
DTEND;VALUE=DATE:20250427
DTSTAMP:20260421T191604
CREATED:20250402T144327Z
LAST-MODIFIED:20250402T144327Z
UID:24315-1745625600-1745711999@swf.sk.ca
SUMMARY:Lucien Lake Fish And Game League Annual Awards Night Banquet
DESCRIPTION:@ Pilger Hall
URL:https://swf.sk.ca/event/lucien-lake-fish-and-game-league-annual-awards-night-banquet/
END:VEVENT
BEGIN:VEVENT
DTSTART;VALUE=DATE:20250427
DTEND;VALUE=DATE:20250428
DTSTAMP:20260421T191604
CREATED:20241204T171507Z
LAST-MODIFIED:20241204T171507Z
UID:23278-1745712000-1745798399@swf.sk.ca
SUMMARY:Eagle Creek Wildlife Federation Fish Fry
DESCRIPTION:@ Asquith Elks Hall
URL:https://swf.sk.ca/event/eagle-creek-wildlife-federation-fish-fry/
END:VEVENT
BEGIN:VEVENT
DTSTART;TZID=America/Regina:20250430T190000
DTEND;TZID=America/Regina:20250430T210000
DTSTAMP:20260421T191604
CREATED:20250325T174318Z
LAST-MODIFIED:20250416T145921Z
UID:24219-1746039600-1746046800@swf.sk.ca
SUMMARY:Region 6 Spring Regional Meeting
DESCRIPTION:Virtually via Zoom
URL:https://swf.sk.ca/event/region-6-spring-regional-meeting-3/
END:VEVENT
BEGIN:VEVENT
DTSTART;VALUE=DATE:20250508
DTEND;VALUE=DATE:20250616
DTSTAMP:20260421T191604
CREATED:20250512T144922Z
LAST-MODIFIED:20250512T144922Z
UID:24464-1746662400-1750031999@swf.sk.ca
SUMMARY:Cater Lake Wildlife Federation Raffle
DESCRIPTION:3 tickets for $20.00\n1st prize : Choice of 10″ composite ice auger or a 2600 Eskimo Ice tent sleigh\n3rd Prize: Fishing Rod and Mug\nwinner needs to make arrangement for pick up. \nEtransfer or call Al Roske @ 306-930-9992 or Barry Starling @ 306-342-7911
URL:https://swf.sk.ca/event/cater-lake-wildlife-federation-raffle/
END:VEVENT
BEGIN:VEVENT
DTSTART;VALUE=DATE:20250510
DTEND;VALUE=DATE:20250511
DTSTAMP:20260421T191604
CREATED:20250304T010306Z
LAST-MODIFIED:20250304T010306Z
UID:23940-1746835200-1746921599@swf.sk.ca
SUMMARY:Estevan Wildlife Federation 21st Annual Walleye Tournament
DESCRIPTION:
URL:https://swf.sk.ca/event/estevan-wildlife-federation-21st-annual-walleye-tournament/
END:VEVENT
BEGIN:VEVENT
DTSTART;TZID=America/Regina:20250513T193000
DTEND;TZID=America/Regina:20250513T200000
DTSTAMP:20260421T191604
CREATED:20241113T194843Z
LAST-MODIFIED:20241113T194843Z
UID:23203-1747164600-1747166400@swf.sk.ca
SUMMARY:Kerrobert & District Wildlife Federation May Gun Draw
DESCRIPTION:
URL:https://swf.sk.ca/event/kerrobert-district-wildlife-federation-may-gun-draw/
END:VEVENT
BEGIN:VEVENT
DTSTART;VALUE=DATE:20250530
DTEND;VALUE=DATE:20250602
DTSTAMP:20260421T191604
CREATED:20241022T173258Z
LAST-MODIFIED:20241022T173258Z
UID:23134-1748563200-1748822399@swf.sk.ca
SUMMARY:Spring Women's Outdoor Weekend
DESCRIPTION:
URL:https://swf.sk.ca/event/spring-womens-outdoor-weekend-4/
END:VEVENT
BEGIN:VEVENT
DTSTART;VALUE=DATE:20250601
DTEND;VALUE=DATE:20250602
DTSTAMP:20260421T191604
CREATED:20241204T171530Z
LAST-MODIFIED:20241204T171530Z
UID:23279-1748736000-1748822399@swf.sk.ca
SUMMARY:Eagle Creek Wildlife Federation Kids Fish Derby
DESCRIPTION:@ Eagle Creek Regional Park
URL:https://swf.sk.ca/event/eagle-creek-wildlife-federation-kids-fish-derby/
END:VEVENT
BEGIN:VEVENT
DTSTART;VALUE=DATE:20250607
DTEND;VALUE=DATE:20250608
DTSTAMP:20260421T191604
CREATED:20250120T203506Z
LAST-MODIFIED:20250120T203506Z
UID:23635-1749254400-1749340799@swf.sk.ca
SUMMARY:Humboldt Wildlife Federation 3rd Annual Youth Engagement Day
DESCRIPTION:
URL:https://swf.sk.ca/event/humboldt-wildlife-federation-3rd-annual-youth-engagement-day/
END:VEVENT
BEGIN:VEVENT
DTSTART;VALUE=DATE:20250607
DTEND;VALUE=DATE:20250608
DTSTAMP:20260421T191604
CREATED:20250210T221410Z
LAST-MODIFIED:20250210T221410Z
UID:23796-1749254400-1749340799@swf.sk.ca
SUMMARY:Weyburn Wildlife Federation Walleye Classic
DESCRIPTION:
URL:https://swf.sk.ca/event/weyburn-wildlife-federation-walleye-classic/
END:VEVENT
BEGIN:VEVENT
DTSTART;TZID=America/Regina:20250610T193000
DTEND;TZID=America/Regina:20250610T200000
DTSTAMP:20260421T191604
CREATED:20241113T194916Z
LAST-MODIFIED:20241113T194931Z
UID:23204-1749583800-1749585600@swf.sk.ca
SUMMARY:Kerrobert & District Wildlife Federation June Gun Draw
DESCRIPTION:
URL:https://swf.sk.ca/event/kerrobert-district-wildlife-federation-june-gun-draw/
END:VEVENT
END:VCALENDAR