BEGIN:VCALENDAR
VERSION:2.0
PRODID:-//Saskatchewan Wildlife Federation - ECPv6.15.13.1//NONSGML v1.0//EN
CALSCALE:GREGORIAN
METHOD:PUBLISH
X-WR-CALNAME:Saskatchewan Wildlife Federation
X-ORIGINAL-URL:https://swf.sk.ca
X-WR-CALDESC:Events for Saskatchewan Wildlife Federation
REFRESH-INTERVAL;VALUE=DURATION:PT1H
X-Robots-Tag:noindex
X-PUBLISHED-TTL:PT1H
BEGIN:VTIMEZONE
TZID:America/Regina
BEGIN:STANDARD
TZOFFSETFROM:-0600
TZOFFSETTO:-0600
TZNAME:CST
DTSTART:20210101T000000
END:STANDARD
END:VTIMEZONE
BEGIN:VEVENT
DTSTART;TZID=America/Regina:20220527T140000
DTEND;TZID=America/Regina:20220529T140000
DTSTAMP:20260421T161839
CREATED:20220310T180402Z
LAST-MODIFIED:20220310T180402Z
UID:15364-1653660000-1653832800@swf.sk.ca
SUMMARY:Spring Women's Outdoor Weekend
DESCRIPTION:The Saskatchewan Wildlife Federation encourages all women to expand and strengthen their outdoor skills and knowledge by joining us for a Women’s Outdoor Weekend (WOW)! This is an opportunity to learn new skills\, try your hand at a variety of wilderness activities and increase your outdoor confidence through activities like archery\, knife skills\, fishing and filleting\, survival skills\,  plant and animal identification\, fire building\, canoeing and so much more! \nJoined by our friendly experienced staff and other adventure-seeking women out at Hannin Creek Education & Research Centre at Candle Lake\, SK. This is a weekend you won’t want to miss\, and one you won’t soon forget! \nCost for W.O.W. is $250 for SWF members\, and $275 for non-members. \nTo register for the spring event\, please fill out the Registration Form\, and submit back to the SWF Central Office. Registration closes May 1\, 2022. \nRegistration for the fall event will open in June 2022. \nAge required to attend WOW: Ages 19+
URL:https://swf.sk.ca/event/spring-womens-outdoor-weekend/
LOCATION:Hannin Creek Education and Applied Research Centre\, Paddockwood No. 520\, Candle Lake\, Saskatchewan\, S0J 3E0\, Canada
END:VEVENT
BEGIN:VEVENT
DTSTART;TZID=America/Regina:20220512T090000
DTEND;TZID=America/Regina:20220512T110000
DTSTAMP:20260421T161839
CREATED:20220510T155952Z
LAST-MODIFIED:20220510T155952Z
UID:15675-1652346000-1652353200@swf.sk.ca
SUMMARY:Fox Point Advisory Committee Meeting
DESCRIPTION:Join the Fox Point Advisory Committee for their monthly meeting!\nJoin via Phone Conference Line: 1-306-692-7772\nParticipant ID: 575182 \nFor meeting agenda\, click here. \nFor previous Committee Minutes\, click here.
URL:https://swf.sk.ca/event/fox-point-advisory-committee-meeting-3/
END:VEVENT
BEGIN:VEVENT
DTSTART;TZID=America/Regina:20220507T100000
DTEND;TZID=America/Regina:20220507T120000
DTSTAMP:20260421T161839
CREATED:20220503T191752Z
LAST-MODIFIED:20220503T191752Z
UID:15646-1651917600-1651924800@swf.sk.ca
SUMMARY:Fox Point Advisory Committee Public Consultation
DESCRIPTION:Join the Fox Point Advisory Committee for a Public Consultation Meeting\, to discuss the area known as Fox Point along Last Mountain Lake.
URL:https://swf.sk.ca/event/fox-point-advisory-committee-public-consultation/
LOCATION:Bulyea Community Hall\, 204 Ashley St\, Bulyea\, Saskatchewan\, S0G 0L0\, Canada
ORGANIZER;CN="Steve Mazurak":MAILTO:Mayorpelicanpointe@sasktel.net
END:VEVENT
BEGIN:VEVENT
DTSTART;VALUE=DATE:20220507
DTEND;VALUE=DATE:20220508
DTSTAMP:20260421T161839
CREATED:20220414T192109Z
LAST-MODIFIED:20220418T145742Z
UID:15623-1651881600-1651967999@swf.sk.ca
SUMMARY:St. Walburg WF Annual Awards Ceremony & Banquet
DESCRIPTION:See attached poster \n  \nBanquet Poster 2022 \n  \nTickets Available to the Door
URL:https://swf.sk.ca/event/st-walburg-wf-annual-awards-ceremony-banquet/
LOCATION:Elk’s Hall\, Main Street\, Asquith\, Saskatchewan\, S0K 0J0\, Canada
END:VEVENT
BEGIN:VEVENT
DTSTART;VALUE=DATE:20220430
DTEND;VALUE=DATE:20220501
DTSTAMP:20260421T161839
CREATED:20220325T151119Z
LAST-MODIFIED:20220325T154107Z
UID:15506-1651276800-1651363199@swf.sk.ca
SUMMARY:2021 Provincial Angling & HK Big Game Awards Banquet
DESCRIPTION:2021 PROVINCIAL ANGLING & HENRY KELSEY BIG GAME AWARDS BANQUET\nat the Horizon Credit Union Centre\, Melville\, SK\nReception 6:00 –  Banquet 7:00 \nTICKETS\n5 & Under: Free\n6 – 12: $20\n13 years + : $40 \nTickets Available from Ken Somogyi at 306-730-6671 or SWF Central Office at 306-692-8812 \nHOST HOTEL INFORMATION\nSigma Inn & Suites\n210 Service Road\, Melville\, SK\n$130.99/night\nGroup Code: Melville Fish & Game \nHoward Johnson Inn by Wyndham Melville\n21 Mall Road\, Along SK-10\, Melville\, SK\n$120.99/night\nReservation Name: Sask Wildlife Federation \nTo download the Award Banquet Poster\, click here 
URL:https://swf.sk.ca/event/2021provincial-angling-hk-big-game-awards-banquet/
LOCATION:Horizon Credit Union Centre\, 575 2nd Ave W\, Melville\, Saskatchewan\, S0A 2P0\, Canada
END:VEVENT
BEGIN:VEVENT
DTSTART;TZID=America/Regina:20220424T130000
DTEND;TZID=America/Regina:20220424T130000
DTSTAMP:20260421T161839
CREATED:20220228T160332Z
LAST-MODIFIED:20220228T180112Z
UID:15282-1650805200-1650805200@swf.sk.ca
SUMMARY:Save-A-Goose Trap Shoot
DESCRIPTION:
URL:https://swf.sk.ca/event/saveagoose-trap-shoot/
LOCATION:Candiac\, Candiac\, Saskatchewan\, Canada
END:VEVENT
BEGIN:VEVENT
DTSTART;TZID=America/Regina:20220423T173000
DTEND;TZID=America/Regina:20220423T230000
DTSTAMP:20260421T161839
CREATED:20220224T200419Z
LAST-MODIFIED:20220224T200419Z
UID:15260-1650735000-1650754800@swf.sk.ca
SUMMARY:Rocanville & District WF Supper & Fundraiser
DESCRIPTION:Supper with Raffles and Auction
URL:https://swf.sk.ca/event/rocanville-district-wf-supper-fundraiser/
LOCATION:Rocanville Hall\, 808 France's St\, Rocanville\, Saskatchewan\, S0A 3L0\, Canada
END:VEVENT
BEGIN:VEVENT
DTSTART;VALUE=DATE:20220423
DTEND;VALUE=DATE:20220424
DTSTAMP:20260421T161839
CREATED:20220318T212952Z
LAST-MODIFIED:20220318T212952Z
UID:15399-1650672000-1650758399@swf.sk.ca
SUMMARY:Souris Moose Creek WF 30th Annual F/R
DESCRIPTION:
URL:https://swf.sk.ca/event/souris-moose-creek-wf-30th-annual-f-r/
LOCATION:Oxbox Prairie Horizon School\, 806 Tupper Street\, 806 Wylie Ave\, Oxbow\, Saskatchewan\, S0C 2B0\, Canada
END:VEVENT
BEGIN:VEVENT
DTSTART;VALUE=DATE:20220423
DTEND;VALUE=DATE:20220424
DTSTAMP:20260421T161839
CREATED:20220304T170215Z
LAST-MODIFIED:20220304T170215Z
UID:15311-1650672000-1650758399@swf.sk.ca
SUMMARY:Kerrobert Wildlife Federation Annual Banquet and Awards Night
DESCRIPTION:Tickets available at Kerrobert Hardware
URL:https://swf.sk.ca/event/kerrobert-wildlife-federation-annual-banquet-and-awards-night/
LOCATION:Praireland Community Center (PCC)\, 216 McPherson Street\, Kerrobert\, Saskatchewan\, S0L 1R0\, Canada
END:VEVENT
BEGIN:VEVENT
DTSTART;TZID=America/Regina:20220422T090000
DTEND;TZID=America/Regina:20220422T110000
DTSTAMP:20260421T161839
CREATED:20220419T210404Z
LAST-MODIFIED:20220419T210404Z
UID:15625-1650618000-1650625200@swf.sk.ca
SUMMARY:Fox Point Advisory Committee Meeting
DESCRIPTION:The Committee Meeting will take place via Phone Conference Line. \nTo Join Meeting:\nDial: 1-306-692-7772\nParticipant ID: 575182 \nClick here to access the Agenda.
URL:https://swf.sk.ca/event/fox-point-advisory-committee-meeting-2/
END:VEVENT
BEGIN:VEVENT
DTSTART;VALUE=DATE:20220418
DTEND;VALUE=DATE:20220425
DTSTAMP:20260421T161839
CREATED:20220216T153331Z
LAST-MODIFIED:20220216T154502Z
UID:15189-1650240000-1650844799@swf.sk.ca
SUMMARY:Free Virtual Hunting Film Tour
DESCRIPTION:The Saskatchewan Wildlife Federation would like to invite you to join us for a FREE Virtual Hunting Film Tour Premier!\nThe show will be streaming between April 18th and 24th\, 2022. Enjoy our two-hour conservation minded\, fair chase show reels filled with awesome stories and breathtaking cinematography!\nTickets will be available online through the Hunting Film Tour website\, simply click on the event\, select a ticket\, checkout and the system will email you a FREE e-ticket with a link that will be live for the specified show time. \nThe films are available for streaming on the device of your choice. \nEvery SWF Member that downloads a ticket and enjoys the event will be entered into a draw for some great door prizes compliments of the Saskatchewan Wildlife Federation and the Hunting Film Tour! Sitka Gear pants and jackets combo\, Kenetrek gaiters and boots\, Vortex Optics\, DU flask/flashlight/ducks calls/cozies.\nThere is a ton of great stuff! The lucky winning names will be drawn at the end of the event\, check your email for prize announcements. \nWe appreciate your dedicated support to conservation in Saskatchewan!
URL:https://swf.sk.ca/event/free-virtual-hunting-film-tour/
END:VEVENT
BEGIN:VEVENT
DTSTART;TZID=America/Regina:20220414T183000
DTEND;TZID=America/Regina:20220414T213000
DTSTAMP:20260421T161839
CREATED:20220217T144953Z
LAST-MODIFIED:20220217T144953Z
UID:15198-1649961000-1649971800@swf.sk.ca
SUMMARY:Region 2 Spring Regional Meeting
DESCRIPTION:Online via Zoom
URL:https://swf.sk.ca/event/region-2-spring-regional-meeting/
LOCATION:Online via Zoom\, Canada
END:VEVENT
BEGIN:VEVENT
DTSTART;TZID=America/Regina:20220413T183000
DTEND;TZID=America/Regina:20220413T213000
DTSTAMP:20260421T161839
CREATED:20220217T145436Z
LAST-MODIFIED:20220217T145436Z
UID:15202-1649874600-1649885400@swf.sk.ca
SUMMARY:Region 6 Spring Regional Meeting
DESCRIPTION:Online via Zoom
URL:https://swf.sk.ca/event/region-6-spring-regional-meeting/
LOCATION:Online via Zoom\, Canada
END:VEVENT
BEGIN:VEVENT
DTSTART;TZID=America/Regina:20220412T183000
DTEND;TZID=America/Regina:20220412T213000
DTSTAMP:20260421T161840
CREATED:20220217T145137Z
LAST-MODIFIED:20220217T145137Z
UID:15199-1649788200-1649799000@swf.sk.ca
SUMMARY:Region 3 Spring Regional Meeting
DESCRIPTION:Online via Zoom
URL:https://swf.sk.ca/event/region-3-spring-regional-meeting/
LOCATION:Online via Zoom\, Canada
END:VEVENT
BEGIN:VEVENT
DTSTART;TZID=America/Regina:20220409T173000
DTEND;TZID=America/Regina:20220409T230000
DTSTAMP:20260421T161840
CREATED:20220228T180217Z
LAST-MODIFIED:20220228T181410Z
UID:15284-1649525400-1649545200@swf.sk.ca
SUMMARY:Nipawin Annual Awards Night
DESCRIPTION:Social to follow Awards presentation.
URL:https://swf.sk.ca/event/nipawin-annual-awards-night/
LOCATION:Nipawin Fish & Game Memorial Hall\, Regional Park\, Nipawin\, saskatchewan\, Canada
END:VEVENT
BEGIN:VEVENT
DTSTART;VALUE=DATE:20220409
DTEND;VALUE=DATE:20220410
DTSTAMP:20260421T161840
CREATED:20220308T134743Z
LAST-MODIFIED:20220311T143755Z
UID:15335-1649462400-1649548799@swf.sk.ca
SUMMARY:Battlefords 2nd Annual Smoker to GO
DESCRIPTION:As per attached poster \nhttps://swf.sk.ca/wp-content/uploads/2022/03/Battleford-Smoker.jpg
URL:https://swf.sk.ca/event/battlefords-annual-smoker/
END:VEVENT
BEGIN:VEVENT
DTSTART;VALUE=DATE:20220409
DTEND;VALUE=DATE:20220410
DTSTAMP:20260421T161840
CREATED:20220308T134100Z
LAST-MODIFIED:20220308T134100Z
UID:15333-1649462400-1649548799@swf.sk.ca
SUMMARY:Langenburg Fish & Game League Banquet
DESCRIPTION:
URL:https://swf.sk.ca/event/langenburg-fish-game-league-banquet/
END:VEVENT
BEGIN:VEVENT
DTSTART;VALUE=DATE:20220409
DTEND;VALUE=DATE:20220410
DTSTAMP:20260421T161840
CREATED:20220308T133624Z
LAST-MODIFIED:20220309T210033Z
UID:15332-1649462400-1649548799@swf.sk.ca
SUMMARY:Valley Trails WF Banquet
DESCRIPTION:Wild Game Banquet \nTickets $30/person \nFish & Big Game Awards \nPrize Tickets\, Raffles\, Door Prizes and Auction!!!!! \nFishing Trips\, firearms\, pellet grill\, stone eagle carving\, Yeti cooler\, Gauntlets and MORE\, MUCH MORE!
URL:https://swf.sk.ca/event/valley-trails-wf-banquet/
LOCATION:Brian King Centre\, 202 8th Ave N\, Warman\, Saskatchewan\, S0K 4S0\, Canada
END:VEVENT
BEGIN:VEVENT
DTSTART;VALUE=DATE:20220409
DTEND;VALUE=DATE:20220410
DTSTAMP:20260421T161840
CREATED:20220228T155940Z
LAST-MODIFIED:20220228T155940Z
UID:15281-1649462400-1649548799@swf.sk.ca
SUMMARY:Saveagoose Trophy Night\, Banquet & Fundraiser
DESCRIPTION:
URL:https://swf.sk.ca/event/saveagoose-trophy-night-banquet-fundraiser/
LOCATION:Francis Community Hall\, 201 Main St\, Francis\, Saskatchewan\, Canada
END:VEVENT
BEGIN:VEVENT
DTSTART;TZID=America/Regina:20220407T183000
DTEND;TZID=America/Regina:20220407T213000
DTSTAMP:20260421T161840
CREATED:20220217T145331Z
LAST-MODIFIED:20220217T145331Z
UID:15201-1649356200-1649367000@swf.sk.ca
SUMMARY:Region 5 Spring Regional Meeting
DESCRIPTION:Online via Zoom
URL:https://swf.sk.ca/event/region-5-spring-regional-meeting/
LOCATION:Online via Zoom\, Canada
END:VEVENT
BEGIN:VEVENT
DTSTART;TZID=America/Regina:20220406T183000
DTEND;TZID=America/Regina:20220406T213000
DTSTAMP:20260421T161840
CREATED:20220217T144902Z
LAST-MODIFIED:20220217T144902Z
UID:15197-1649269800-1649280600@swf.sk.ca
SUMMARY:Region 1 Spring Regional Meeting
DESCRIPTION:Online via Zoom
URL:https://swf.sk.ca/event/region-1-spring-regional-meeting-2/
LOCATION:Online via Zoom\, Canada
END:VEVENT
BEGIN:VEVENT
DTSTART;TZID=America/Regina:20220405T183000
DTEND;TZID=America/Regina:20220405T213000
DTSTAMP:20260421T161840
CREATED:20220217T145242Z
LAST-MODIFIED:20220217T145242Z
UID:15200-1649183400-1649194200@swf.sk.ca
SUMMARY:Region 4 Spring Regional Meeting
DESCRIPTION:Online via Zoom
URL:https://swf.sk.ca/event/region-4-spring-regional-meeting/
LOCATION:Online via Zoom\, Canada
END:VEVENT
BEGIN:VEVENT
DTSTART;TZID=America/Regina:20220402T080000
DTEND;TZID=America/Regina:20220402T170000
DTSTAMP:20260421T161840
CREATED:20220308T200307Z
LAST-MODIFIED:20220308T200307Z
UID:15342-1648886400-1648918800@swf.sk.ca
SUMMARY:Moose Mountain WF Banquet
DESCRIPTION:
URL:https://swf.sk.ca/event/moose-mountain-wf-banquet/
END:VEVENT
BEGIN:VEVENT
DTSTART;VALUE=DATE:20220402
DTEND;VALUE=DATE:20220403
DTSTAMP:20260421T161840
CREATED:20220303T212238Z
LAST-MODIFIED:20220303T213341Z
UID:15306-1648857600-1648943999@swf.sk.ca
SUMMARY:Broadview Wildlife Federation Annual Banquet and Awards Night
DESCRIPTION:
URL:https://swf.sk.ca/event/broadview-wildlife-federation-anual-banquet-and-awards-night/
END:VEVENT
BEGIN:VEVENT
DTSTART;VALUE=DATE:20220402
DTEND;VALUE=DATE:20220403
DTSTAMP:20260421T161840
CREATED:20220103T203241Z
LAST-MODIFIED:20220103T203241Z
UID:14968-1648857600-1648943999@swf.sk.ca
SUMMARY:Fred Garner Memorial Wildlife Banquet & Trophy Night (Weyburn WF)
DESCRIPTION:More information to be announced
URL:https://swf.sk.ca/event/fred-garner-memorial-wildlife-banquet-trophy-night-weyburn-wf/
END:VEVENT
BEGIN:VEVENT
DTSTART;VALUE=DATE:20220401
DTEND;VALUE=DATE:20220402
DTSTAMP:20260421T161840
CREATED:20220310T194901Z
LAST-MODIFIED:20220310T194901Z
UID:15365-1648771200-1648857599@swf.sk.ca
SUMMARY:Fish Artwork Contest Begins
DESCRIPTION:Submit your original and creative entries showing native Saskatchewan fish in their natural habitat. \nContest runs April 1 – April 30 and is open to Saskatchewan students in Grades 4 -6.\nSubmissions can be colour or black & white\, painting\, drawing or pastels. Only 8.5×11 paper please. Native fish species include: Walleye\, Yellow Perch\, Lake Trout\, Northern Pike\, Lake Sturgeon and Arctic Grayling. \nPlease no tracing — we want to see your original ideas and work \nMail entries to: \nDoug Gibson\, Director of Education \nSWF Central Office\, 9 Lancaster Road\, Moose Jaw\, SK S6J1M8 \nInclude: Student name\, grade\, teacher and school \nSWF Fishing package for 1st\, 2nd and 3rd place! \nPromote the Fish artwork Contest in your community with the 2022 poster
URL:https://swf.sk.ca/event/fish-artwork-contest-begins/
END:VEVENT
BEGIN:VEVENT
DTSTART;VALUE=DATE:20220326
DTEND;VALUE=DATE:20220327
DTSTAMP:20260421T161840
CREATED:20220228T155632Z
LAST-MODIFIED:20220228T155818Z
UID:15280-1648252800-1648339199@swf.sk.ca
SUMMARY:Valley View Wildlife Annual Awards
DESCRIPTION:
URL:https://swf.sk.ca/event/valley-view-wildlife-annual-awards/
END:VEVENT
BEGIN:VEVENT
DTSTART;VALUE=DATE:20220326
DTEND;VALUE=DATE:20220327
DTSTAMP:20260421T161840
CREATED:20220223T212054Z
LAST-MODIFIED:20220223T212137Z
UID:15255-1648252800-1648339199@swf.sk.ca
SUMMARY:ValleyView Wildlife Federation Annual Awards Banquet
DESCRIPTION:
URL:https://swf.sk.ca/event/yview-wildlife-federation-annual-awards-banquet/
LOCATION:Stockholm Community Center\, Stockholm\, Saskatchewan\, S0A 3Y0\, Canada
END:VEVENT
BEGIN:VEVENT
DTSTART;VALUE=DATE:20220312
DTEND;VALUE=DATE:20220313
DTSTAMP:20260421T161840
CREATED:20220202T134720Z
LAST-MODIFIED:20220202T135254Z
UID:15112-1647043200-1647129599@swf.sk.ca
SUMMARY:Souris Moose Creek WF 3rd Annual Ice Fishing Derby
DESCRIPTION:
URL:https://swf.sk.ca/event/souris-moose-creek-wf-3rd-annual-ice-fishing-derby/
LOCATION:Grant Devine Lake (Alameda Dam)\, 49.25905002716334\, -102.2308437304169\, Alameda Dam\, Saskatchewan\, Canada
END:VEVENT
BEGIN:VEVENT
DTSTART;TZID=America/Regina:20220310T090000
DTEND;TZID=America/Regina:20220310T110000
DTSTAMP:20260421T161840
CREATED:20220308T021528Z
LAST-MODIFIED:20220308T021743Z
UID:15330-1646902800-1646910000@swf.sk.ca
SUMMARY:Fox's Point Advisory Committee Meeting
DESCRIPTION:The public is welcome to listen in\, or view all Fox’s Point Advisory Committee Meetings.  There will be no open public forum at the meetings. The Advisory Committee will however facilitate public forum(s) this upcoming spring/summer.  Inquiries from the public are also welcome and encouraged by written submission to the RM McKillop No. 220\, or the Saskatchewan Wildlife Federation. \nJoin Zoom Meeting\nhttps://us06web.zoom.us/j/86479895659?pwd=Q3N1endWZVhhL1JNdWhGNlNNWmZ2UT09 \nMeeting ID: 864 7989 5659\nPasscode: 525553 \nOne tap mobile\n+17789072071\,\,86479895659# Canada\n+12042727920\,\,86479895659# Canada \nDial by your location\n+1 778 907 2071 Canada\n+1 204 272 7920 Canada\n+1 438 809 7799 Canada\n+1 587 328 1099 Canada\n+1 647 374 4685 Canada\n+1 647 558 0588 Canada \nMeeting ID: 864 7989 5659\nFind your local number: https://us06web.zoom.us/u/kdsLMbLfvl \n 
URL:https://swf.sk.ca/event/foxs-point-advisory-committee-meeting/
LOCATION:Online via Zoom\, Canada
END:VEVENT
END:VCALENDAR