BEGIN:VCALENDAR
VERSION:2.0
PRODID:-//Saskatchewan Wildlife Federation - ECPv6.15.13.1//NONSGML v1.0//EN
CALSCALE:GREGORIAN
METHOD:PUBLISH
X-ORIGINAL-URL:https://swf.sk.ca
X-WR-CALDESC:Events for Saskatchewan Wildlife Federation
REFRESH-INTERVAL;VALUE=DURATION:PT1H
X-Robots-Tag:noindex
X-PUBLISHED-TTL:PT1H
BEGIN:VTIMEZONE
TZID:America/Regina
BEGIN:STANDARD
TZOFFSETFROM:-0600
TZOFFSETTO:-0600
TZNAME:CST
DTSTART:20230101T000000
END:STANDARD
END:VTIMEZONE
BEGIN:VEVENT
DTSTART;VALUE=DATE:20240714
DTEND;VALUE=DATE:20240720
DTSTAMP:20260421T052121
CREATED:20240226T144133Z
LAST-MODIFIED:20240226T144133Z
UID:20825-1720915200-1721433599@swf.sk.ca
SUMMARY:Youth Conservation Camp: Girls Week
DESCRIPTION:
URL:https://swf.sk.ca/event/youth-conservation-camp-girls-week/
END:VEVENT
BEGIN:VEVENT
DTSTART;VALUE=DATE:20240721
DTEND;VALUE=DATE:20240727
DTSTAMP:20260421T052121
CREATED:20240226T144223Z
LAST-MODIFIED:20240226T144223Z
UID:20827-1721520000-1722038399@swf.sk.ca
SUMMARY:Youth Conservation Camp: Boys Week
DESCRIPTION:
URL:https://swf.sk.ca/event/youth-conservation-camp-boys-week/
END:VEVENT
BEGIN:VEVENT
DTSTART;VALUE=DATE:20240802
DTEND;VALUE=DATE:20240805
DTSTAMP:20260421T052121
CREATED:20240404T163018Z
LAST-MODIFIED:20240404T163018Z
UID:21259-1722556800-1722815999@swf.sk.ca
SUMMARY:River City Wildlife Federation's Women's Fishing Weekend
DESCRIPTION:
URL:https://swf.sk.ca/event/river-city-wildlife-federations-womens-fishing-weekend/
END:VEVENT
BEGIN:VEVENT
DTSTART;VALUE=DATE:20240808
DTEND;VALUE=DATE:20240812
DTSTAMP:20260421T052121
CREATED:20240301T161227Z
LAST-MODIFIED:20240301T161227Z
UID:20892-1723075200-1723420799@swf.sk.ca
SUMMARY:Estevan Wildlife Federation Youth Camp
DESCRIPTION:
URL:https://swf.sk.ca/event/estevan-wildlife-federation-youth-camp/
END:VEVENT
BEGIN:VEVENT
DTSTART;VALUE=DATE:20240927
DTEND;VALUE=DATE:20240930
DTSTAMP:20260421T052121
CREATED:20240829T145857Z
LAST-MODIFIED:20240829T145857Z
UID:22685-1727395200-1727654399@swf.sk.ca
SUMMARY:Fall Women's Outdoor Weekend
DESCRIPTION:
URL:https://swf.sk.ca/event/fall-womens-outdoor-weekend-3/
END:VEVENT
BEGIN:VEVENT
DTSTART;TZID=America/Regina:20240928T100000
DTEND;TZID=America/Regina:20240928T170000
DTSTAMP:20260421T052121
CREATED:20240830T171040Z
LAST-MODIFIED:20240830T171040Z
UID:22689-1727517600-1727542800@swf.sk.ca
SUMMARY:Region 6 Fall Regional Meeting
DESCRIPTION:
URL:https://swf.sk.ca/event/region-6-fall-regional-meeting-4/
END:VEVENT
BEGIN:VEVENT
DTSTART;TZID=America/Regina:20241006T100000
DTEND;TZID=America/Regina:20241006T170000
DTSTAMP:20260421T052121
CREATED:20240830T171013Z
LAST-MODIFIED:20240906T151257Z
UID:22688-1728208800-1728234000@swf.sk.ca
SUMMARY:Region 5 Fall Regional Meeting
DESCRIPTION:
URL:https://swf.sk.ca/event/region-5-fall-regional-meeting-5/
END:VEVENT
BEGIN:VEVENT
DTSTART;TZID=America/Regina:20241026T100000
DTEND;TZID=America/Regina:20241026T170000
DTSTAMP:20260421T052121
CREATED:20240830T171110Z
LAST-MODIFIED:20241002T150424Z
UID:22690-1729936800-1729962000@swf.sk.ca
SUMMARY:Region 2 Fall Regional Meeting
DESCRIPTION:at the Turtleford RM Office in Edam\, SK
URL:https://swf.sk.ca/event/region-2-fall-regional-meeting-5/
END:VEVENT
BEGIN:VEVENT
DTSTART;TZID=America/Regina:20241026T173000
DTEND;TZID=America/Regina:20241026T233000
DTSTAMP:20260421T052121
CREATED:20240830T172216Z
LAST-MODIFIED:20240830T172304Z
UID:22696-1729963800-1729985400@swf.sk.ca
SUMMARY:Indian Head and District Wildlife Federation - Annual Fundraising and Trophy Night
DESCRIPTION:@ Memorial Hall\, Indian Head\, SK \n\n\n\nEvent Contact Person\n\n\n\nMichael Miller\n\n\nPhone\n\n\n\n(306) 535-7447\n\n\nEmail\n\n\n\nshaunsky@sasktel.net\n\n\nAdditional Event Contact(s)\n\n\n\nDan Grunert – dangrunert2004@yahoo.ca 306 660 7600\n\n\nEvent website (if applicable)\n\n\n\nhttps://www.facebook.com/groups/1391172741193378\n\n\nAdditional Information\n\n\n\nFollow Facebook Group for more information
URL:https://swf.sk.ca/event/indian-head-and-district-wildlife-federation-annual-fundraising-and-trophy-night/
END:VEVENT
BEGIN:VEVENT
DTSTART;TZID=America/Regina:20241027T100000
DTEND;TZID=America/Regina:20241027T170000
DTSTAMP:20260421T052121
CREATED:20240830T171136Z
LAST-MODIFIED:20240830T171136Z
UID:22691-1730023200-1730048400@swf.sk.ca
SUMMARY:Region 3 Fall Regional Meeting
DESCRIPTION:@ the Legion Hall in Watson\, SK
URL:https://swf.sk.ca/event/region-3-fall-regional-meeting-4/
END:VEVENT
BEGIN:VEVENT
DTSTART;TZID=America/Regina:20241102T100000
DTEND;TZID=America/Regina:20241102T170000
DTSTAMP:20260421T052121
CREATED:20240830T171154Z
LAST-MODIFIED:20240830T171154Z
UID:22692-1730541600-1730566800@swf.sk.ca
SUMMARY:Region 4 Fall Regional Meeting
DESCRIPTION:
URL:https://swf.sk.ca/event/region-4-fall-regional-meeting-4/
END:VEVENT
BEGIN:VEVENT
DTSTART;TZID=America/Regina:20241103T100000
DTEND;TZID=America/Regina:20241103T170000
DTSTAMP:20260421T052121
CREATED:20240830T171233Z
LAST-MODIFIED:20240830T171233Z
UID:22693-1730628000-1730653200@swf.sk.ca
SUMMARY:Region 1 Fall Regional Meeting
DESCRIPTION:@ the Seniors Hall in Rose Valley\, SK
URL:https://swf.sk.ca/event/region-1-fall-regional-meeting-4/
END:VEVENT
BEGIN:VEVENT
DTSTART;VALUE=DATE:20241115
DTEND;VALUE=DATE:20241116
DTSTAMP:20260421T052121
CREATED:20240830T171329Z
LAST-MODIFIED:20240830T171329Z
UID:22694-1731628800-1731715199@swf.sk.ca
SUMMARY:Saskatchewan Hunting\, Trapping\, and Angling Day - Camo Day
DESCRIPTION:
URL:https://swf.sk.ca/event/saskatchewan-hunting-trapping-and-angling-day-camo-day/
END:VEVENT
BEGIN:VEVENT
DTSTART;TZID=America/Regina:20241206T170000
DTEND;TZID=America/Regina:20241206T200000
DTSTAMP:20260421T052121
CREATED:20241015T211658Z
LAST-MODIFIED:20241015T211658Z
UID:23089-1733504400-1733515200@swf.sk.ca
SUMMARY:Melville Fish & Game Antler Scoring Night
DESCRIPTION:at the Melville Community Works – 800 Prince Edward St\, Melville SK
URL:https://swf.sk.ca/event/melville-fish-game-antler-scoring-night/
END:VEVENT
BEGIN:VEVENT
DTSTART;VALUE=DATE:20241207
DTEND;VALUE=DATE:20241208
DTSTAMP:20260421T052121
CREATED:20240506T172740Z
LAST-MODIFIED:20240506T172740Z
UID:21406-1733529600-1733615999@swf.sk.ca
SUMMARY:Redberry Wildlife Federation Horn Measuring
DESCRIPTION:At Orelow Hall
URL:https://swf.sk.ca/event/redberry-wildlife-federation-horn-measuring/
END:VEVENT
BEGIN:VEVENT
DTSTART;VALUE=DATE:20241207
DTEND;VALUE=DATE:20241208
DTSTAMP:20260421T052121
CREATED:20241022T173206Z
LAST-MODIFIED:20241022T173206Z
UID:23132-1733529600-1733615999@swf.sk.ca
SUMMARY:Humboldt Wildlife Federation Antler Measuring
DESCRIPTION:
URL:https://swf.sk.ca/event/humboldt-wildlife-federation-antler-measuring-2/
END:VEVENT
BEGIN:VEVENT
DTSTART;TZID=America/Regina:20241207T150000
DTEND;TZID=America/Regina:20241207T173000
DTSTAMP:20260421T052121
CREATED:20241113T190901Z
LAST-MODIFIED:20241113T190901Z
UID:23194-1733583600-1733592600@swf.sk.ca
SUMMARY:Grenfell Wildlife Federation Buck Night
DESCRIPTION:
URL:https://swf.sk.ca/event/grenfell-wildlife-federation-buck-night/
END:VEVENT
BEGIN:VEVENT
DTSTART;TZID=America/Regina:20241207T190000
DTEND;TZID=America/Regina:20241207T230000
DTSTAMP:20260421T052121
CREATED:20241204T153716Z
LAST-MODIFIED:20241204T153716Z
UID:23271-1733598000-1733612400@swf.sk.ca
SUMMARY:Cater Lake Wildlife Federation Horn Score night
DESCRIPTION:Venue Name & Address\n\n\n \nMedstead Hall\n\n\n\n\n\n \nMedstead\, Saskatchewan S0M1W0\nCanada\nMap It\n\n\nEvent Contact Person\n\n\n \nAl Roske\n\n\nPhone\n\n\n \n(306) 930-9992\n\n\nEmail\n\n\n \nalroske66@gmail.com\n\n\nEvent Submitted by: (Name & Phone)\n\n\n \nAl Roske 306-930-9992
URL:https://swf.sk.ca/event/cater-lake-wildlife-federation-horn-score-night/
END:VEVENT
BEGIN:VEVENT
DTSTART;VALUE=DATE:20241208
DTEND;VALUE=DATE:20241209
DTSTAMP:20260421T052121
CREATED:20231212T154258Z
LAST-MODIFIED:20231212T154258Z
UID:20062-1733616000-1733702399@swf.sk.ca
SUMMARY:Save-A-Goose Wildlife Federation Horn Measuring
DESCRIPTION:
URL:https://swf.sk.ca/event/save-a-goose-wildlife-federation-horn-measuring/
END:VEVENT
BEGIN:VEVENT
DTSTART;VALUE=DATE:20241209
DTEND;VALUE=DATE:20241210
DTSTAMP:20260421T052121
CREATED:20231212T154231Z
LAST-MODIFIED:20231212T154231Z
UID:20061-1733702400-1733788799@swf.sk.ca
SUMMARY:Save-A-Goose Wildlife Federation Annual Supper Meeting
DESCRIPTION:
URL:https://swf.sk.ca/event/save-a-goose-wildlife-federation-annual-supper-meeting-2/
END:VEVENT
BEGIN:VEVENT
DTSTART;TZID=America/Regina:20241210T180000
DTEND;TZID=America/Regina:20241210T233000
DTSTAMP:20260421T052121
CREATED:20241118T144029Z
LAST-MODIFIED:20241118T144029Z
UID:23221-1733853600-1733873400@swf.sk.ca
SUMMARY:Outlook & District Wildlife Federation Horn Measuring Night
DESCRIPTION:
URL:https://swf.sk.ca/event/outlook-district-wildlife-federation-horn-measuring-night/
END:VEVENT
BEGIN:VEVENT
DTSTART;TZID=America/Regina:20241211T190000
DTEND;TZID=America/Regina:20241211T210000
DTSTAMP:20260421T052121
CREATED:20241118T144114Z
LAST-MODIFIED:20241118T144114Z
UID:23223-1733943600-1733950800@swf.sk.ca
SUMMARY:Outlook & District Wildlife Federation Annual General Meeting
DESCRIPTION:
URL:https://swf.sk.ca/event/outlook-district-wildlife-federation-annual-general-meeting/
END:VEVENT
BEGIN:VEVENT
DTSTART;VALUE=DATE:20241212
DTEND;VALUE=DATE:20241213
DTSTAMP:20260421T052121
CREATED:20240122T211212Z
LAST-MODIFIED:20240122T211212Z
UID:20402-1733961600-1734047999@swf.sk.ca
SUMMARY:Moose Jaw Wildlife Federation Horn & Antler Scoring
DESCRIPTION:@ MJWF Hall
URL:https://swf.sk.ca/event/moose-jaw-wildlife-federation-horn-antler-scoring-2/
END:VEVENT
BEGIN:VEVENT
DTSTART;VALUE=DATE:20241214
DTEND;VALUE=DATE:20241215
DTSTAMP:20260421T052121
CREATED:20240830T172031Z
LAST-MODIFIED:20240830T172031Z
UID:22695-1734134400-1734220799@swf.sk.ca
SUMMARY:Indian Head and District Wildlife Federation - Antler and Horn Scoring
DESCRIPTION:@ New West Concrete Ltd – 102S N Railway Avenue\, Indian Head\, SK \n\n\n\nEvent Contact Person\n\n\n \nDan Grunert\n\n\nPhone\n\n\n \n(306) 660-7600\n\n\nEmail\n\n\n \ndangrunert2004@yahoo.ca\n\n\nAdditional Event Contact(s)\n\n\n \nMichael Miller 306 535 7447 shaunsky@sasktel.net\n\n\nEvent website (if applicable)\n\n\n \nhttps://www.facebook.com/groups/1391172741193378\n\n\nAdditional Information\n\n\n \nPlease see facebook group for upcoming posts
URL:https://swf.sk.ca/event/indian-head-and-district-wildlife-federation-antler-and-horn-scoring/
END:VEVENT
BEGIN:VEVENT
DTSTART;VALUE=DATE:20241214
DTEND;VALUE=DATE:20241215
DTSTAMP:20260421T052121
CREATED:20241015T205401Z
LAST-MODIFIED:20241015T205401Z
UID:23088-1734134400-1734220799@swf.sk.ca
SUMMARY:Weyburn Wildlife Federation Buck Scoring Night
DESCRIPTION:
URL:https://swf.sk.ca/event/weyburn-wildlife-federation-buck-scoring-night/
END:VEVENT
BEGIN:VEVENT
DTSTART;TZID=America/Regina:20241215T130000
DTEND;TZID=America/Regina:20241215T160000
DTSTAMP:20260421T052121
CREATED:20241202T154945Z
LAST-MODIFIED:20241202T154945Z
UID:23257-1734267600-1734278400@swf.sk.ca
SUMMARY:Tisdale Wildlife Federation Antler measuring and Hunter Safety Registration
DESCRIPTION:Venue Name & Address\n\n\n \nTisdale Wildlife Federation Gun Range\n\n\n\n\n\n \n800 101 st\nTisdale\, Saskatchewan S0E 1T0\nCanada\nMap It\n\n\nEvent Contact Person\n\n\n \nJenifer Hidlebaugh\n\n\nPhone\n\n\n \n(306) 883-6796\n\n\nEmail\n\n\n \nSexycoconuts_88@hotmail.com\n\n\nAdditional Event Contact(s)\n\n\n \nJustin Greif (306)873-1517\nInfo@tisdalewildlifefederation.com\n\n\nAdditional Information\n\n\n \nThe anter measuring and hunter safety registration is from 1:00pm -4:00pm\n\n\nEvent Submitted by: (Name & Phone)\n\n\n \nJenifer Hidlebaugh (306)873-6796
URL:https://swf.sk.ca/event/tisdale-wildlife-federation-antler-measuring-and-hunter-safety-registration/
END:VEVENT
BEGIN:VEVENT
DTSTART;VALUE=DATE:20241231
DTEND;VALUE=DATE:20250101
DTSTAMP:20260421T052121
CREATED:20241113T194341Z
LAST-MODIFIED:20241113T194535Z
UID:23197-1735603200-1735689599@swf.sk.ca
SUMMARY:Kerrobert & District Wildlife Federation Gun Draw Ticket Deadline
DESCRIPTION:
URL:https://swf.sk.ca/event/kerrobert-district-wildlife-federation-gun-draw-ticket-deadline/
END:VEVENT
BEGIN:VEVENT
DTSTART;VALUE=DATE:20250104
DTEND;VALUE=DATE:20250105
DTSTAMP:20260421T052121
CREATED:20241211T145800Z
LAST-MODIFIED:20241211T145800Z
UID:23318-1735948800-1736035199@swf.sk.ca
SUMMARY:Weyburn Wildlife Federation Nickle Lake Fishing Derby
DESCRIPTION:
URL:https://swf.sk.ca/event/weyburn-wildlife-federation-nickle-lake-fishing-derby/
END:VEVENT
BEGIN:VEVENT
DTSTART;TZID=America/Regina:20250109T183000
DTEND;TZID=America/Regina:20250109T233000
DTSTAMP:20260421T052121
CREATED:20241113T210058Z
LAST-MODIFIED:20241113T210058Z
UID:23211-1736447400-1736465400@swf.sk.ca
SUMMARY:Souris Moose Creek Wildlife Federation Buck Night
DESCRIPTION:
URL:https://swf.sk.ca/event/souris-moose-creek-wildlife-federation-buck-night/
END:VEVENT
BEGIN:VEVENT
DTSTART;TZID=America/Regina:20250112T140000
DTEND;TZID=America/Regina:20250112T160000
DTSTAMP:20260421T052121
CREATED:20241204T171412Z
LAST-MODIFIED:20241204T171412Z
UID:23276-1736690400-1736697600@swf.sk.ca
SUMMARY:Eagle Creek Wildlife Federation Annual Meeting/Branch Meeting
DESCRIPTION:Jan 12\, 2025 Asquith Seniors Centre from 2pm-4pm 
URL:https://swf.sk.ca/event/eagle-creek-wildlife-federation-annual-meeting-branch-meeting/
END:VEVENT
END:VCALENDAR