BEGIN:VCALENDAR
VERSION:2.0
PRODID:-//Saskatchewan Wildlife Federation - ECPv6.15.13.1//NONSGML v1.0//EN
CALSCALE:GREGORIAN
METHOD:PUBLISH
X-WR-CALNAME:Saskatchewan Wildlife Federation
X-ORIGINAL-URL:https://swf.sk.ca
X-WR-CALDESC:Events for Saskatchewan Wildlife Federation
REFRESH-INTERVAL;VALUE=DURATION:PT1H
X-Robots-Tag:noindex
X-PUBLISHED-TTL:PT1H
BEGIN:VTIMEZONE
TZID:America/Regina
BEGIN:STANDARD
TZOFFSETFROM:-0600
TZOFFSETTO:-0600
TZNAME:CST
DTSTART:20210101T000000
END:STANDARD
END:VTIMEZONE
BEGIN:VEVENT
DTSTART;TZID=America/Regina:20221026T183000
DTEND;TZID=America/Regina:20221026T210000
DTSTAMP:20260421T094826
CREATED:20220928T174326Z
LAST-MODIFIED:20220928T174326Z
UID:16803-1666809000-1666818000@swf.sk.ca
SUMMARY:Region 3 Fall Regional Meeting
DESCRIPTION:
URL:https://swf.sk.ca/event/region-3-fall-regional-meeting-2/
LOCATION:Online – Zoom\, Canada
END:VEVENT
BEGIN:VEVENT
DTSTART;TZID=America/Regina:20221020T183000
DTEND;TZID=America/Regina:20221020T210000
DTSTAMP:20260421T094826
CREATED:20220928T174256Z
LAST-MODIFIED:20220928T174256Z
UID:16802-1666290600-1666299600@swf.sk.ca
SUMMARY:Region 1 Fall Regional Meeting
DESCRIPTION:
URL:https://swf.sk.ca/event/region-1-fall-regional-meeting-2/
LOCATION:Online – Zoom\, Canada
END:VEVENT
BEGIN:VEVENT
DTSTART;TZID=America/Regina:20221019T183000
DTEND;TZID=America/Regina:20221019T210000
DTSTAMP:20260421T094826
CREATED:20220928T174221Z
LAST-MODIFIED:20220928T174221Z
UID:16801-1666204200-1666213200@swf.sk.ca
SUMMARY:Region 6 Fall Regional Meeting
DESCRIPTION:
URL:https://swf.sk.ca/event/region-6-fall-regional-meeting-2/
LOCATION:Online – Zoom\, Canada
END:VEVENT
BEGIN:VEVENT
DTSTART;TZID=America/Regina:20221018T183000
DTEND;TZID=America/Regina:20221018T210000
DTSTAMP:20260421T094826
CREATED:20220928T174151Z
LAST-MODIFIED:20220928T174151Z
UID:16800-1666117800-1666126800@swf.sk.ca
SUMMARY:Region 5 Fall Regional Meeting
DESCRIPTION:
URL:https://swf.sk.ca/event/region-5-fall-regional-meeting-3/
LOCATION:Online – Zoom\, Canada
END:VEVENT
BEGIN:VEVENT
DTSTART;TZID=America/Regina:20221011T183000
DTEND;TZID=America/Regina:20221011T210000
DTSTAMP:20260421T094826
CREATED:20220928T173857Z
LAST-MODIFIED:20220928T173857Z
UID:16799-1665513000-1665522000@swf.sk.ca
SUMMARY:Region 4 Fall Regional Meeting
DESCRIPTION:
URL:https://swf.sk.ca/event/region-4-fall-regional-meeting-2/
LOCATION:Online – Zoom\, Canada
END:VEVENT
BEGIN:VEVENT
DTSTART;TZID=America/Regina:20220923T140000
DTEND;TZID=America/Regina:20220925T140000
DTSTAMP:20260421T094826
CREATED:20220728T163625Z
LAST-MODIFIED:20220728T163625Z
UID:16336-1663941600-1664114400@swf.sk.ca
SUMMARY:Fall Women's Outdoor Weekend
DESCRIPTION:The Saskatchewan Wildlife Federation’s Women’s Outdoor Weekend (WOW) is an opportunity to learn new skills\, try your hand at a variety of wilderness activities and increase your outdoor confidence through activities like archery\, knife skills\, fishing and filleting\, shelter building\,  plant and animal identification\, fire building\, canoeing and so much more! \nJoined by our friendly experienced staff and other adventure-seeking women out at Hannin Creek Education & Research Centre at Candle Lake\, SK. This is a weekend you won’t want to miss\, and one you won’t soon forget! \nFALL DATES: September 23-25\, 2022 \nCost for W.O.W. is $250 for SWF members\, and $275 for non-members. \nTo register for the fall event\, please fill out the Registration Form\, and submit back to the SWF Central Office. Registration closes September 1\, 2022. \nAge required to attend WOW: Ages 19+ \nFor more information on our Women’s Outdoor Weekend\, contact the SWF Central Office at 306-692-8812 or sask.wildlife@swf.sk.ca.
URL:https://swf.sk.ca/event/fall-womens-outdoor-weekend/
LOCATION:Hannin Creek Education and Applied Research Centre\, Paddockwood No. 520\, Candle Lake\, Saskatchewan\, S0J 3E0\, Canada
ATTACH;FMTTYPE=image/jpeg:https://swf.sk.ca/wp-content/uploads/2022/06/281840582_407597671263564_3865394028997606172_n.jpg
END:VEVENT
BEGIN:VEVENT
DTSTART;VALUE=DATE:20220910
DTEND;VALUE=DATE:20220911
DTSTAMP:20260421T094826
CREATED:20220815T212319Z
LAST-MODIFIED:20220815T212319Z
UID:16477-1662768000-1662854399@swf.sk.ca
SUMMARY:Saskatchewan Gamebird Habitat Trust Pre-Season Tune Up
DESCRIPTION:Support the Saskatchewan Gamebird Habitat Trust at our SEPTEMBER PRE-SEASON TUNE UP\nSeptember 10th\, 2022 at the Regina Trap and Skeet Club Inland Drive\, Regina\nMorning shoot: 10:00am\nLunch: 12:00pm\nAfternoon shoot: 1:00pm \nThis will be a combination five station sporting clays event.\nBucket draws and a silent auction will be closed after the second round and awards presented. \nTo download the event poster\, click here.
URL:https://swf.sk.ca/event/saskatchewan-gamebird-habitat-trust-pre-season-tune-up/
LOCATION:Regina Trap and Skeet Club\, Inland Drive\, Regina\, SK\, Canada
END:VEVENT
BEGIN:VEVENT
DTSTART;TZID=America/Regina:20220821T100000
DTEND;TZID=America/Regina:20220821T150000
DTSTAMP:20260421T094826
CREATED:20220819T192636Z
LAST-MODIFIED:20220819T192740Z
UID:16509-1661076000-1661094000@swf.sk.ca
SUMMARY:Annual Gun & Archery\, Toy Farm Equipment\, Coins\, Stamps & Collectable Show & Sale
DESCRIPTION:Battlefords Wildlife Federation are partnering up with the North Battleford Lion’s Club for their Annual Gun & Archery\, Toy Farm Equipment\, Coins\, Stamps and Collectables Show & Sale on Saturday\, August 20th\, 2022 from 10:00am to 5:00pm and on Sunday\, August 21st\, 2022 from 10:00am to 3:00pm at the Battleford Arena\, Battleford. Admission is $5.00 per person per day. Children 12 & under: Free (Children must be accompanied by an adult) \nClick here to download event poster.
URL:https://swf.sk.ca/event/annual-gun-archery-toy-farm-equipment-coins-stamps-collcetable-show-sale-2/
LOCATION:Battleford Arena\, 401 28th Street West\, Battleford\, SK\, Canada
END:VEVENT
BEGIN:VEVENT
DTSTART;TZID=America/Regina:20220820T100000
DTEND;TZID=America/Regina:20220820T170000
DTSTAMP:20260421T094826
CREATED:20220819T192533Z
LAST-MODIFIED:20220819T192714Z
UID:16506-1660989600-1661014800@swf.sk.ca
SUMMARY:Annual Gun & Archery\, Toy Farm Equipment\, Coins\, Stamps & Collectable Show & Sale
DESCRIPTION:Battlefords Wildlife Federation are partnering up with the North Battleford Lion’s Club for their Annual Gun & Archery\, Toy Farm Equipment\, Coins\, Stamps and Collectables Show & Sale on Saturday\, August 20th\, 2022 from 10:00am to 5:00pm and on Sunday\, August 21st\, 2022 from 10:00am to 3:00pm at the Battleford Arena\, Battleford. Admission is $5.00 per person per day. Children 12 & under: Free (Children must be accompanied by an adult) \nClick here to download event poster.
URL:https://swf.sk.ca/event/annual-gun-archery-toy-farm-equipment-coins-stamps-collcetable-show-sale/
LOCATION:Battleford Arena\, 401 28th Street West\, Battleford\, SK\, Canada
END:VEVENT
BEGIN:VEVENT
DTSTART;TZID=America/Regina:20220807T090000
DTEND;TZID=America/Regina:20220807T140000
DTSTAMP:20260421T094826
CREATED:20220722T173219Z
LAST-MODIFIED:20220722T185554Z
UID:16229-1659862800-1659880800@swf.sk.ca
SUMMARY:Tisdale WF 3D Archery Fun Shoot
DESCRIPTION:$10/round \nDoor Prize – Hoyt RX7 Bow. \n30+ Targets \n  \n 
URL:https://swf.sk.ca/event/tisdale-wf-3d-archery-fun-shoot/
LOCATION:Tisdale WF 3D Archery Range\, 2.5 Miles E of Tisdale\, .5 mile N\, Tisdale\, Saskatchewan
END:VEVENT
BEGIN:VEVENT
DTSTART;TZID=America/Regina:20220709T130000
DTEND;TZID=America/Regina:20220709T170000
DTSTAMP:20260421T094826
CREATED:20220615T212402Z
LAST-MODIFIED:20220615T212402Z
UID:15870-1657371600-1657386000@swf.sk.ca
SUMMARY:4th Annual Sporting Clay Shoot
DESCRIPTION:Join the SWF for the 4th Annual Sporting Clay Shoot!\n\n\n\nWhen? July 9\, 2022 @ 1:00pm\n\nWhere? Hanley Sporting Grounds\, Hanley\, SK\n\n\n\n$80 per person\, includes: 15 Station Course\, and Supper. Register individually\, or in teams of 5.\n\n\n\nFor more information\, or to register\, contact Central Office at 306-692-8812 or sask.wildlife@swf.sk.ca.\n\n\n\n*ALL PROCEEDS SUPPORT SWF OUTDOOR EDUCATION PROGRAMS!\n\n\nTo download the event poster\, click here.
URL:https://swf.sk.ca/event/4th-annual-sporting-clay-shoot/
LOCATION:Hanley Sporting Grounds\, Hanley\, Saskatchewan\, Canada
END:VEVENT
BEGIN:VEVENT
DTSTART;VALUE=DATE:20220709
DTEND;VALUE=DATE:20220711
DTSTAMP:20260421T094826
CREATED:20220422T205328Z
LAST-MODIFIED:20220422T205328Z
UID:15628-1657324800-1657497599@swf.sk.ca
SUMMARY:Rgn 3 HK Measuring Workshop
DESCRIPTION:Contact Blair Mitchell @ 306-547-8857 for more information.
URL:https://swf.sk.ca/event/rgn-3-hk-measuring-workshop/
LOCATION:Yorkton Gun Club\, York Lake Regional Park\, Saskatchewan\, Canada
END:VEVENT
BEGIN:VEVENT
DTSTART;TZID=America/Regina:20220625T110000
DTEND;TZID=America/Regina:20220625T190000
DTSTAMP:20260421T094826
CREATED:20220519T181121Z
LAST-MODIFIED:20220519T181121Z
UID:15745-1656154800-1656183600@swf.sk.ca
SUMMARY:Yorkton Wildlife Federation's 2nd Annual Fish Fry
DESCRIPTION:Join the Yorkton Wildlife Federation for their 2nd  Annual Fish Fry \nSaturday June 25th \n11am-7pm  @ YWF Clubhouse York Lake
URL:https://swf.sk.ca/event/yorkton-wildlife-federations-2nd-annual-fish-fry/
END:VEVENT
BEGIN:VEVENT
DTSTART;TZID=America/Regina:20220624T080000
DTEND;TZID=America/Regina:20220624T170000
DTSTAMP:20260421T094826
CREATED:20220624T221104Z
LAST-MODIFIED:20220624T221541Z
UID:15971-1656057600-1656090000@swf.sk.ca
SUMMARY:Battlefords WF Annual Gun & Archery\, Toy\, Coin\, Stamps & Collectable Show & Sale
DESCRIPTION:See attached Poster \n \n  \nhttps://swf.sk.ca/event/battlefords-wf-a…ctable-show-sale/
URL:https://swf.sk.ca/event/battlefords-wf-annual-gun-archery-toy-coin-stamps-collectable-show-sale/
LOCATION:Battlefords Arena\, 401 28th Street West\, Battlefords\, Saskatchewan\, S0M 0E0\, Canada
END:VEVENT
BEGIN:VEVENT
DTSTART;TZID=America/Regina:20220621T120000
DTEND;TZID=America/Regina:20220621T190000
DTSTAMP:20260421T094826
CREATED:20220310T200631Z
LAST-MODIFIED:20220310T200631Z
UID:15367-1655812800-1655838000@swf.sk.ca
SUMMARY:16th Annual Habitat Trust Golf Tournament
DESCRIPTION:16th ANNUAL HABITAT TRUST GOLF TOURNAMENT\nTUESDAY JUNE 21\, 2022\nat the Harbour Golf Club & Resort\, Elbow\, SK\nSHOT GUN START AT NOON\n$95 PER PERSON\, INCLUDES:\n18 holes of golf\, golf cart\, and supper!\nAll proceeds from the Habitat Trust Golf Tournament will help secure and maintain wildlife habitat in Saskatchewan! \nTo register\, call the SWF Central Office at 306 692 8812\, or email sask.wildlife@swf.sk.ca \nDOWNLOAD THE POSTER HERE
URL:https://swf.sk.ca/event/16th-annual-habitat-trust-golf-tournament/
LOCATION:Harbour Golf Club & Resort\, Elbow\, Saskatchewan\, S0H 1J0\, Canada
END:VEVENT
BEGIN:VEVENT
DTSTART;TZID=America/Regina:20220618T090000
DTEND;TZID=America/Regina:20220618T203000
DTSTAMP:20260421T094826
CREATED:20220427T200235Z
LAST-MODIFIED:20220427T203907Z
UID:15634-1655542800-1655584200@swf.sk.ca
SUMMARY:Nipawin Fish & Game League Clay Shoot and Steak Supper
DESCRIPTION:Join us at the Nipawin Fish & Game Clay Shoot $80.00 per person: \nLeave Nipawin on HWY 55 W. At curve by White Fox\, go straight North6.5 km. Watch for signs on left side of road to Torch River Gun Range. \nRegistration is at 9-9:45am \nRules and Regulations 9:45 \nShoot includes 2 Rounds of 100 targets and Lunch \nSSCA Fee Extra \nSteak Supper to follow shoot at Nipawin Fish & Game Leaque Memorial Hall $30.00 \nContact Don: 306-862-4036 or Louis 306-862-3758 \n 
URL:https://swf.sk.ca/event/nipawin-wf-clay-shoot-and-steak-supper/
END:VEVENT
BEGIN:VEVENT
DTSTART;TZID=America/Regina:20220617T000000
DTEND;TZID=America/Regina:20220620T235900
DTSTAMP:20260421T094826
CREATED:20220519T181243Z
LAST-MODIFIED:20220519T181243Z
UID:15747-1655424000-1655769540@swf.sk.ca
SUMMARY:Yorkton Wildlife Federation's 2nd Annual Online Auction Fundraiser
DESCRIPTION:Visit Karla’s Auction Website for more details
URL:https://swf.sk.ca/event/yorkton-wildlife-federations-2nd-annual-online-auction-fundraiser/
END:VEVENT
BEGIN:VEVENT
DTSTART;TZID=America/Regina:20220615T190000
DTEND;TZID=America/Regina:20220615T210000
DTSTAMP:20260421T094826
CREATED:20220613T173158Z
LAST-MODIFIED:20220613T173158Z
UID:15857-1655319600-1655326800@swf.sk.ca
SUMMARY:Fox Point Advisory Committee Public Consultation Meeting
DESCRIPTION:Join the Fox Point Advisory Committee for an in-person Public Consultation Meeting\, to discuss the area known as Fox Point along Last Mountain Lake. \nVENUE:\nBulyea Community Hall – 204 Ashley St\nBulyea\, Saskatchewan S0G 0L0 Canada \nDate: June 15 \nTime: 7:00 pm – 9:00 pm
URL:https://swf.sk.ca/event/fox-point-advisory-committee-public-consultation-meeting/
LOCATION:Bulyea Community Hall\, 204 Ashley St\, Bulyea\, Saskatchewan\, S0G 0L0\, Canada
ORGANIZER;CN="Steve Mazurak":MAILTO:Mayorpelicanpointe@sasktel.net
END:VEVENT
BEGIN:VEVENT
DTSTART;VALUE=DATE:20220604
DTEND;VALUE=DATE:20220605
DTSTAMP:20260421T094826
CREATED:20220324T205923Z
LAST-MODIFIED:20220324T205923Z
UID:15502-1654300800-1654387199@swf.sk.ca
SUMMARY:Weyburn WF Walleye Classic
DESCRIPTION:
URL:https://swf.sk.ca/event/weyburn-wf-walleye-classic/
END:VEVENT
BEGIN:VEVENT
DTSTART;VALUE=DATE:20220528
DTEND;VALUE=DATE:20220529
DTSTAMP:20260421T094826
CREATED:20220308T134717Z
LAST-MODIFIED:20220427T200323Z
UID:15334-1653696000-1653782399@swf.sk.ca
SUMMARY:Battleford WF Awards Banquet
DESCRIPTION:BATTLEFORDS WILDLIFE FEDERATION AWARDS NIGHT\nHeld at the Battlefords Wildlife Federation Clubhouse – 9170 Thatcher Ave\, North Battleford \nCOCKTAILS @ 6:00pm\nBANQUET @ 7:00pm\nTickets: $20\nTo download event poster\, click here.
URL:https://swf.sk.ca/event/battleford-wf-awards-banquet/
LOCATION:Battlefords Wildlife Federation Clubhouse\, 9710 Thatcher Ave\, North Battleford\, SK\, Canada
END:VEVENT
BEGIN:VEVENT
DTSTART;TZID=America/Regina:20220527T140000
DTEND;TZID=America/Regina:20220529T140000
DTSTAMP:20260421T094826
CREATED:20220310T180402Z
LAST-MODIFIED:20220310T180402Z
UID:15364-1653660000-1653832800@swf.sk.ca
SUMMARY:Spring Women's Outdoor Weekend
DESCRIPTION:The Saskatchewan Wildlife Federation encourages all women to expand and strengthen their outdoor skills and knowledge by joining us for a Women’s Outdoor Weekend (WOW)! This is an opportunity to learn new skills\, try your hand at a variety of wilderness activities and increase your outdoor confidence through activities like archery\, knife skills\, fishing and filleting\, survival skills\,  plant and animal identification\, fire building\, canoeing and so much more! \nJoined by our friendly experienced staff and other adventure-seeking women out at Hannin Creek Education & Research Centre at Candle Lake\, SK. This is a weekend you won’t want to miss\, and one you won’t soon forget! \nCost for W.O.W. is $250 for SWF members\, and $275 for non-members. \nTo register for the spring event\, please fill out the Registration Form\, and submit back to the SWF Central Office. Registration closes May 1\, 2022. \nRegistration for the fall event will open in June 2022. \nAge required to attend WOW: Ages 19+
URL:https://swf.sk.ca/event/spring-womens-outdoor-weekend/
LOCATION:Hannin Creek Education and Applied Research Centre\, Paddockwood No. 520\, Candle Lake\, Saskatchewan\, S0J 3E0\, Canada
END:VEVENT
BEGIN:VEVENT
DTSTART;TZID=America/Regina:20220512T090000
DTEND;TZID=America/Regina:20220512T110000
DTSTAMP:20260421T094826
CREATED:20220510T155952Z
LAST-MODIFIED:20220510T155952Z
UID:15675-1652346000-1652353200@swf.sk.ca
SUMMARY:Fox Point Advisory Committee Meeting
DESCRIPTION:Join the Fox Point Advisory Committee for their monthly meeting!\nJoin via Phone Conference Line: 1-306-692-7772\nParticipant ID: 575182 \nFor meeting agenda\, click here. \nFor previous Committee Minutes\, click here.
URL:https://swf.sk.ca/event/fox-point-advisory-committee-meeting-3/
END:VEVENT
BEGIN:VEVENT
DTSTART;TZID=America/Regina:20220507T100000
DTEND;TZID=America/Regina:20220507T120000
DTSTAMP:20260421T094826
CREATED:20220503T191752Z
LAST-MODIFIED:20220503T191752Z
UID:15646-1651917600-1651924800@swf.sk.ca
SUMMARY:Fox Point Advisory Committee Public Consultation
DESCRIPTION:Join the Fox Point Advisory Committee for a Public Consultation Meeting\, to discuss the area known as Fox Point along Last Mountain Lake.
URL:https://swf.sk.ca/event/fox-point-advisory-committee-public-consultation/
LOCATION:Bulyea Community Hall\, 204 Ashley St\, Bulyea\, Saskatchewan\, S0G 0L0\, Canada
ORGANIZER;CN="Steve Mazurak":MAILTO:Mayorpelicanpointe@sasktel.net
END:VEVENT
BEGIN:VEVENT
DTSTART;VALUE=DATE:20220507
DTEND;VALUE=DATE:20220508
DTSTAMP:20260421T094826
CREATED:20220414T192109Z
LAST-MODIFIED:20220418T145742Z
UID:15623-1651881600-1651967999@swf.sk.ca
SUMMARY:St. Walburg WF Annual Awards Ceremony & Banquet
DESCRIPTION:See attached poster \n  \nBanquet Poster 2022 \n  \nTickets Available to the Door
URL:https://swf.sk.ca/event/st-walburg-wf-annual-awards-ceremony-banquet/
LOCATION:Elk’s Hall\, Main Street\, Asquith\, Saskatchewan\, S0K 0J0\, Canada
END:VEVENT
BEGIN:VEVENT
DTSTART;VALUE=DATE:20220430
DTEND;VALUE=DATE:20220501
DTSTAMP:20260421T094826
CREATED:20220325T151119Z
LAST-MODIFIED:20220325T154107Z
UID:15506-1651276800-1651363199@swf.sk.ca
SUMMARY:2021 Provincial Angling & HK Big Game Awards Banquet
DESCRIPTION:2021 PROVINCIAL ANGLING & HENRY KELSEY BIG GAME AWARDS BANQUET\nat the Horizon Credit Union Centre\, Melville\, SK\nReception 6:00 –  Banquet 7:00 \nTICKETS\n5 & Under: Free\n6 – 12: $20\n13 years + : $40 \nTickets Available from Ken Somogyi at 306-730-6671 or SWF Central Office at 306-692-8812 \nHOST HOTEL INFORMATION\nSigma Inn & Suites\n210 Service Road\, Melville\, SK\n$130.99/night\nGroup Code: Melville Fish & Game \nHoward Johnson Inn by Wyndham Melville\n21 Mall Road\, Along SK-10\, Melville\, SK\n$120.99/night\nReservation Name: Sask Wildlife Federation \nTo download the Award Banquet Poster\, click here 
URL:https://swf.sk.ca/event/2021provincial-angling-hk-big-game-awards-banquet/
LOCATION:Horizon Credit Union Centre\, 575 2nd Ave W\, Melville\, Saskatchewan\, S0A 2P0\, Canada
END:VEVENT
BEGIN:VEVENT
DTSTART;TZID=America/Regina:20220424T130000
DTEND;TZID=America/Regina:20220424T130000
DTSTAMP:20260421T094826
CREATED:20220228T160332Z
LAST-MODIFIED:20220228T180112Z
UID:15282-1650805200-1650805200@swf.sk.ca
SUMMARY:Save-A-Goose Trap Shoot
DESCRIPTION:
URL:https://swf.sk.ca/event/saveagoose-trap-shoot/
LOCATION:Candiac\, Candiac\, Saskatchewan\, Canada
END:VEVENT
BEGIN:VEVENT
DTSTART;TZID=America/Regina:20220423T173000
DTEND;TZID=America/Regina:20220423T230000
DTSTAMP:20260421T094826
CREATED:20220224T200419Z
LAST-MODIFIED:20220224T200419Z
UID:15260-1650735000-1650754800@swf.sk.ca
SUMMARY:Rocanville & District WF Supper & Fundraiser
DESCRIPTION:Supper with Raffles and Auction
URL:https://swf.sk.ca/event/rocanville-district-wf-supper-fundraiser/
LOCATION:Rocanville Hall\, 808 France's St\, Rocanville\, Saskatchewan\, S0A 3L0\, Canada
END:VEVENT
BEGIN:VEVENT
DTSTART;VALUE=DATE:20220423
DTEND;VALUE=DATE:20220424
DTSTAMP:20260421T094826
CREATED:20220318T212952Z
LAST-MODIFIED:20220318T212952Z
UID:15399-1650672000-1650758399@swf.sk.ca
SUMMARY:Souris Moose Creek WF 30th Annual F/R
DESCRIPTION:
URL:https://swf.sk.ca/event/souris-moose-creek-wf-30th-annual-f-r/
LOCATION:Oxbox Prairie Horizon School\, 806 Tupper Street\, 806 Wylie Ave\, Oxbow\, Saskatchewan\, S0C 2B0\, Canada
END:VEVENT
BEGIN:VEVENT
DTSTART;VALUE=DATE:20220423
DTEND;VALUE=DATE:20220424
DTSTAMP:20260421T094826
CREATED:20220304T170215Z
LAST-MODIFIED:20220304T170215Z
UID:15311-1650672000-1650758399@swf.sk.ca
SUMMARY:Kerrobert Wildlife Federation Annual Banquet and Awards Night
DESCRIPTION:Tickets available at Kerrobert Hardware
URL:https://swf.sk.ca/event/kerrobert-wildlife-federation-annual-banquet-and-awards-night/
LOCATION:Praireland Community Center (PCC)\, 216 McPherson Street\, Kerrobert\, Saskatchewan\, S0L 1R0\, Canada
END:VEVENT
BEGIN:VEVENT
DTSTART;TZID=America/Regina:20220422T090000
DTEND;TZID=America/Regina:20220422T110000
DTSTAMP:20260421T094826
CREATED:20220419T210404Z
LAST-MODIFIED:20220419T210404Z
UID:15625-1650618000-1650625200@swf.sk.ca
SUMMARY:Fox Point Advisory Committee Meeting
DESCRIPTION:The Committee Meeting will take place via Phone Conference Line. \nTo Join Meeting:\nDial: 1-306-692-7772\nParticipant ID: 575182 \nClick here to access the Agenda.
URL:https://swf.sk.ca/event/fox-point-advisory-committee-meeting-2/
END:VEVENT
END:VCALENDAR