BEGIN:VCALENDAR
VERSION:2.0
PRODID:-//Saskatchewan Wildlife Federation - ECPv6.15.13.1//NONSGML v1.0//EN
CALSCALE:GREGORIAN
METHOD:PUBLISH
X-ORIGINAL-URL:https://swf.sk.ca
X-WR-CALDESC:Events for Saskatchewan Wildlife Federation
REFRESH-INTERVAL;VALUE=DURATION:PT1H
X-Robots-Tag:noindex
X-PUBLISHED-TTL:PT1H
BEGIN:VTIMEZONE
TZID:America/Regina
BEGIN:STANDARD
TZOFFSETFROM:-0600
TZOFFSETTO:-0600
TZNAME:CST
DTSTART:20230101T000000
END:STANDARD
END:VTIMEZONE
BEGIN:VEVENT
DTSTART;VALUE=DATE:20240106
DTEND;VALUE=DATE:20240107
DTSTAMP:20260420T135641
CREATED:20231205T181539Z
LAST-MODIFIED:20231205T181539Z
UID:20002-1704499200-1704585599@swf.sk.ca
SUMMARY:Weyburn Wildlife Federation Nickle Lake Fish Derby
DESCRIPTION:
URL:https://swf.sk.ca/event/weyburn-wildlife-federation-nickle-lake-fish-derby/
END:VEVENT
BEGIN:VEVENT
DTSTART;TZID=America/Regina:20240106T100000
DTEND;TZID=America/Regina:20240106T140000
DTSTAMP:20260420T135641
CREATED:20231214T164910Z
LAST-MODIFIED:20231214T164920Z
UID:20074-1704535200-1704549600@swf.sk.ca
SUMMARY:2nd Annual Naiverdale Ice Fishing Derby
DESCRIPTION:at Kipabiskau Regional Park \nEvent Contacts: \nTristan mills-+1 (306) 830-9993Scott Hedin-+1 (306) 383-7059 \nNaiverdalewildlife@outlook.com 
URL:https://swf.sk.ca/event/2nd-annual-naiverdale-ice-fishing-derby/
END:VEVENT
END:VCALENDAR