BEGIN:VCALENDAR
VERSION:2.0
PRODID:-//Saskatchewan Wildlife Federation - ECPv6.15.13.1//NONSGML v1.0//EN
CALSCALE:GREGORIAN
METHOD:PUBLISH
X-WR-CALNAME:Saskatchewan Wildlife Federation
X-ORIGINAL-URL:https://swf.sk.ca
X-WR-CALDESC:Events for Saskatchewan Wildlife Federation
REFRESH-INTERVAL;VALUE=DURATION:PT1H
X-Robots-Tag:noindex
X-PUBLISHED-TTL:PT1H
BEGIN:VTIMEZONE
TZID:America/Regina
BEGIN:STANDARD
TZOFFSETFROM:-0600
TZOFFSETTO:-0600
TZNAME:CST
DTSTART:20220101T000000
END:STANDARD
END:VTIMEZONE
BEGIN:VEVENT
DTSTART;TZID=America/Regina:20231206T180000
DTEND;TZID=America/Regina:20231206T220000
DTSTAMP:20260420T082706
CREATED:20231108T215702Z
LAST-MODIFIED:20231108T215702Z
UID:19899-1701885600-1701900000@swf.sk.ca
SUMMARY:Valley Trails Big Game Scoring Night
DESCRIPTION:Big Game Scoring Night open to members and non-members at Osler Community Hall 1st Street\, Osler\, SK. \nScoring free to members\, $20 scoring fee for non-members\, waived with purchase of 2024 membership. \nSubmit your game fish entries as well! \nMembers are eligible to win awards in fish & game categories that are awarded at the Annual Awards Fundraiser in April.2024 Memberships available. \nCoffee & donuts
URL:https://swf.sk.ca/event/valley-trails-big-game-scoring-night/
END:VEVENT
BEGIN:VEVENT
DTSTART;VALUE=DATE:20231208
DTEND;VALUE=DATE:20231209
DTSTAMP:20260420T082706
CREATED:20231128T155036Z
LAST-MODIFIED:20231128T155036Z
UID:19971-1701993600-1702079999@swf.sk.ca
SUMMARY:Kamsack Wildlife Federation Annual Horn Measuring Night
DESCRIPTION:
URL:https://swf.sk.ca/event/kamsack-wildlife-federation-annual-horn-measuring-night/
END:VEVENT
BEGIN:VEVENT
DTSTART;TZID=America/Regina:20231208T170000
DTEND;TZID=America/Regina:20231208T200000
DTSTAMP:20260420T082706
CREATED:20231030T162305Z
LAST-MODIFIED:20231030T162305Z
UID:19850-1702054800-1702065600@swf.sk.ca
SUMMARY:Melville Fish and Game Antler Scoring Night
DESCRIPTION:2024 SWF Memberships can be purchased. Entries for fish\, bird\, and photo entries will be accepted. \nAt the Melville Community Works – 800 Prince Edward Street\, Melville\, SK \nContact Ken Somogyi for more details: 306-730-6671 or somogyi@sasktel.net
URL:https://swf.sk.ca/event/melville-fish-and-game-antler-scoring-night/
END:VEVENT
BEGIN:VEVENT
DTSTART;VALUE=DATE:20231209
DTEND;VALUE=DATE:20231210
DTSTAMP:20260420T082706
CREATED:20231013T144506Z
LAST-MODIFIED:20231013T144506Z
UID:19796-1702080000-1702166399@swf.sk.ca
SUMMARY:Weyburn Wildlife Federation Buck Score Night
DESCRIPTION:
URL:https://swf.sk.ca/event/weyburn-wildlife-federation-buck-score-night/
END:VEVENT
BEGIN:VEVENT
DTSTART;VALUE=DATE:20231209
DTEND;VALUE=DATE:20231210
DTSTAMP:20260420T082706
CREATED:20231204T173513Z
LAST-MODIFIED:20231204T173513Z
UID:20001-1702080000-1702166399@swf.sk.ca
SUMMARY:Humboldt Wildlife Federation Antler Measuring
DESCRIPTION:
URL:https://swf.sk.ca/event/humboldt-wildlife-federation-antler-measuring/
END:VEVENT
BEGIN:VEVENT
DTSTART;VALUE=DATE:20231211
DTEND;VALUE=DATE:20231212
DTSTAMP:20260420T082706
CREATED:20221215T220610Z
LAST-MODIFIED:20221215T220610Z
UID:17203-1702252800-1702339199@swf.sk.ca
SUMMARY:Save-A-Goose Wildlife Federation Annual Supper Meeting
DESCRIPTION:
URL:https://swf.sk.ca/event/save-a-goose-wildlife-federation-annual-supper-meeting/
END:VEVENT
BEGIN:VEVENT
DTSTART;VALUE=DATE:20231213
DTEND;VALUE=DATE:20231214
DTSTAMP:20260420T082706
CREATED:20230103T220552Z
LAST-MODIFIED:20230104T191952Z
UID:17345-1702425600-1702511999@swf.sk.ca
SUMMARY:Moose Jaw Wildlife Federation Horn & Antler Scoring
DESCRIPTION:@ the MJWF Hall
URL:https://swf.sk.ca/event/moose-jaw-wildlife-federation-horn-antler-scoring/
END:VEVENT
END:VCALENDAR