BEGIN:VCALENDAR
VERSION:2.0
PRODID:-//Saskatchewan Wildlife Federation - ECPv6.15.13.1//NONSGML v1.0//EN
CALSCALE:GREGORIAN
METHOD:PUBLISH
X-ORIGINAL-URL:https://swf.sk.ca
X-WR-CALDESC:Events for Saskatchewan Wildlife Federation
REFRESH-INTERVAL;VALUE=DURATION:PT1H
X-Robots-Tag:noindex
X-PUBLISHED-TTL:PT1H
BEGIN:VTIMEZONE
TZID:America/Regina
BEGIN:STANDARD
TZOFFSETFROM:-0600
TZOFFSETTO:-0600
TZNAME:CST
DTSTART:20220101T000000
END:STANDARD
END:VTIMEZONE
BEGIN:VEVENT
DTSTART;VALUE=DATE:20231113
DTEND;VALUE=DATE:20231114
DTSTAMP:20260420T070830
CREATED:20221215T220540Z
LAST-MODIFIED:20221215T220540Z
UID:17202-1699833600-1699919999@swf.sk.ca
SUMMARY:Save-A-Goose Wildlife Federation Branch Meeting
DESCRIPTION:
URL:https://swf.sk.ca/event/save-a-goose-wildlife-federation-branch-meeting-7/
END:VEVENT
BEGIN:VEVENT
DTSTART;VALUE=DATE:20231115
DTEND;VALUE=DATE:20231116
DTSTAMP:20260420T070830
CREATED:20231102T191011Z
LAST-MODIFIED:20231102T191011Z
UID:19856-1700006400-1700092799@swf.sk.ca
SUMMARY:CAMO DAY - Saskatchewan Hunting\, Trapping and Angling Heritage Day
DESCRIPTION:Nov 15\, Saskatchewan Hunting\, Trapping and Angling celebrates the contributions of hunters\, anglers\, and trappers around the province.
URL:https://swf.sk.ca/event/camo-day-saskatchewan-hunting-trapping-and-angling-heritage-day/
END:VEVENT
END:VCALENDAR