BEGIN:VCALENDAR
VERSION:2.0
PRODID:-//Saskatchewan Wildlife Federation - ECPv6.15.13.1//NONSGML v1.0//EN
CALSCALE:GREGORIAN
METHOD:PUBLISH
X-ORIGINAL-URL:https://swf.sk.ca
X-WR-CALDESC:Events for Saskatchewan Wildlife Federation
REFRESH-INTERVAL;VALUE=DURATION:PT1H
X-Robots-Tag:noindex
X-PUBLISHED-TTL:PT1H
BEGIN:VTIMEZONE
TZID:America/Regina
BEGIN:STANDARD
TZOFFSETFROM:-0600
TZOFFSETTO:-0600
TZNAME:CST
DTSTART:20220101T000000
END:STANDARD
END:VTIMEZONE
BEGIN:VEVENT
DTSTART;TZID=America/Regina:20231001T100000
DTEND;TZID=America/Regina:20231001T170000
DTSTAMP:20260420T054008
CREATED:20230920T214844Z
LAST-MODIFIED:20230920T214844Z
UID:19623-1696154400-1696179600@swf.sk.ca
SUMMARY:Region 6 Fall Regional Meeting
DESCRIPTION:At the Moose Jaw Wildlife Federation Clubhouse
URL:https://swf.sk.ca/event/region-6-fall-regional-meeting-3/
END:VEVENT
BEGIN:VEVENT
DTSTART;VALUE=DATE:20231002
DTEND;VALUE=DATE:20231003
DTSTAMP:20260420T054008
CREATED:20221215T220519Z
LAST-MODIFIED:20221215T220519Z
UID:17201-1696204800-1696291199@swf.sk.ca
SUMMARY:Save-A-Goose Wildlife Federation Branch Meeting
DESCRIPTION:
URL:https://swf.sk.ca/event/save-a-goose-wildlife-federation-branch-meeting-6/
END:VEVENT
BEGIN:VEVENT
DTSTART;TZID=America/Regina:20231020T160000
DTEND;TZID=America/Regina:20231022T140000
DTSTAMP:20260420T054008
CREATED:20230705T150416Z
LAST-MODIFIED:20230705T150416Z
UID:19085-1697817600-1697983200@swf.sk.ca
SUMMARY:2nd Annual Advancing Women in Conservation (AWIC) Summit
DESCRIPTION:VENUE: Fredericton Inn\, 1315 Regent Street\, Fredericton\, New Brunswick\nREGISTRATION FEE: $225.00 – price includes meals\, and access to all presenters and activities\nTo purchase your registration\, visit https://saskatchewan-wildlife-federation.myshopify.com/products/advancing-women-in-conservation-single-registration-1?_pos=1&_sid=2c0bb01de&_ss=r \nA TENTATIVE AGENDA WILL BE AVAILABLE IN THE SUMMER OF 2023! \nKEYNOTE SPEAKER: JULIE ANGUS
URL:https://swf.sk.ca/event/2nd-annual-advancing-women-in-conservation-awic-summit/
LOCATION:Fredericton inn\, 1315 Regent Street\, Fredericton\, New Brunswick\, Canada
END:VEVENT
BEGIN:VEVENT
DTSTART;TZID=America/Regina:20231021T100000
DTEND;TZID=America/Regina:20231021T170000
DTSTAMP:20260420T054008
CREATED:20230920T214705Z
LAST-MODIFIED:20231013T143318Z
UID:19620-1697882400-1697907600@swf.sk.ca
SUMMARY:Region 3 Fall Regional Meeting
DESCRIPTION:At Otthon School\, Otthon\, SK
URL:https://swf.sk.ca/event/region-3-fall-regional-meeting-3/
END:VEVENT
BEGIN:VEVENT
DTSTART;TZID=America/Regina:20231022T100000
DTEND;TZID=America/Regina:20231022T170000
DTSTAMP:20260420T054008
CREATED:20230920T214627Z
LAST-MODIFIED:20230920T214627Z
UID:19619-1697968800-1697994000@swf.sk.ca
SUMMARY:Region 2 Fall Regional Meeting
DESCRIPTION:At the Mayfair Hall
URL:https://swf.sk.ca/event/region-2-fall-regional-meeting-4/
END:VEVENT
BEGIN:VEVENT
DTSTART;VALUE=DATE:20231028
DTEND;VALUE=DATE:20231029
DTSTAMP:20260420T054008
CREATED:20230411T143449Z
LAST-MODIFIED:20230411T143449Z
UID:18266-1698451200-1698537599@swf.sk.ca
SUMMARY:Indian Head & District Wildlife Federation Fundraising Dinner and Auction
DESCRIPTION:
URL:https://swf.sk.ca/event/indian-head-district-wildlife-federation-fundraising-dinner-and-auction/
END:VEVENT
BEGIN:VEVENT
DTSTART;TZID=America/Regina:20231028T100000
DTEND;TZID=America/Regina:20231028T170000
DTSTAMP:20260420T054008
CREATED:20230920T214814Z
LAST-MODIFIED:20230920T214814Z
UID:19622-1698487200-1698512400@swf.sk.ca
SUMMARY:Region 5 Fall Regional Meeting
DESCRIPTION:Taking place at 114 Garfield Street in Davidson\, SK
URL:https://swf.sk.ca/event/region-5-fall-regional-meeting-4/
END:VEVENT
BEGIN:VEVENT
DTSTART;TZID=America/Regina:20231028T170000
DTEND;TZID=America/Regina:20231028T233000
DTSTAMP:20260420T054008
CREATED:20230822T150349Z
LAST-MODIFIED:20230822T150349Z
UID:19406-1698512400-1698535800@swf.sk.ca
SUMMARY:Indian Head & District Wildlife Federation Supper & Auction
DESCRIPTION:Saturday October 28th\, 2023 at the Indian Head Memorial Hall \n5:30 happy hour\, supper at 6:00 \nTickets $30.00 per person. \nCheck our Facebook Page for more details; Indian Head Wildlife; \nfor tickets contact Michael Miller @ 306-535-7447
URL:https://swf.sk.ca/event/indian-head-district-wildlife-federation-supper-auction/
END:VEVENT
BEGIN:VEVENT
DTSTART;TZID=America/Regina:20231029T100000
DTEND;TZID=America/Regina:20231029T170000
DTSTAMP:20260420T054008
CREATED:20230920T214737Z
LAST-MODIFIED:20230920T214737Z
UID:19621-1698573600-1698598800@swf.sk.ca
SUMMARY:Region 4 Fall Regional Meeting
DESCRIPTION:At the Regina Wildlife Federation Clubhouse in Pilot Butte
URL:https://swf.sk.ca/event/region-4-fall-regional-meeting-3/
END:VEVENT
END:VCALENDAR